From mboxrd@z Thu Jan  1 00:00:00 1970
Return-Path: <test-report-bounces@dpdk.org>
Received: from mails.dpdk.org (mails.dpdk.org [217.70.189.124])
	by inbox.dpdk.org (Postfix) with ESMTP id AD28045683
	for <public@inbox.dpdk.org>; Mon, 22 Jul 2024 18:12:17 +0200 (CEST)
Received: from mails.dpdk.org (localhost [127.0.0.1])
	by mails.dpdk.org (Postfix) with ESMTP id A5DAA40A72;
	Mon, 22 Jul 2024 18:12:17 +0200 (CEST)
Received: from mail-qt1-f227.google.com (mail-qt1-f227.google.com
 [209.85.160.227])
 by mails.dpdk.org (Postfix) with ESMTP id 68C4240B90
 for <test-report@dpdk.org>; Mon, 22 Jul 2024 18:12:09 +0200 (CEST)
Received: by mail-qt1-f227.google.com with SMTP id
 d75a77b69052e-44926081beaso21855011cf.3
 for <test-report@dpdk.org>; Mon, 22 Jul 2024 09:12:09 -0700 (PDT)
DKIM-Signature: v=1; a=rsa-sha256; c=relaxed/relaxed;
 d=iol.unh.edu; s=unh-iol; t=1721664729; x=1722269529; darn=dpdk.org;
 h=references:in-reply-to:cc:to:from:subject:message-id:date:from:to
 :cc:subject:date:message-id:reply-to;
 bh=fPi3fxLfwYT9hwNWSn1GdT3c87ssSa3P0/2sSv8SD5k=;
 b=Gy8SUEt4BX9eaGbCJXsUR8gz7Jx5ANg5bIrw9jwr0ffUfy6uqx4zJN0aOChs3eP4Mk
 FtZDwR01QHS5PHlUNsAkrocT6ptYqI2GaK2OQpyvhV7XJYF1HchYpfg58L9WZwvny2G+
 HT5SH50HhCLggl0U485VmTYMFAflOB8Sqft9w=
X-Google-DKIM-Signature: v=1; a=rsa-sha256; c=relaxed/relaxed;
 d=1e100.net; s=20230601; t=1721664729; x=1722269529;
 h=references:in-reply-to:cc:to:from:subject:message-id:date
 :x-gm-message-state:from:to:cc:subject:date:message-id:reply-to;
 bh=fPi3fxLfwYT9hwNWSn1GdT3c87ssSa3P0/2sSv8SD5k=;
 b=J6imtTyczR3lyqwEfHu7zxTMSpkEAZcN/u1tFUKczLfY7amnzmAx3c/iApEzcl6slz
 P68zoMVOXTN14m7Sa95s+rgt/XERvINT2OTbw3dH3PyH+ClaTVWe9+7XR6nyjrg22iT/
 0teM+eDtFNtY3aZXhsMJ0nRucdkjX8ou9iH4WdPCbeV1wqK00u5knUuSYGCDYUtPupXp
 cZUi0COSU/FlADZeatJrOu0uKo1TQqyu97jaepaigtajSkQK7g4Zu5/Fcz8S8WCQgMgm
 zoHGLuNMtdLof5yA+qxwHVR1pKvFAxGcuijdmwAuRCBoZuYI8Dzqhv0f1afV73tFYuz6
 74JA==
X-Gm-Message-State: AOJu0Yygi1wt0dTBULEwWAU0Wnr1PBltsSFxoJq2bDLQTjOwi7c+EijA
 wiJ3YEXKZBtibtNweiLlUsZvs7hM+w1T9mQ3CACLbVXQTNRU9LOwvztPwB8kc8iNSB4nDItp8AB
 e0m9s7FNJKxGujX16kEYZXi8QKomOWOs1YG3xZYtj+Pl1EAK3fb/fsM7A
X-Google-Smtp-Source: AGHT+IFGkZ4OH1xZoUFSYjwBt1GaF9ctiCGqaE8mkajjtCuuohwttuqW4OR/UyHfdhiKLoHXNyHxfoGKeMqz
X-Received: by 2002:ac8:5f4e:0:b0:447:e996:e60d with SMTP id
 d75a77b69052e-44fc5514d8dmr3387271cf.19.1721664728756; 
 Mon, 22 Jul 2024 09:12:08 -0700 (PDT)
Received: from postal.iol.unh.edu (postal.iol.unh.edu.
 [2606:4100:3880:1234::84]) by smtp-relay.gmail.com with ESMTPS id
 d75a77b69052e-44f9cd9e2c9sm2700241cf.19.2024.07.22.09.12.08
 (version=TLS1_2 cipher=ECDHE-ECDSA-AES128-GCM-SHA256 bits=128/128);
 Mon, 22 Jul 2024 09:12:08 -0700 (PDT)
X-Relaying-Domain: iol.unh.edu
Date: Mon, 22 Jul 2024 09:12:08 -0700 (PDT)
Message-ID: <669e84d8.050a0220.3a043.e291SMTPIN_ADDED_MISSING@mx.google.com>
Received: from [172.21.0.8] (unknown [172.18.0.240])
 by postal.iol.unh.edu (Postfix) with ESMTP id 736F8605C351;
 Mon, 22 Jul 2024 12:12:08 -0400 (EDT)
Subject: |PENDING| pw142613-142615 [PATCH] [v5,3/3] net/ice: fix return value
From: dpdklab@iol.unh.edu
To: Test Report <test-report@dpdk.org>
Cc: dpdk-test-reports@iol.unh.edu
In-Reply-To: <20240722135046.285868-3-vladimir.medvedkin@intel.com>
References: <20240722135046.285868-3-vladimir.medvedkin@intel.com>
Content-Type: text/plain
X-BeenThere: test-report@dpdk.org
X-Mailman-Version: 2.1.29
Precedence: list
List-Id: automatic DPDK test reports <test-report.dpdk.org>
List-Unsubscribe: <https://mails.dpdk.org/options/test-report>,
 <mailto:test-report-request@dpdk.org?subject=unsubscribe>
List-Archive: <http://mails.dpdk.org/archives/test-report/>
List-Post: <mailto:test-report@dpdk.org>
List-Help: <mailto:test-report-request@dpdk.org?subject=help>
List-Subscribe: <https://mails.dpdk.org/listinfo/test-report>,
 <mailto:test-report-request@dpdk.org?subject=subscribe>
Errors-To: test-report-bounces@dpdk.org

Test-Label: iol-unit-amd64-testing
Test-Status: PENDING
http://dpdk.org/patch/142615

_Testing pending_

Submitter: Medvedkin, Vladimir <vladimir.medvedkin@intel.com>
Date: Monday, July 22 2024 13:50:46 
DPDK git baseline: Repo:dpdk
  Branch: master
  CommitID:980318a7303d985069581c90961efe00cc757dcd

142613-142615 --> testing pending

Upstream job id: Generic-Unit-Test-DPDK#242774

Test environment and result as below:

+---------------------+----------------+
|     Environment     | dpdk_unit_test |
+=====================+================+
| Windows Server 2019 | PASS           |
+---------------------+----------------+
| Windows Server 2022 | PASS           |
+---------------------+----------------+
| CentOS Stream 8     | PASS           |
+---------------------+----------------+
| CentOS Stream 9     | PASS           |
+---------------------+----------------+
| Debian Bullseye     | PASS           |
+---------------------+----------------+
| Debian 12           | PASS           |
+---------------------+----------------+
| Fedora 37           | PASS           |
+---------------------+----------------+
| Fedora 38           | PASS           |
+---------------------+----------------+
| Fedora 39           | PASS           |
+---------------------+----------------+
| Fedora 38 (Clang)   | PASS           |
+---------------------+----------------+
| Fedora 40           | PASS           |
+---------------------+----------------+
| Fedora 39 (Clang)   | PASS           |
+---------------------+----------------+
| Fedora 40 (Clang)   | PASS           |
+---------------------+----------------+
| openSUSE Leap 15    | PASS           |
+---------------------+----------------+
| RHEL8               | PASS           |
+---------------------+----------------+
| RHEL9               | PASS           |
+---------------------+----------------+
| Ubuntu 20.04        | PEND           |
+---------------------+----------------+
| Ubuntu 22.04        | PEND           |
+---------------------+----------------+
| Ubuntu 24.04        | PEND           |
+---------------------+----------------+


Windows Server 2019
	Kernel: 10.0.17763
	Compiler: clang 14.0 and gcc 8.1.0 (MinGW)

Windows Server 2022
	Kernel: 10.0.20348.2031
	Compiler: clang 15.0.7, gcc 8.1.0 (MinGW), and MSVC VS 17.9

CentOS Stream 8
	Kernel: 5.4.0-167-generic
	Compiler: gcc 8.5.0 20210514

CentOS Stream 9
	Kernel: 5.4.0-167-generic
	Compiler: gcc 11.4.1 20230605

Debian Bullseye
	Kernel: 5.4.0-167-generic
	Compiler: gcc 10.2.1-6

Debian 12
	Kernel: Container Host Kernel
	Compiler: gcc 12.2.0

Fedora 37
	Kernel: Depends on container host system
	Compiler: gcc 12.3.1

Fedora 38
	Kernel: Depends on container host
	Compiler: gcc 13.2.1

Fedora 39
	Kernel: Depends on container host
	Compiler: gcc 13.2.1

Fedora 38 (Clang)
	Kernel: Depends on container host
	Compiler: clang 16.0.6

Fedora 40
	Kernel: Depends on container host
	Compiler: gcc 14.1.1

Fedora 39 (Clang)
	Kernel: Depends on container host
	Compiler: clang 17.0.6

Fedora 40 (Clang)
	Kernel: Depends on container host
	Compiler: clang 18.1.6

openSUSE Leap 15
	Kernel: 5.4.0-167-generic
	Compiler: gcc 7.5.0

RHEL8
	Kernel: 5.4.0-167-generic
	Compiler: gcc 8.5.0 20210514 (Red Hat 8.5.0-20)

RHEL9
	Kernel: Depends on container host
	Compiler: gcc 11.4.1

Ubuntu 20.04
	Kernel: 5.4.0-167-generic
	Compiler: gcc 9.4.0-1ubuntu1~20.04.1

Ubuntu 22.04
	Kernel: 5.4.0-167-generic
	Compiler: gcc 11.4.0

Ubuntu 24.04
	Kernel: 5.4.0-167-generic
	Compiler: gcc 13.2.0

To view detailed results, visit:
https://lab.dpdk.org/results/dashboard/patchsets/30577/

UNH-IOL DPDK Community Lab

To manage your email subscriptions, visit: 
https://lab.dpdk.org/results/dashboard/preferences/subscriptions/