From mboxrd@z Thu Jan  1 00:00:00 1970
Return-Path: <test-report-bounces@dpdk.org>
Received: from mails.dpdk.org (mails.dpdk.org [217.70.189.124])
	by inbox.dpdk.org (Postfix) with ESMTP id 1067445683
	for <public@inbox.dpdk.org>; Mon, 22 Jul 2024 18:37:42 +0200 (CEST)
Received: from mails.dpdk.org (localhost [127.0.0.1])
	by mails.dpdk.org (Postfix) with ESMTP id 0C3B74069D;
	Mon, 22 Jul 2024 18:37:42 +0200 (CEST)
Received: from mail-il1-f226.google.com (mail-il1-f226.google.com
 [209.85.166.226])
 by mails.dpdk.org (Postfix) with ESMTP id 614CB40431
 for <test-report@dpdk.org>; Mon, 22 Jul 2024 18:37:41 +0200 (CEST)
Received: by mail-il1-f226.google.com with SMTP id
 e9e14a558f8ab-39949ebafc2so5191835ab.1
 for <test-report@dpdk.org>; Mon, 22 Jul 2024 09:37:41 -0700 (PDT)
DKIM-Signature: v=1; a=rsa-sha256; c=relaxed/relaxed;
 d=iol.unh.edu; s=unh-iol; t=1721666260; x=1722271060; darn=dpdk.org;
 h=references:in-reply-to:cc:to:from:subject:message-id:date:from:to
 :cc:subject:date:message-id:reply-to;
 bh=RaEdPOn7e5nvn5YSeg9ag6517BXVr9/o/Cw7XupCONU=;
 b=h/LC0E2Uzx6FCMYyib5WVZxCcqvZRegdWc2Ja/g7rqN69LDvB4F4jkyhGoUcgWYTxz
 29aD+SGSnZ/2+4t0LE0u/AiSYU3MAY/xbpWzC0eV0afqsq5jkkP8BF/7TIqU2QbNhrGO
 moZbqXhFh7eaPW7j/DY4fbU6qCXE0o6Sepmc4=
X-Google-DKIM-Signature: v=1; a=rsa-sha256; c=relaxed/relaxed;
 d=1e100.net; s=20230601; t=1721666260; x=1722271060;
 h=references:in-reply-to:cc:to:from:subject:message-id:date
 :x-gm-message-state:from:to:cc:subject:date:message-id:reply-to;
 bh=RaEdPOn7e5nvn5YSeg9ag6517BXVr9/o/Cw7XupCONU=;
 b=Z5b7GgH9DgDCqSnR/FfZqjFkO6cR1z1aj9GPyhuhBU+tlkv1BQ1Xcy3rrrBrkNEdny
 kuI7K8hqAhb39tmY9XB2VQHp8/5+l13zo9y9p6nVzfgiA5w/G2QosIk+tHD96PENb4eg
 vmzMfyVBDD+/pRqivR9sRBcPtprag2/F/+xpug2Fnle3GQN+ZpFTjcacOw/zMLtGAYY0
 qjRXq9FDC+dm+UtdOF7gHUS7tiKHX4641X6rBZg6ASTt4ZcL8orcGSbgLiAuzfjlmpgU
 u0hGy6kimlVNhdB3KTk2lkPTx6TMQrrm8QSBGUS5hnmWgHDCn8XEu8/kK8mBMcKgb6cF
 z8aA==
X-Gm-Message-State: AOJu0YxCkv8lzm7uywE+c9DVf3THF/JDsZOYlQBzTGKioBIcgYYANmAB
 qFUXLvqNfmujnstbI5Zg2LTzyF3oyfI5s0a/l4BCga6FzURftnbZjuiYkxxGKlYf3RgY7ZXNKHb
 5SgPqYin1d9xlTq94EcQpflbKQ8vK1pAVlGo9ao54
X-Google-Smtp-Source: AGHT+IESuOMCPVOXDcOzqJrGmfqj24fZ3jdlQQ3b9jbaz4Gr5pfC1FnuuRxosMysDOYtMr3pVaBmTsKcE1fB
X-Received: by 2002:a05:6e02:1b02:b0:374:a667:fc06 with SMTP id
 e9e14a558f8ab-398e4bcde55mr121670085ab.8.1721666260709; 
 Mon, 22 Jul 2024 09:37:40 -0700 (PDT)
Received: from postal.iol.unh.edu (postal.iol.unh.edu. [132.177.123.84])
 by smtp-relay.gmail.com with ESMTPS id
 e9e14a558f8ab-397f54712b9sm3322555ab.18.2024.07.22.09.37.40
 (version=TLS1_2 cipher=ECDHE-ECDSA-AES128-GCM-SHA256 bits=128/128);
 Mon, 22 Jul 2024 09:37:40 -0700 (PDT)
X-Relaying-Domain: iol.unh.edu
Date: Mon, 22 Jul 2024 09:37:40 -0700 (PDT)
Message-ID: <669e8ad4.050a0220.f23b1.1cc1SMTPIN_ADDED_MISSING@mx.google.com>
Received: from [172.21.0.8] (unknown [172.18.0.240])
 by postal.iol.unh.edu (Postfix) with ESMTP id 4F15B605C351;
 Mon, 22 Jul 2024 12:37:40 -0400 (EDT)
Subject: |PENDING| pw142613-142615 [PATCH] [v5,3/3] net/ice: fix return value
From: dpdklab@iol.unh.edu
To: Test Report <test-report@dpdk.org>
Cc: dpdk-test-reports@iol.unh.edu
In-Reply-To: <20240722135046.285868-3-vladimir.medvedkin@intel.com>
References: <20240722135046.285868-3-vladimir.medvedkin@intel.com>
Content-Type: text/plain
X-BeenThere: test-report@dpdk.org
X-Mailman-Version: 2.1.29
Precedence: list
List-Id: automatic DPDK test reports <test-report.dpdk.org>
List-Unsubscribe: <https://mails.dpdk.org/options/test-report>,
 <mailto:test-report-request@dpdk.org?subject=unsubscribe>
List-Archive: <http://mails.dpdk.org/archives/test-report/>
List-Post: <mailto:test-report@dpdk.org>
List-Help: <mailto:test-report-request@dpdk.org?subject=help>
List-Subscribe: <https://mails.dpdk.org/listinfo/test-report>,
 <mailto:test-report-request@dpdk.org?subject=subscribe>
Errors-To: test-report-bounces@dpdk.org

Test-Label: iol-compile-amd64-testing
Test-Status: PENDING
http://dpdk.org/patch/142615

_Testing pending_

Submitter: Medvedkin, Vladimir <vladimir.medvedkin@intel.com>
Date: Monday, July 22 2024 13:50:46 
DPDK git baseline: Repo:dpdk
  Branch: master
  CommitID:980318a7303d985069581c90961efe00cc757dcd

142613-142615 --> testing pending

Upstream job id: Generic-DPDK-Compile-Meson#277643

Test environment and result as below:

+---------------------+--------------------+----------------------+-------------------+------------------+-------------------+
|     Environment     | dpdk_meson_compile | dpdk_mingw64_compile | dpdk_msvc_compile | dpdk_compile_ovs | dpdk_compile_spdk |
+=====================+====================+======================+===================+==================+===================+
| Windows Server 2019 | PASS               | PASS                 | SKIPPED           | SKIPPED          | SKIPPED           |
+---------------------+--------------------+----------------------+-------------------+------------------+-------------------+
| Windows Server 2022 | PASS               | PASS                 | PASS              | SKIPPED          | SKIPPED           |
+---------------------+--------------------+----------------------+-------------------+------------------+-------------------+
| FreeBSD 13.3        | PASS               | SKIPPED              | SKIPPED           | SKIPPED          | SKIPPED           |
+---------------------+--------------------+----------------------+-------------------+------------------+-------------------+
| FreeBSD 14.1        | PASS               | SKIPPED              | SKIPPED           | SKIPPED          | SKIPPED           |
+---------------------+--------------------+----------------------+-------------------+------------------+-------------------+
| CentOS Stream 8     | PASS               | SKIPPED              | SKIPPED           | PASS             | PASS              |
+---------------------+--------------------+----------------------+-------------------+------------------+-------------------+
| CentOS Stream 9     | PASS               | SKIPPED              | SKIPPED           | PASS             | PASS              |
+---------------------+--------------------+----------------------+-------------------+------------------+-------------------+
| Debian Bullseye     | PASS               | SKIPPED              | SKIPPED           | PASS             | PASS              |
+---------------------+--------------------+----------------------+-------------------+------------------+-------------------+
| Debian 12           | PASS               | SKIPPED              | SKIPPED           | PASS             | PASS              |
+---------------------+--------------------+----------------------+-------------------+------------------+-------------------+
| Fedora 37           | PASS               | SKIPPED              | SKIPPED           | PASS             | PASS              |
+---------------------+--------------------+----------------------+-------------------+------------------+-------------------+
| Fedora 38 (Clang)   | PASS               | SKIPPED              | SKIPPED           | PASS             | PASS              |
+---------------------+--------------------+----------------------+-------------------+------------------+-------------------+
| Fedora 38           | PASS               | SKIPPED              | SKIPPED           | PASS             | PASS              |
+---------------------+--------------------+----------------------+-------------------+------------------+-------------------+
| Fedora 39 (Clang)   | PEND               | SKIPPED              | SKIPPED           | PEND             | PEND              |
+---------------------+--------------------+----------------------+-------------------+------------------+-------------------+
| Fedora 39           | PASS               | SKIPPED              | SKIPPED           | PASS             | PASS              |
+---------------------+--------------------+----------------------+-------------------+------------------+-------------------+
| Fedora 40 (Clang)   | PEND               | SKIPPED              | SKIPPED           | PEND             | PEND              |
+---------------------+--------------------+----------------------+-------------------+------------------+-------------------+
| Fedora 40           | PASS               | SKIPPED              | SKIPPED           | PASS             | PASS              |
+---------------------+--------------------+----------------------+-------------------+------------------+-------------------+
| openSUSE Leap 15    | PASS               | SKIPPED              | SKIPPED           | PASS             | SKIPPED           |
+---------------------+--------------------+----------------------+-------------------+------------------+-------------------+
| RHEL8               | PASS               | SKIPPED              | SKIPPED           | PASS             | SKIPPED           |
+---------------------+--------------------+----------------------+-------------------+------------------+-------------------+
| RHEL9               | PASS               | SKIPPED              | SKIPPED           | PASS             | SKIPPED           |
+---------------------+--------------------+----------------------+-------------------+------------------+-------------------+
| Ubuntu 20.04        | PASS               | SKIPPED              | SKIPPED           | PASS             | SKIPPED           |
+---------------------+--------------------+----------------------+-------------------+------------------+-------------------+
| Ubuntu 22.04        | PASS               | SKIPPED              | SKIPPED           | PASS             | PASS              |
+---------------------+--------------------+----------------------+-------------------+------------------+-------------------+
| Ubuntu 24.04        | PASS               | SKIPPED              | SKIPPED           | PASS             | PASS              |
+---------------------+--------------------+----------------------+-------------------+------------------+-------------------+
| Alpine              | PEND               | SKIPPED              | SKIPPED           | PEND             | SKIPPED           |
+---------------------+--------------------+----------------------+-------------------+------------------+-------------------+


Windows Server 2019
	Kernel: 10.0.17763
	Compiler: clang 14.0 and gcc 8.1.0 (MinGW)

Windows Server 2022
	Kernel: 10.0.20348.2031
	Compiler: clang 15.0.7, gcc 8.1.0 (MinGW), and MSVC VS 17.9

FreeBSD 13.3
	Kernel: 13.3-RELEASE-p1
	Compiler: clang 17.0.6

FreeBSD 14.1
	Kernel: 14.1
	Compiler: clang 18.1.5

CentOS Stream 8
	Kernel: 5.4.0-167-generic
	Compiler: gcc 8.5.0 20210514

CentOS Stream 9
	Kernel: 5.4.0-167-generic
	Compiler: gcc 11.4.1 20230605

Debian Bullseye
	Kernel: 5.4.0-167-generic
	Compiler: gcc 10.2.1-6

Debian 12
	Kernel: Container Host Kernel
	Compiler: gcc 12.2.0

Fedora 37
	Kernel: Depends on container host system
	Compiler: gcc 12.3.1

Fedora 38 (Clang)
	Kernel: Depends on container host
	Compiler: clang 16.0.6

Fedora 38
	Kernel: Depends on container host
	Compiler: gcc 13.2.1

Fedora 39 (Clang)
	Kernel: Depends on container host
	Compiler: clang 17.0.6

Fedora 39
	Kernel: Depends on container host
	Compiler: gcc 13.2.1

Fedora 40 (Clang)
	Kernel: Depends on container host
	Compiler: clang 18.1.6

Fedora 40
	Kernel: Depends on container host
	Compiler: gcc 14.1.1

openSUSE Leap 15
	Kernel: 5.4.0-167-generic
	Compiler: gcc 7.5.0

RHEL8
	Kernel: 5.4.0-167-generic
	Compiler: gcc 8.5.0 20210514 (Red Hat 8.5.0-20)

RHEL9
	Kernel: Depends on container host
	Compiler: gcc 11.4.1

Ubuntu 20.04
	Kernel: 5.4.0-167-generic
	Compiler: gcc 9.4.0-1ubuntu1~20.04.1

Ubuntu 22.04
	Kernel: 5.4.0-167-generic
	Compiler: gcc 11.4.0

Ubuntu 24.04
	Kernel: 5.4.0-167-generic
	Compiler: gcc 13.2.0

Alpine
	Kernel: 5.4.0-167-generic
	Compiler: gcc (Alpine 13.2.1_git20231014) 13.2.1 20231014

To view detailed results, visit:
https://lab.dpdk.org/results/dashboard/patchsets/30577/

UNH-IOL DPDK Community Lab

To manage your email subscriptions, visit: 
https://lab.dpdk.org/results/dashboard/preferences/subscriptions/