From mboxrd@z Thu Jan  1 00:00:00 1970
Return-Path: <test-report-bounces@dpdk.org>
Received: from mails.dpdk.org (mails.dpdk.org [217.70.189.124])
	by inbox.dpdk.org (Postfix) with ESMTP id EFD0545683
	for <public@inbox.dpdk.org>; Mon, 22 Jul 2024 19:19:55 +0200 (CEST)
Received: from mails.dpdk.org (localhost [127.0.0.1])
	by mails.dpdk.org (Postfix) with ESMTP id EC0C640DC9;
	Mon, 22 Jul 2024 19:19:55 +0200 (CEST)
Received: from mail-qt1-f227.google.com (mail-qt1-f227.google.com
 [209.85.160.227])
 by mails.dpdk.org (Postfix) with ESMTP id EC1F240DC9
 for <test-report@dpdk.org>; Mon, 22 Jul 2024 19:19:41 +0200 (CEST)
Received: by mail-qt1-f227.google.com with SMTP id
 d75a77b69052e-447e2d719afso30814331cf.0
 for <test-report@dpdk.org>; Mon, 22 Jul 2024 10:19:41 -0700 (PDT)
DKIM-Signature: v=1; a=rsa-sha256; c=relaxed/relaxed;
 d=iol.unh.edu; s=unh-iol; t=1721668781; x=1722273581; darn=dpdk.org;
 h=references:in-reply-to:cc:to:from:subject:message-id:date:from:to
 :cc:subject:date:message-id:reply-to;
 bh=LieUKfhb0snwwwfve5YKtC3B8mDjouuP1hOiDWwUUQk=;
 b=IxF7+8eGDJtUci6f9HgZG72JOeR104fAgf2ZzSWtT0rjgdaxeRsfPt76OQK8WiFXW9
 JqVur5CnJ9JADt4X8e5uI45sGNZbCJWcg80CF0jrvMyhUdWLdniPkbd7vDjY/ztBaQQW
 yOKq/+tcnjPbE5LhKd5nUs/gEfjtfwZALknnI=
X-Google-DKIM-Signature: v=1; a=rsa-sha256; c=relaxed/relaxed;
 d=1e100.net; s=20230601; t=1721668781; x=1722273581;
 h=references:in-reply-to:cc:to:from:subject:message-id:date
 :x-gm-message-state:from:to:cc:subject:date:message-id:reply-to;
 bh=LieUKfhb0snwwwfve5YKtC3B8mDjouuP1hOiDWwUUQk=;
 b=I8Rg4ATz7m6FuBp802kcQqbJhrLwAd+10cwVGCq57t8unIJp18M8BJFY8hgIoxDW1M
 HUE5/dhngZ2DaENqEhZOHXufDjkqBZ7ve2W4WXCRo6ZCRhMdXgFYkM0BpWJWGlrMV1xG
 kxYrqfEwtSKE5nKOXYIgSoD6CYfHLzimI27cjrO9M3pjtyv3EROHhEd6GiTsEfr1DzGT
 G+bRcTTmfcKpiXrF9GqRKMuhn7rnRs8R6DjFJM83BTL+UTJsSnsJ7UuHAjQj5utzBLdE
 ttVwtE0r7EC5b2VxSdDbgXVTMzjlmUG31hm2jQgZWKjKlAcKioQZqMD7CQii+J/6a2f2
 3lbg==
X-Gm-Message-State: AOJu0YzpRNNu1KLufbwwIg5glhSzkmAVe2gE4rEl1ZJzBZkciCtqbttR
 QoKRF9lv/8Bxla0UUbEuJaxR1Ok8XECWcaNZLYASqM9wPnn9kOA1AJfiUjukXm+Z1aw81yGxNFp
 gW19RZrhmqp/1H0EQww3MZMGCeqwbTUnGGeNf0ucX
X-Google-Smtp-Source: AGHT+IG0W3iCKlQWClHQB4+xyGNbiTcP3E2b150hOLou4nyy3Om6iDoBTyH4ThFym+I+o81WKOjfFUpdRc3b
X-Received: by 2002:a05:622a:1309:b0:446:3a8f:1907 with SMTP id
 d75a77b69052e-44fa57695d7mr162170671cf.7.1721668781223; 
 Mon, 22 Jul 2024 10:19:41 -0700 (PDT)
Received: from postal.iol.unh.edu (postal.iol.unh.edu. [132.177.123.84])
 by smtp-relay.gmail.com with ESMTPS id
 d75a77b69052e-44f9cd98652sm2667621cf.21.2024.07.22.10.19.41
 (version=TLS1_2 cipher=ECDHE-ECDSA-AES128-GCM-SHA256 bits=128/128);
 Mon, 22 Jul 2024 10:19:41 -0700 (PDT)
X-Relaying-Domain: iol.unh.edu
Date: Mon, 22 Jul 2024 10:19:41 -0700 (PDT)
Message-ID: <669e94ad.050a0220.6ca9f.e6f9SMTPIN_ADDED_MISSING@mx.google.com>
Received: from [172.21.0.9] (unknown [172.18.0.240])
 by postal.iol.unh.edu (Postfix) with ESMTP id E213B605C351;
 Mon, 22 Jul 2024 13:19:40 -0400 (EDT)
Subject: |PENDING| pw142610-142604 [PATCH] [v2,30/30] bus/dpaa: add port bmi 
From: dpdklab@iol.unh.edu
To: Test Report <test-report@dpdk.org>
Cc: dpdk-test-reports@iol.unh.edu
In-Reply-To: <20240722115843.1830105-31-g.singh@nxp.com>
References: <20240722115843.1830105-31-g.singh@nxp.com>
Content-Type: text/plain
X-BeenThere: test-report@dpdk.org
X-Mailman-Version: 2.1.29
Precedence: list
List-Id: automatic DPDK test reports <test-report.dpdk.org>
List-Unsubscribe: <https://mails.dpdk.org/options/test-report>,
 <mailto:test-report-request@dpdk.org?subject=unsubscribe>
List-Archive: <http://mails.dpdk.org/archives/test-report/>
List-Post: <mailto:test-report@dpdk.org>
List-Help: <mailto:test-report-request@dpdk.org?subject=help>
List-Subscribe: <https://mails.dpdk.org/listinfo/test-report>,
 <mailto:test-report-request@dpdk.org?subject=subscribe>
Errors-To: test-report-bounces@dpdk.org

Test-Label: iol-abi-testing
Test-Status: PENDING
http://dpdk.org/patch/142604

_Testing pending_

Submitter: Gagandeep Singh <g.singh@nxp.com>
Date: Monday, July 22 2024 11:58:43 
DPDK git baseline: Repo:dpdk
  Branch: master
  CommitID:fa8d2f7f28524a6c8defa3dcd94f5aa131aae084

142610-142604 --> testing pending

Upstream job id: Generic-DPDK-Compile-ABI#99739

Test environment and result as below:

+-------------------+----------+
|    Environment    | abi_test |
+===================+==========+
| CentOS Stream 8   | PASS     |
+-------------------+----------+
| CentOS Stream 9   | PASS     |
+-------------------+----------+
| Debian Bullseye   | PASS     |
+-------------------+----------+
| Debian 12         | PASS     |
+-------------------+----------+
| Fedora 38 (Clang) | PASS     |
+-------------------+----------+
| Fedora 38         | PASS     |
+-------------------+----------+
| Fedora 37         | PASS     |
+-------------------+----------+
| Fedora 39         | PASS     |
+-------------------+----------+
| Fedora 40 (Clang) | PASS     |
+-------------------+----------+
| Fedora 39 (Clang) | PASS     |
+-------------------+----------+
| RHEL8             | PASS     |
+-------------------+----------+
| openSUSE Leap 15  | PASS     |
+-------------------+----------+
| Fedora 40         | PEND     |
+-------------------+----------+
| Ubuntu 24.04      | PEND     |
+-------------------+----------+
| RHEL9             | PASS     |
+-------------------+----------+
| Ubuntu 22.04      | PASS     |
+-------------------+----------+


CentOS Stream 8
	Kernel: 5.4.0-167-generic
	Compiler: gcc 8.5.0 20210514

CentOS Stream 9
	Kernel: 5.4.0-167-generic
	Compiler: gcc 11.4.1 20230605

Debian Bullseye
	Kernel: 5.4.0-167-generic
	Compiler: gcc 10.2.1-6

Debian 12
	Kernel: Container Host Kernel
	Compiler: gcc 12.2.0

Fedora 38 (Clang)
	Kernel: Depends on container host
	Compiler: clang 16.0.6

Fedora 38
	Kernel: Depends on container host
	Compiler: gcc 13.2.1

Fedora 37
	Kernel: Depends on container host system
	Compiler: gcc 12.3.1

Fedora 39
	Kernel: Depends on container host
	Compiler: gcc 13.2.1

Fedora 40 (Clang)
	Kernel: Depends on container host
	Compiler: clang 18.1.6

Fedora 39 (Clang)
	Kernel: Depends on container host
	Compiler: clang 17.0.6

RHEL8
	Kernel: 5.4.0-167-generic
	Compiler: gcc 8.5.0 20210514 (Red Hat 8.5.0-20)

openSUSE Leap 15
	Kernel: 5.4.0-167-generic
	Compiler: gcc 7.5.0

Fedora 40
	Kernel: Depends on container host
	Compiler: gcc 14.1.1

Ubuntu 24.04
	Kernel: 5.4.0-167-generic
	Compiler: gcc 13.2.0

RHEL9
	Kernel: Depends on container host
	Compiler: gcc 11.4.1

Ubuntu 22.04
	Kernel: 5.4.0-167-generic
	Compiler: gcc 11.4.0

To view detailed results, visit:
https://lab.dpdk.org/results/dashboard/patchsets/30576/

UNH-IOL DPDK Community Lab

To manage your email subscriptions, visit: 
https://lab.dpdk.org/results/dashboard/preferences/subscriptions/