From mboxrd@z Thu Jan  1 00:00:00 1970
Return-Path: <test-report-bounces@dpdk.org>
Received: from mails.dpdk.org (mails.dpdk.org [217.70.189.124])
	by inbox.dpdk.org (Postfix) with ESMTP id B3B5545683
	for <public@inbox.dpdk.org>; Mon, 22 Jul 2024 19:26:53 +0200 (CEST)
Received: from mails.dpdk.org (localhost [127.0.0.1])
	by mails.dpdk.org (Postfix) with ESMTP id B0E944067C;
	Mon, 22 Jul 2024 19:26:53 +0200 (CEST)
Received: from mail-pl1-f226.google.com (mail-pl1-f226.google.com
 [209.85.214.226])
 by mails.dpdk.org (Postfix) with ESMTP id 91D8C4028B
 for <test-report@dpdk.org>; Mon, 22 Jul 2024 19:26:34 +0200 (CEST)
Received: by mail-pl1-f226.google.com with SMTP id
 d9443c01a7336-1fc491f9b55so35516465ad.3
 for <test-report@dpdk.org>; Mon, 22 Jul 2024 10:26:34 -0700 (PDT)
DKIM-Signature: v=1; a=rsa-sha256; c=relaxed/relaxed;
 d=iol.unh.edu; s=unh-iol; t=1721669194; x=1722273994; darn=dpdk.org;
 h=references:in-reply-to:cc:to:from:subject:message-id:date:from:to
 :cc:subject:date:message-id:reply-to;
 bh=Iqgl7ozI66n6ACTGGMRZgk4L62RQpvm9vcHS1q/oCb8=;
 b=OWMwBSo2qwt5fmRleYaftkwLNLC2dL1bfvf56M1iI5A/T7xZFcERITyB8HFQNqb0rR
 4kv0OTECu2GxlA9p/6bPKfh41naFoLU/lGKOFohoYTqOnwkPkpD8MvcvtA9b9m5rPvUW
 WBS7q6M7Oa1/7hrXFw0EAxt+DDpQs4gJ1bdhk=
X-Google-DKIM-Signature: v=1; a=rsa-sha256; c=relaxed/relaxed;
 d=1e100.net; s=20230601; t=1721669194; x=1722273994;
 h=references:in-reply-to:cc:to:from:subject:message-id:date
 :x-gm-message-state:from:to:cc:subject:date:message-id:reply-to;
 bh=Iqgl7ozI66n6ACTGGMRZgk4L62RQpvm9vcHS1q/oCb8=;
 b=EeniC/q7nSrfitPRl0xxDYwKsi9MueCwU/cUnNzWzlKTOESiUGvTWVeUd/Ig464cGW
 ES4uD7qbOoY7UlejJQvQvleEs7mDX/bm5+vLZUaOx2pv+AkEKo56ngLZJAKr7pzLSuh1
 oVMbR3cJBpWq2SsUPB/8MAqwH9XqBUz+3oUWIeiK3Ik6GwcFJwIKU/0kg5kxvmCjFvWY
 Ro4ZF0i8YEh7nn53ebe+AAXlfrW1Mj2e7L3J2gm+Hgp0gt/UN6qzOYBf+k7CEjlpgtZe
 11Ro3mip5URj5jA/uFxZ9naUNo/esJRGXzOSRtbWTeSWg6fui5xIT9UguimFXVMUlBMS
 OI5A==
X-Gm-Message-State: AOJu0YwaFrv5a5ePvUhZBJ85l2nGSdVi3tTN8kSA5d8dmjP1BThmeuJV
 ZPP4MlDPrdSCSofg23kjDIMax7+EYaWzYV0X0ZyZBKS/98xVkCfceiYAwBVAQhfTyg1jkvPBytI
 MfCx9fB85Ouz8P8Hlq5WV52TPZm1/nIRF6A/Ng6ip
X-Google-Smtp-Source: AGHT+IG1lN4RUcSdRm3srPlvkggpyraq031tixFro10SnU3F56ikkRC+qmF659gDSFHbIgrD/DnndggiC0Z5
X-Received: by 2002:a17:902:e5cd:b0:1fd:96e1:802a with SMTP id
 d9443c01a7336-1fd96e181ddmr28153545ad.59.1721669193796; 
 Mon, 22 Jul 2024 10:26:33 -0700 (PDT)
Received: from postal.iol.unh.edu (postal.iol.unh.edu. [132.177.123.84])
 by smtp-relay.gmail.com with ESMTPS id
 d9443c01a7336-1fd6f25b802sm2689645ad.44.2024.07.22.10.26.33
 (version=TLS1_2 cipher=ECDHE-ECDSA-AES128-GCM-SHA256 bits=128/128);
 Mon, 22 Jul 2024 10:26:33 -0700 (PDT)
X-Relaying-Domain: iol.unh.edu
Date: Mon, 22 Jul 2024 10:26:33 -0700 (PDT)
Message-ID: <669e9649.170a0220.289a3c.f107SMTPIN_ADDED_MISSING@mx.google.com>
Received: from [172.21.0.7] (unknown [172.18.0.240])
 by postal.iol.unh.edu (Postfix) with ESMTP id E0DE2605C351;
 Mon, 22 Jul 2024 13:26:32 -0400 (EDT)
Subject: |PENDING| pw142610-142604 [PATCH] [v2,30/30] bus/dpaa: add port bmi 
From: dpdklab@iol.unh.edu
To: Test Report <test-report@dpdk.org>
Cc: dpdk-test-reports@iol.unh.edu
In-Reply-To: <20240722115843.1830105-31-g.singh@nxp.com>
References: <20240722115843.1830105-31-g.singh@nxp.com>
Content-Type: text/plain
X-BeenThere: test-report@dpdk.org
X-Mailman-Version: 2.1.29
Precedence: list
List-Id: automatic DPDK test reports <test-report.dpdk.org>
List-Unsubscribe: <https://mails.dpdk.org/options/test-report>,
 <mailto:test-report-request@dpdk.org?subject=unsubscribe>
List-Archive: <http://mails.dpdk.org/archives/test-report/>
List-Post: <mailto:test-report@dpdk.org>
List-Help: <mailto:test-report-request@dpdk.org?subject=help>
List-Subscribe: <https://mails.dpdk.org/listinfo/test-report>,
 <mailto:test-report-request@dpdk.org?subject=subscribe>
Errors-To: test-report-bounces@dpdk.org

Test-Label: iol-compile-arm64-testing
Test-Status: PENDING
http://dpdk.org/patch/142604

_Testing pending_

Submitter: Gagandeep Singh <g.singh@nxp.com>
Date: Monday, July 22 2024 11:58:43 
DPDK git baseline: Repo:dpdk
  Branch: master
  CommitID:fa8d2f7f28524a6c8defa3dcd94f5aa131aae084

142610-142604 --> testing pending

Upstream job id: Generic-DPDK-Compile-Meson#277705

Test environment and result as below:

+----------------------------------------+--------------------+
|              Environment               | dpdk_meson_compile |
+========================================+====================+
| RHEL9 (ARM)                            | PASS               |
+----------------------------------------+--------------------+
| Ubuntu 20.04 ARM GCC Cross Compile     | PEND               |
+----------------------------------------+--------------------+
| Ubuntu 20.04 ARM SVE                   | PASS               |
+----------------------------------------+--------------------+
| Debian 12 with MUSDK                   | PASS               |
+----------------------------------------+--------------------+
| Fedora 37 (ARM)                        | PASS               |
+----------------------------------------+--------------------+
| Fedora 38 (ARM)                        | PASS               |
+----------------------------------------+--------------------+
| Fedora 38 (ARM Clang)                  | PEND               |
+----------------------------------------+--------------------+
| Fedora 39 (ARM)                        | PASS               |
+----------------------------------------+--------------------+
| Fedora 39 (ARM Clang)                  | PEND               |
+----------------------------------------+--------------------+
| Fedora 40 (ARM)                        | PASS               |
+----------------------------------------+--------------------+
| Fedora 40 (ARM Clang)                  | PEND               |
+----------------------------------------+--------------------+
| Ubuntu 20.04 (ARM)                     | PASS               |
+----------------------------------------+--------------------+
| Ubuntu 22.04 (ARM)                     | PASS               |
+----------------------------------------+--------------------+
| Ubuntu 24.04 (ARM)                     | PASS               |
+----------------------------------------+--------------------+
| CentOS Stream 9 (ARM)                  | PEND               |
+----------------------------------------+--------------------+
| Debian 11 (Buster) (ARM)               | PEND               |
+----------------------------------------+--------------------+
| Debian 12 (arm)                        | PEND               |
+----------------------------------------+--------------------+
| Ubuntu 20.04 ARM Clang Cross Compile   | PEND               |
+----------------------------------------+--------------------+
| Ubuntu 20.04 aarch32 GCC Cross Compile | PEND               |
+----------------------------------------+--------------------+


RHEL9 (ARM)
	Kernel: Depends on container host
	Compiler: gcc 11.4.1

Ubuntu 20.04 ARM GCC Cross Compile
	Kernel: 5.4.0-167-generic
	Compiler: aarch64-linux-gnu-gcc (Ubuntu 9.4.0-1ubuntu1~20.04.2) 9.4.0

Ubuntu 20.04 ARM SVE
	Kernel: 5.4.0-167-generic
	Compiler: gcc (Ubuntu 10.5.0-1ubuntu1~20.04) 10.5.0

Debian 12 with MUSDK
	Kernel: Container Host Kernel
	Compiler: gcc 12.2.0

Fedora 37 (ARM)
	Kernel: Depends on container host
	Compiler: gcc 12.3.1

Fedora 38 (ARM)
	Kernel: Depends on container host
	Compiler: gcc 13.2.1

Fedora 38 (ARM Clang)
	Kernel: Depends on container host
	Compiler: clang 16.0.6

Fedora 39 (ARM)
	Kernel: Depends on container host
	Compiler: gcc 13.2.1

Fedora 39 (ARM Clang)
	Kernel: Depends on container host
	Compiler: clang 17.0.6

Fedora 40 (ARM)
	Kernel: Depends on container host
	Compiler: gcc 14.1.1

Fedora 40 (ARM Clang)
	Kernel: Depends on container host
	Compiler: clang 18.1.6

Ubuntu 20.04 (ARM)
	Kernel: Container Host Kernel
	Compiler: gcc 9.4.0

Ubuntu 22.04 (ARM)
	Kernel: Container Host Kernel
	Compiler: gcc 11.4.0

Ubuntu 24.04 (ARM)
	Kernel: 5.4.0-167-generic
	Compiler: gcc 13.2.0

CentOS Stream 9 (ARM)
	Kernel: Container Host Kernel
	Compiler: gcc 11.4.1

Debian 11 (Buster) (ARM)
	Kernel: Container Host Kernel
	Compiler: gcc 10.2.1

Debian 12 (arm)
	Kernel: Container Host Kernel
	Compiler: gcc 12.2.0

Ubuntu 20.04 ARM Clang Cross Compile
	Kernel: 5.4.0-72-generic
	Compiler: clang 10.0.0-4ubuntu1

Ubuntu 20.04 aarch32 GCC Cross Compile
	Kernel: 5.4.0-167-generic
	Compiler: gcc 9.4.0

To view detailed results, visit:
https://lab.dpdk.org/results/dashboard/patchsets/30576/

UNH-IOL DPDK Community Lab

To manage your email subscriptions, visit: 
https://lab.dpdk.org/results/dashboard/preferences/subscriptions/