From mboxrd@z Thu Jan  1 00:00:00 1970
Return-Path: <test-report-bounces@dpdk.org>
Received: from mails.dpdk.org (mails.dpdk.org [217.70.189.124])
	by inbox.dpdk.org (Postfix) with ESMTP id DFA3B45683
	for <public@inbox.dpdk.org>; Mon, 22 Jul 2024 19:32:02 +0200 (CEST)
Received: from mails.dpdk.org (localhost [127.0.0.1])
	by mails.dpdk.org (Postfix) with ESMTP id DD1F04067C;
	Mon, 22 Jul 2024 19:32:02 +0200 (CEST)
Received: from mail-io1-f99.google.com (mail-io1-f99.google.com
 [209.85.166.99]) by mails.dpdk.org (Postfix) with ESMTP id 846D24028B
 for <test-report@dpdk.org>; Mon, 22 Jul 2024 19:31:53 +0200 (CEST)
Received: by mail-io1-f99.google.com with SMTP id
 ca18e2360f4ac-8138e2f2f69so174794339f.0
 for <test-report@dpdk.org>; Mon, 22 Jul 2024 10:31:53 -0700 (PDT)
DKIM-Signature: v=1; a=rsa-sha256; c=relaxed/relaxed;
 d=iol.unh.edu; s=unh-iol; t=1721669513; x=1722274313; darn=dpdk.org;
 h=references:in-reply-to:cc:to:from:subject:message-id:date:from:to
 :cc:subject:date:message-id:reply-to;
 bh=34duqGkmvcL+cXleIVfzSelqIi8rit/efqbCnQRGkCQ=;
 b=igVystJ//IWY03lXTyh9eBVLkmaKQqoXfO7DkxwcxMOYfKe4GOyPIKqrxrkkUwPSlG
 lC2DoZ2YTWO8gR/3qDWy3IQmR3O6Gb7kZ1dq0ox0TMUNRUrzZulEMhvxHSVHwX89Ba/t
 4JL2e6NtkUdgQYhcXef9sXHmWqqH2pLSh5fVk=
X-Google-DKIM-Signature: v=1; a=rsa-sha256; c=relaxed/relaxed;
 d=1e100.net; s=20230601; t=1721669513; x=1722274313;
 h=references:in-reply-to:cc:to:from:subject:message-id:date
 :x-gm-message-state:from:to:cc:subject:date:message-id:reply-to;
 bh=34duqGkmvcL+cXleIVfzSelqIi8rit/efqbCnQRGkCQ=;
 b=NbXE6Jc3rgBAdj4qia7nkcTwtDMOT339v+qqJBx853eJ+atwEzlncjwwVXQzHreTLw
 5+7lzsvoyMs2QzMu30lCRswttHh5HcLJ0k9HLhaisnMTeZNXhyWqTzI4A8fwH/et1qXq
 rMIjFeo0BtouT/vn6oY4QiVNfZSV8+B6Xl1JVSUPHW9GPLfNp6uBPlUMPnmtXgH3yolK
 YfYrBYLwiAWxHrynDBmQBCHCXMBp0lppQbdug8o1UUtUJNGWxEuSsR4ZzqRY+6HkcDmN
 xamMka/oj0WUt9vnaPNhVfDoD83qcEbPVGnyf8WMeA6cxf9dbT+bxsHgtZ8UKC4wo1qM
 m53w==
X-Gm-Message-State: AOJu0YwNWvaJW2IftzX0NqIyYafIjNjsZnYjL3Ge1tnLLRHXUQrAi0vb
 4voaBBds+4lXxbu85x9qvUG4meAgN6LJW/AeXVa2foFVjDOoBEtCT5d0fXQY+QJyPT/a0uOdUn9
 HVr1HKgJ6gNVojsy4QLPYRzqbe/ds8UlX6vGhzgXnqtlypzVGoKfB0IVc
X-Google-Smtp-Source: AGHT+IHCvo4VpCyeIL7XffciBXeBINY0mJ3rBxvtWAMKBI5T3aofeDHtADc4aokOkYEkErdRardKebV3rmCD
X-Received: by 2002:a05:6602:3411:b0:7f6:4c4d:5dd4 with SMTP id
 ca18e2360f4ac-81aa70757b6mr1285499439f.14.1721669511838; 
 Mon, 22 Jul 2024 10:31:51 -0700 (PDT)
Received: from postal.iol.unh.edu (postal.iol.unh.edu.
 [2606:4100:3880:1234::84]) by smtp-relay.gmail.com with ESMTPS id
 ca18e2360f4ac-819ae2cf6d9sm30719939f.32.2024.07.22.10.31.51
 (version=TLS1_2 cipher=ECDHE-ECDSA-AES128-GCM-SHA256 bits=128/128);
 Mon, 22 Jul 2024 10:31:51 -0700 (PDT)
X-Relaying-Domain: iol.unh.edu
Date: Mon, 22 Jul 2024 10:31:51 -0700 (PDT)
Message-ID: <669e9787.050a0220.47cad.19e8SMTPIN_ADDED_MISSING@mx.google.com>
Received: from [172.21.0.6] (unknown [172.18.0.240])
 by postal.iol.unh.edu (Postfix) with ESMTP id 6F460605C351;
 Mon, 22 Jul 2024 13:31:51 -0400 (EDT)
Subject: |PENDING| pw142613-142615 [PATCH] [v5,3/3] net/ice: fix return value
From: dpdklab@iol.unh.edu
To: Test Report <test-report@dpdk.org>
Cc: dpdk-test-reports@iol.unh.edu
In-Reply-To: <20240722135046.285868-3-vladimir.medvedkin@intel.com>
References: <20240722135046.285868-3-vladimir.medvedkin@intel.com>
Content-Type: text/plain
X-BeenThere: test-report@dpdk.org
X-Mailman-Version: 2.1.29
Precedence: list
List-Id: automatic DPDK test reports <test-report.dpdk.org>
List-Unsubscribe: <https://mails.dpdk.org/options/test-report>,
 <mailto:test-report-request@dpdk.org?subject=unsubscribe>
List-Archive: <http://mails.dpdk.org/archives/test-report/>
List-Post: <mailto:test-report@dpdk.org>
List-Help: <mailto:test-report-request@dpdk.org?subject=help>
List-Subscribe: <https://mails.dpdk.org/listinfo/test-report>,
 <mailto:test-report-request@dpdk.org?subject=subscribe>
Errors-To: test-report-bounces@dpdk.org

Test-Label: iol-compile-arm64-testing
Test-Status: PENDING
http://dpdk.org/patch/142615

_Testing pending_

Submitter: Medvedkin, Vladimir <vladimir.medvedkin@intel.com>
Date: Monday, July 22 2024 13:50:46 
DPDK git baseline: Repo:dpdk
  Branch: master
  CommitID:980318a7303d985069581c90961efe00cc757dcd

142613-142615 --> testing pending

Upstream job id: Generic-DPDK-Compile-Meson#277674

Test environment and result as below:

+----------------------------------------+--------------------+
|              Environment               | dpdk_meson_compile |
+========================================+====================+
| RHEL9 (ARM)                            | PASS               |
+----------------------------------------+--------------------+
| Ubuntu 20.04 ARM GCC Cross Compile     | PASS               |
+----------------------------------------+--------------------+
| Ubuntu 20.04 ARM SVE                   | PASS               |
+----------------------------------------+--------------------+
| Debian 12 with MUSDK                   | PASS               |
+----------------------------------------+--------------------+
| Fedora 37 (ARM)                        | PASS               |
+----------------------------------------+--------------------+
| Fedora 38 (ARM)                        | PASS               |
+----------------------------------------+--------------------+
| Fedora 38 (ARM Clang)                  | PEND               |
+----------------------------------------+--------------------+
| Fedora 39 (ARM)                        | PASS               |
+----------------------------------------+--------------------+
| Fedora 39 (ARM Clang)                  | PEND               |
+----------------------------------------+--------------------+
| Fedora 40 (ARM)                        | PASS               |
+----------------------------------------+--------------------+
| Fedora 40 (ARM Clang)                  | PEND               |
+----------------------------------------+--------------------+
| Ubuntu 20.04 (ARM)                     | PASS               |
+----------------------------------------+--------------------+
| Ubuntu 22.04 (ARM)                     | PASS               |
+----------------------------------------+--------------------+
| Ubuntu 24.04 (ARM)                     | PASS               |
+----------------------------------------+--------------------+
| CentOS Stream 9 (ARM)                  | PASS               |
+----------------------------------------+--------------------+
| Debian 11 (Buster) (ARM)               | PASS               |
+----------------------------------------+--------------------+
| Debian 12 (arm)                        | PASS               |
+----------------------------------------+--------------------+
| Ubuntu 20.04 ARM Clang Cross Compile   | PEND               |
+----------------------------------------+--------------------+
| Ubuntu 20.04 aarch32 GCC Cross Compile | PASS               |
+----------------------------------------+--------------------+


RHEL9 (ARM)
	Kernel: Depends on container host
	Compiler: gcc 11.4.1

Ubuntu 20.04 ARM GCC Cross Compile
	Kernel: 5.4.0-167-generic
	Compiler: aarch64-linux-gnu-gcc (Ubuntu 9.4.0-1ubuntu1~20.04.2) 9.4.0

Ubuntu 20.04 ARM SVE
	Kernel: 5.4.0-167-generic
	Compiler: gcc (Ubuntu 10.5.0-1ubuntu1~20.04) 10.5.0

Debian 12 with MUSDK
	Kernel: Container Host Kernel
	Compiler: gcc 12.2.0

Fedora 37 (ARM)
	Kernel: Depends on container host
	Compiler: gcc 12.3.1

Fedora 38 (ARM)
	Kernel: Depends on container host
	Compiler: gcc 13.2.1

Fedora 38 (ARM Clang)
	Kernel: Depends on container host
	Compiler: clang 16.0.6

Fedora 39 (ARM)
	Kernel: Depends on container host
	Compiler: gcc 13.2.1

Fedora 39 (ARM Clang)
	Kernel: Depends on container host
	Compiler: clang 17.0.6

Fedora 40 (ARM)
	Kernel: Depends on container host
	Compiler: gcc 14.1.1

Fedora 40 (ARM Clang)
	Kernel: Depends on container host
	Compiler: clang 18.1.6

Ubuntu 20.04 (ARM)
	Kernel: Container Host Kernel
	Compiler: gcc 9.4.0

Ubuntu 22.04 (ARM)
	Kernel: Container Host Kernel
	Compiler: gcc 11.4.0

Ubuntu 24.04 (ARM)
	Kernel: 5.4.0-167-generic
	Compiler: gcc 13.2.0

CentOS Stream 9 (ARM)
	Kernel: Container Host Kernel
	Compiler: gcc 11.4.1

Debian 11 (Buster) (ARM)
	Kernel: Container Host Kernel
	Compiler: gcc 10.2.1

Debian 12 (arm)
	Kernel: Container Host Kernel
	Compiler: gcc 12.2.0

Ubuntu 20.04 ARM Clang Cross Compile
	Kernel: 5.4.0-72-generic
	Compiler: clang 10.0.0-4ubuntu1

Ubuntu 20.04 aarch32 GCC Cross Compile
	Kernel: 5.4.0-167-generic
	Compiler: gcc 9.4.0

To view detailed results, visit:
https://lab.dpdk.org/results/dashboard/patchsets/30577/

UNH-IOL DPDK Community Lab

To manage your email subscriptions, visit: 
https://lab.dpdk.org/results/dashboard/preferences/subscriptions/