From mboxrd@z Thu Jan  1 00:00:00 1970
Return-Path: <test-report-bounces@dpdk.org>
Received: from mails.dpdk.org (mails.dpdk.org [217.70.189.124])
	by inbox.dpdk.org (Postfix) with ESMTP id D6A3C45680
	for <public@inbox.dpdk.org>; Tue, 23 Jul 2024 00:37:51 +0200 (CEST)
Received: from mails.dpdk.org (localhost [127.0.0.1])
	by mails.dpdk.org (Postfix) with ESMTP id D0749402C3;
	Tue, 23 Jul 2024 00:37:51 +0200 (CEST)
Received: from mail-oa1-f97.google.com (mail-oa1-f97.google.com
 [209.85.160.97]) by mails.dpdk.org (Postfix) with ESMTP id C27EB402B5
 for <test-report@dpdk.org>; Tue, 23 Jul 2024 00:37:49 +0200 (CEST)
Received: by mail-oa1-f97.google.com with SMTP id
 586e51a60fabf-2611da054fbso1801867fac.1
 for <test-report@dpdk.org>; Mon, 22 Jul 2024 15:37:49 -0700 (PDT)
DKIM-Signature: v=1; a=rsa-sha256; c=relaxed/relaxed;
 d=iol.unh.edu; s=unh-iol; t=1721687869; x=1722292669; darn=dpdk.org;
 h=references:in-reply-to:cc:to:from:subject:message-id:date:from:to
 :cc:subject:date:message-id:reply-to;
 bh=rg7jf/KQoCXreCjAoS4g/oDTqB3Ep6YOnQNiT15b1mk=;
 b=B7GOaoCzLJ8OYCaUglSeGEvK+eLvyZvqlOPn27g54oAsBA9tDit4qxCKVr63R11jfL
 +4Pm4DgLI5lBR8WhG3ewmadB/UmtQiZzR+9+7JS6ZZyoENIlAQ5ngJGvv1oPvPzmCVFL
 VaMkl455rq3NWhFNG7Wh46yZGlk1exStaQI0U=
X-Google-DKIM-Signature: v=1; a=rsa-sha256; c=relaxed/relaxed;
 d=1e100.net; s=20230601; t=1721687869; x=1722292669;
 h=references:in-reply-to:cc:to:from:subject:message-id:date
 :x-gm-message-state:from:to:cc:subject:date:message-id:reply-to;
 bh=rg7jf/KQoCXreCjAoS4g/oDTqB3Ep6YOnQNiT15b1mk=;
 b=nhQ++PQzYlzRTeMl28/+0eeegKIc7wx8kb/1yHrp0A3xsfAc4YUawPnXjcsn1Lh7I/
 xVrv1LCCn/vvlXaRi8IWvimLPpu15LSL5SmOsSxPeOOoE3a4iNTtZcGd4dfoHVSmU7Y8
 RB+GdOqgkcJKUpnaDMbUOULvnIMpWlJVFBp6hVWOuupryNRoKi1cyPYmlCaBSITTdK/d
 Q9Miywwc3MMrg+TPan8zf9uH5gcohVjccDhOe8CkfdS1fd4Zx7qaoVs8GW/7jQQ67Jjs
 3p8MJ/4xDRMT5hm+JQ6jpiNZEsqNNlja2HlZjDiwpATNnf0T8jsNqUItZjdvI5EpyUDa
 3+2Q==
X-Gm-Message-State: AOJu0Yw9lvy9ayFSCq9JTqFEDduI5FL3V1+FNTejHWWRVXJrjdhWKSzb
 5yULRZOIJfIHLYkDq/4tzn+sR4H55zIO2bdrzU1BJDnlx+4j4cXGa+JuBVEIh0FTrTwzIB6f8CG
 OQBP3shQ69koI88g1oOiXyoLiWn5qRsVdRqpKZRnh6y77fI5KnL6viiiL
X-Google-Smtp-Source: AGHT+IF0lHM+3+fPEbVHvBkZZcBJsbdl2EBGY3VSwUf8VlU3MsTQ0ZgnsUvR3iFTsnbMRiTQc60lCPSU16Rg
X-Received: by 2002:a05:6870:d1c4:b0:261:c65e:919f with SMTP id
 586e51a60fabf-2638df2844dmr7832531fac.21.1721687868840; 
 Mon, 22 Jul 2024 15:37:48 -0700 (PDT)
Received: from postal.iol.unh.edu (postal.iol.unh.edu.
 [2606:4100:3880:1234::84]) by smtp-relay.gmail.com with ESMTPS id
 586e51a60fabf-2610c7df2e8sm373601fac.23.2024.07.22.15.37.48
 (version=TLS1_2 cipher=ECDHE-ECDSA-AES128-GCM-SHA256 bits=128/128);
 Mon, 22 Jul 2024 15:37:48 -0700 (PDT)
X-Relaying-Domain: iol.unh.edu
Date: Mon, 22 Jul 2024 15:37:48 -0700 (PDT)
Message-ID: <669edf3c.050a0220.3d3433.6134SMTPIN_ADDED_MISSING@mx.google.com>
Received: from [172.21.0.8] (unknown [172.18.0.240])
 by postal.iol.unh.edu (Postfix) with ESMTP id 53212605C351;
 Mon, 22 Jul 2024 18:37:48 -0400 (EDT)
Subject: |PENDING| pw142616 [PATCH] doc: announce cryptodev change to support
From: dpdklab@iol.unh.edu
To: Test Report <test-report@dpdk.org>
Cc: dpdk-test-reports@iol.unh.edu
In-Reply-To: <20240722145324.1091-1-gmuthukrishn@marvell.com>
References: <20240722145324.1091-1-gmuthukrishn@marvell.com>
Content-Type: text/plain
X-BeenThere: test-report@dpdk.org
X-Mailman-Version: 2.1.29
Precedence: list
List-Id: automatic DPDK test reports <test-report.dpdk.org>
List-Unsubscribe: <https://mails.dpdk.org/options/test-report>,
 <mailto:test-report-request@dpdk.org?subject=unsubscribe>
List-Archive: <http://mails.dpdk.org/archives/test-report/>
List-Post: <mailto:test-report@dpdk.org>
List-Help: <mailto:test-report-request@dpdk.org?subject=help>
List-Subscribe: <https://mails.dpdk.org/listinfo/test-report>,
 <mailto:test-report-request@dpdk.org?subject=subscribe>
Errors-To: test-report-bounces@dpdk.org

Test-Label: iol-abi-testing
Test-Status: PENDING
http://dpdk.org/patch/142616

_Testing pending_

Submitter: Gowrishankar Muthukrishnan <gmuthukrishn@marvell.com>
Date: Monday, July 22 2024 14:53:21 
DPDK git baseline: Repo:dpdk
  Branch: master
  CommitID:fa8d2f7f28524a6c8defa3dcd94f5aa131aae084

142616 --> testing pending

Upstream job id: Generic-DPDK-Compile-ABI#99816

Test environment and result as below:

+-------------------+----------+
|    Environment    | abi_test |
+===================+==========+
| CentOS Stream 8   | PASS     |
+-------------------+----------+
| CentOS Stream 9   | PASS     |
+-------------------+----------+
| Fedora 38 (Clang) | PASS     |
+-------------------+----------+
| Fedora 37         | PASS     |
+-------------------+----------+
| Debian Bullseye   | PASS     |
+-------------------+----------+
| Debian 12         | PASS     |
+-------------------+----------+
| Fedora 40 (Clang) | PASS     |
+-------------------+----------+
| Fedora 38         | PEND     |
+-------------------+----------+
| RHEL8             | PASS     |
+-------------------+----------+
| Fedora 39 (Clang) | PASS     |
+-------------------+----------+
| openSUSE Leap 15  | PASS     |
+-------------------+----------+
| Fedora 39         | PASS     |
+-------------------+----------+
| Fedora 40         | PASS     |
+-------------------+----------+
| Ubuntu 22.04      | PEND     |
+-------------------+----------+
| RHEL9             | PASS     |
+-------------------+----------+
| Ubuntu 24.04      | PASS     |
+-------------------+----------+


CentOS Stream 8
	Kernel: 5.4.0-167-generic
	Compiler: gcc 8.5.0 20210514

CentOS Stream 9
	Kernel: 5.4.0-167-generic
	Compiler: gcc 11.4.1 20230605

Fedora 38 (Clang)
	Kernel: Depends on container host
	Compiler: clang 16.0.6

Fedora 37
	Kernel: Depends on container host system
	Compiler: gcc 12.3.1

Debian Bullseye
	Kernel: 5.4.0-167-generic
	Compiler: gcc 10.2.1-6

Debian 12
	Kernel: Container Host Kernel
	Compiler: gcc 12.2.0

Fedora 40 (Clang)
	Kernel: Depends on container host
	Compiler: clang 18.1.6

Fedora 38
	Kernel: Depends on container host
	Compiler: gcc 13.2.1

RHEL8
	Kernel: 5.4.0-167-generic
	Compiler: gcc 8.5.0 20210514 (Red Hat 8.5.0-20)

Fedora 39 (Clang)
	Kernel: Depends on container host
	Compiler: clang 17.0.6

openSUSE Leap 15
	Kernel: 5.4.0-167-generic
	Compiler: gcc 7.5.0

Fedora 39
	Kernel: Depends on container host
	Compiler: gcc 13.2.1

Fedora 40
	Kernel: Depends on container host
	Compiler: gcc 14.1.1

Ubuntu 22.04
	Kernel: 5.4.0-167-generic
	Compiler: gcc 11.4.0

RHEL9
	Kernel: Depends on container host
	Compiler: gcc 11.4.1

Ubuntu 24.04
	Kernel: 5.4.0-167-generic
	Compiler: gcc 13.2.0

To view detailed results, visit:
https://lab.dpdk.org/results/dashboard/patchsets/30578/

UNH-IOL DPDK Community Lab

To manage your email subscriptions, visit: 
https://lab.dpdk.org/results/dashboard/preferences/subscriptions/