From mboxrd@z Thu Jan  1 00:00:00 1970
Return-Path: <test-report-bounces@dpdk.org>
Received: from mails.dpdk.org (mails.dpdk.org [217.70.189.124])
	by inbox.dpdk.org (Postfix) with ESMTP id 5921945680
	for <public@inbox.dpdk.org>; Tue, 23 Jul 2024 00:57:18 +0200 (CEST)
Received: from mails.dpdk.org (localhost [127.0.0.1])
	by mails.dpdk.org (Postfix) with ESMTP id 535B240613;
	Tue, 23 Jul 2024 00:57:18 +0200 (CEST)
Received: from mail-io1-f99.google.com (mail-io1-f99.google.com
 [209.85.166.99]) by mails.dpdk.org (Postfix) with ESMTP id D9D54402B5
 for <test-report@dpdk.org>; Tue, 23 Jul 2024 00:57:07 +0200 (CEST)
Received: by mail-io1-f99.google.com with SMTP id
 ca18e2360f4ac-7fb93b2e2a3so205330839f.1
 for <test-report@dpdk.org>; Mon, 22 Jul 2024 15:57:07 -0700 (PDT)
DKIM-Signature: v=1; a=rsa-sha256; c=relaxed/relaxed;
 d=iol.unh.edu; s=unh-iol; t=1721689027; x=1722293827; darn=dpdk.org;
 h=references:in-reply-to:cc:to:from:subject:message-id:date:from:to
 :cc:subject:date:message-id:reply-to;
 bh=nGiKU1UBL283dV80twHZ3VnwW3WJnRflgvtlXqu5UzY=;
 b=bDdp2CN0RNu7HIBKbyRuNLLrib5XAd3hMQuqL0YC8xJQeZc3YjYi5rRl2szbU3Xno7
 q/A+nc/rklbbkCTtJCvss0A9d6Y34iQpRjWnGZ1DlGXXFHqhN/C6FFta11DJD+WZvx08
 BuutqAydqqrpcWwEIG9zGd0QX+SlCDNbXlU7k=
X-Google-DKIM-Signature: v=1; a=rsa-sha256; c=relaxed/relaxed;
 d=1e100.net; s=20230601; t=1721689027; x=1722293827;
 h=references:in-reply-to:cc:to:from:subject:message-id:date
 :x-gm-message-state:from:to:cc:subject:date:message-id:reply-to;
 bh=nGiKU1UBL283dV80twHZ3VnwW3WJnRflgvtlXqu5UzY=;
 b=EYTFb1nr4EFN/V4QgjqgCU1OdvvaTHi9t9bhC1kgrJmwxp2jColLptQCwtHbaAC15H
 ofh5mZoh0LipBADSTrjxGGp+Z8EZqIs5oJU2pO0exkNFhpPAQ9eo2oK0S8NwUXrqpXlB
 mwaFMqgVJkhwYB8/7FkCg2xdoQ9PJ3mnKzYMP5S9qwiYvhjt+JDmKsf0ABh3+V62fAJT
 OZ7Ec4uRNTIeAeFyKqGPZPM9aACEAMtlJ9pPadQYnVXWe8NCkCTYlJc8Pi/Y7wT3PuOZ
 a3SBMY+sjJi+o+Ue0tt1z1rT4P3k7/CZk6e6bNfhN3B370VaUifT7PqWVXckh0leGko1
 mdTA==
X-Gm-Message-State: AOJu0YyYg/tsHAflRrMhqtlDpBGjO2lD3fPq2LIBuwDA+j6DaurKYhLW
 WyB9fzGKRJZ+zinhelBtyZoH9s7ulVHTjqo9ds+X3vsMw6zXkp11FGv+CLbt8J2tnZv473+QRV/
 coOROqtWqXn7FdYR/z1NrM2fnACBdOmRlvTW/cn9iPHo/Z2HaO2lBHySi
X-Google-Smtp-Source: AGHT+IGcxMdZ7CnaDjnvJ4U6KCCmEHfrosZtZvVYoBbk2xYkOphqROSG/TaMol7Wi0OP2arfbq5F9IXB5yu2
X-Received: by 2002:a05:6602:1503:b0:7eb:4b89:b706 with SMTP id
 ca18e2360f4ac-81b341c7843mr1226403739f.8.1721689027282; 
 Mon, 22 Jul 2024 15:57:07 -0700 (PDT)
Received: from postal.iol.unh.edu (postal.iol.unh.edu.
 [2606:4100:3880:1234::84]) by smtp-relay.gmail.com with ESMTPS id
 ca18e2360f4ac-819abc02c88sm34497139f.12.2024.07.22.15.57.07
 (version=TLS1_2 cipher=ECDHE-ECDSA-AES128-GCM-SHA256 bits=128/128);
 Mon, 22 Jul 2024 15:57:07 -0700 (PDT)
X-Relaying-Domain: iol.unh.edu
Date: Mon, 22 Jul 2024 15:57:07 -0700 (PDT)
Message-ID: <669ee3c3.050a0220.5ac80.2e9cSMTPIN_ADDED_MISSING@mx.google.com>
Received: from [172.21.0.8] (unknown [172.18.0.240])
 by postal.iol.unh.edu (Postfix) with ESMTP id C7E8E605C351;
 Mon, 22 Jul 2024 18:57:06 -0400 (EDT)
Subject: |PENDING| pw142616 [PATCH] doc: announce cryptodev change to support
From: dpdklab@iol.unh.edu
To: Test Report <test-report@dpdk.org>
Cc: dpdk-test-reports@iol.unh.edu
In-Reply-To: <20240722145324.1091-1-gmuthukrishn@marvell.com>
References: <20240722145324.1091-1-gmuthukrishn@marvell.com>
Content-Type: text/plain
X-BeenThere: test-report@dpdk.org
X-Mailman-Version: 2.1.29
Precedence: list
List-Id: automatic DPDK test reports <test-report.dpdk.org>
List-Unsubscribe: <https://mails.dpdk.org/options/test-report>,
 <mailto:test-report-request@dpdk.org?subject=unsubscribe>
List-Archive: <http://mails.dpdk.org/archives/test-report/>
List-Post: <mailto:test-report@dpdk.org>
List-Help: <mailto:test-report-request@dpdk.org?subject=help>
List-Subscribe: <https://mails.dpdk.org/listinfo/test-report>,
 <mailto:test-report-request@dpdk.org?subject=subscribe>
Errors-To: test-report-bounces@dpdk.org

Test-Label: iol-abi-testing
Test-Status: PENDING
http://dpdk.org/patch/142616

_Testing pending_

Submitter: Gowrishankar Muthukrishnan <gmuthukrishn@marvell.com>
Date: Monday, July 22 2024 14:53:21 
DPDK git baseline: Repo:dpdk
  Branch: master
  CommitID:fa8d2f7f28524a6c8defa3dcd94f5aa131aae084

142616 --> testing pending

Upstream job id: Generic-DPDK-Compile-ABI#99828

Test environment and result as below:

+-------------------+----------+
|    Environment    | abi_test |
+===================+==========+
| CentOS Stream 8   | PASS     |
+-------------------+----------+
| CentOS Stream 9   | PEND     |
+-------------------+----------+
| Debian Bullseye   | PASS     |
+-------------------+----------+
| Debian 12         | PEND     |
+-------------------+----------+
| Fedora 38 (Clang) | PASS     |
+-------------------+----------+
| Fedora 37         | PASS     |
+-------------------+----------+
| Fedora 39 (Clang) | PASS     |
+-------------------+----------+
| Fedora 40 (Clang) | PEND     |
+-------------------+----------+
| Fedora 40         | PEND     |
+-------------------+----------+
| Fedora 38         | PEND     |
+-------------------+----------+
| Fedora 39         | PEND     |
+-------------------+----------+
| RHEL8             | PEND     |
+-------------------+----------+
| openSUSE Leap 15  | PEND     |
+-------------------+----------+
| RHEL9             | PEND     |
+-------------------+----------+
| Ubuntu 22.04      | PEND     |
+-------------------+----------+
| Ubuntu 24.04      | PEND     |
+-------------------+----------+


CentOS Stream 8
	Kernel: 5.4.0-167-generic
	Compiler: gcc 8.5.0 20210514

CentOS Stream 9
	Kernel: 5.4.0-167-generic
	Compiler: gcc 11.4.1 20230605

Debian Bullseye
	Kernel: 5.4.0-167-generic
	Compiler: gcc 10.2.1-6

Debian 12
	Kernel: Container Host Kernel
	Compiler: gcc 12.2.0

Fedora 38 (Clang)
	Kernel: Depends on container host
	Compiler: clang 16.0.6

Fedora 37
	Kernel: Depends on container host system
	Compiler: gcc 12.3.1

Fedora 39 (Clang)
	Kernel: Depends on container host
	Compiler: clang 17.0.6

Fedora 40 (Clang)
	Kernel: Depends on container host
	Compiler: clang 18.1.6

Fedora 40
	Kernel: Depends on container host
	Compiler: gcc 14.1.1

Fedora 38
	Kernel: Depends on container host
	Compiler: gcc 13.2.1

Fedora 39
	Kernel: Depends on container host
	Compiler: gcc 13.2.1

RHEL8
	Kernel: 5.4.0-167-generic
	Compiler: gcc 8.5.0 20210514 (Red Hat 8.5.0-20)

openSUSE Leap 15
	Kernel: 5.4.0-167-generic
	Compiler: gcc 7.5.0

RHEL9
	Kernel: Depends on container host
	Compiler: gcc 11.4.1

Ubuntu 22.04
	Kernel: 5.4.0-167-generic
	Compiler: gcc 11.4.0

Ubuntu 24.04
	Kernel: 5.4.0-167-generic
	Compiler: gcc 13.2.0

To view detailed results, visit:
https://lab.dpdk.org/results/dashboard/patchsets/30578/

UNH-IOL DPDK Community Lab

To manage your email subscriptions, visit: 
https://lab.dpdk.org/results/dashboard/preferences/subscriptions/