From mboxrd@z Thu Jan  1 00:00:00 1970
Return-Path: <test-report-bounces@dpdk.org>
Received: from mails.dpdk.org (mails.dpdk.org [217.70.189.124])
	by inbox.dpdk.org (Postfix) with ESMTP id 4024045686
	for <public@inbox.dpdk.org>; Tue, 23 Jul 2024 02:30:22 +0200 (CEST)
Received: from mails.dpdk.org (localhost [127.0.0.1])
	by mails.dpdk.org (Postfix) with ESMTP id 38A9A402D3;
	Tue, 23 Jul 2024 02:30:22 +0200 (CEST)
Received: from mail-pf1-f226.google.com (mail-pf1-f226.google.com
 [209.85.210.226])
 by mails.dpdk.org (Postfix) with ESMTP id D8DF040289
 for <test-report@dpdk.org>; Tue, 23 Jul 2024 02:30:14 +0200 (CEST)
Received: by mail-pf1-f226.google.com with SMTP id
 d2e1a72fcca58-70d316f0060so713309b3a.1
 for <test-report@dpdk.org>; Mon, 22 Jul 2024 17:30:14 -0700 (PDT)
DKIM-Signature: v=1; a=rsa-sha256; c=relaxed/relaxed;
 d=iol.unh.edu; s=unh-iol; t=1721694614; x=1722299414; darn=dpdk.org;
 h=references:in-reply-to:cc:to:from:subject:message-id:date:from:to
 :cc:subject:date:message-id:reply-to;
 bh=lpQLpD5bvIxKiD1uzTgZEUQSiwq7FGujTYNlpDWlBzM=;
 b=cwa+HaQlIH6VBmBi3V2eaenqYBci5/3kEU1ZlK4GlhTZ37BxRWI4HD70UfiwFZhhvO
 ec8KeJuWk7/AclbO3vgfhlfjNAeUTiSYLvj23/TfnU6PtTXe2wo9LYZFgUO1zTNbfVSV
 erF8/PFj8Bm7bMMDAygCdtmCwtlrwekPNcrO4=
X-Google-DKIM-Signature: v=1; a=rsa-sha256; c=relaxed/relaxed;
 d=1e100.net; s=20230601; t=1721694614; x=1722299414;
 h=references:in-reply-to:cc:to:from:subject:message-id:date
 :x-gm-message-state:from:to:cc:subject:date:message-id:reply-to;
 bh=lpQLpD5bvIxKiD1uzTgZEUQSiwq7FGujTYNlpDWlBzM=;
 b=Q0DIJYLBV+yJk4XQ9zeGF3Dd5/uE2BF3sq9fXy1z0flboLrWXXsqNEkcvKYHeNdO6B
 egqIBUNQFFIXUUtvqKKnftqdipX5zW7XPJNAj9j+vhzZS3Hlcdf9JDoDsOPalzPapXwp
 3Cig3R2STKmnp8N5wA0dTcXaJY2/SCEP0EWd5wRd0kc2Pbqout9drhzJJue+NspNftms
 jaib8fAhpC8su4OUGSankdGujZutXB/iM1ZOcs03QkYzELV3NQUYq92JB9hvdhlQKMtN
 gaFozDUVHxFJIygtbCQgD+J0hQiJCGeUH3F6VJg1nOVN9prpHv7Kpig/ugIb+AL5FVwH
 5//w==
X-Gm-Message-State: AOJu0YzAyRIs8+U+T1ZZ5nr8LNqo3WCHiEc0CkAcKQ9gpqIJNzkvab70
 kFLBcU5JJKnK9P1yCxmgBge01JM/B+VLw9WzpwjxHDako+0r7KhP7obA/1DOJR3qEuvdVlMMUIu
 Bh2zAaxzIq0i8m3izH+AQWZZ8lAd5J4W5kGyEc6IKk5uQ+8nBgwXZElE5
X-Google-Smtp-Source: AGHT+IHwtzybfZ1fRof3UbJPB88P9sO3BVRefS4kaEsnMSCRm9mwGao+8o1jHSr4xpB4KY5bEpaBU07/FsCk
X-Received: by 2002:a05:6a20:3943:b0:1c2:3844:b41f with SMTP id
 adf61e73a8af0-1c45214ca13mr857935637.11.1721694614061; 
 Mon, 22 Jul 2024 17:30:14 -0700 (PDT)
Received: from postal.iol.unh.edu (postal.iol.unh.edu.
 [2606:4100:3880:1234::84]) by smtp-relay.gmail.com with ESMTPS id
 41be03b00d2f7-79f0b9fe2acsm259145a12.18.2024.07.22.17.30.13
 (version=TLS1_2 cipher=ECDHE-ECDSA-AES128-GCM-SHA256 bits=128/128);
 Mon, 22 Jul 2024 17:30:14 -0700 (PDT)
X-Relaying-Domain: iol.unh.edu
Date: Mon, 22 Jul 2024 17:30:14 -0700 (PDT)
Message-ID: <669ef996.630a0220.db0c3.da9fSMTPIN_ADDED_MISSING@mx.google.com>
Received: from [172.21.0.7] (unknown [172.18.0.240])
 by postal.iol.unh.edu (Postfix) with ESMTP id 52315605C351;
 Mon, 22 Jul 2024 20:30:13 -0400 (EDT)
Subject: |PENDING| pw142616 [PATCH] doc: announce cryptodev change to support
From: dpdklab@iol.unh.edu
To: Test Report <test-report@dpdk.org>
Cc: dpdk-test-reports@iol.unh.edu
In-Reply-To: <20240722145324.1091-1-gmuthukrishn@marvell.com>
References: <20240722145324.1091-1-gmuthukrishn@marvell.com>
Content-Type: text/plain
X-BeenThere: test-report@dpdk.org
X-Mailman-Version: 2.1.29
Precedence: list
List-Id: automatic DPDK test reports <test-report.dpdk.org>
List-Unsubscribe: <https://mails.dpdk.org/options/test-report>,
 <mailto:test-report-request@dpdk.org?subject=unsubscribe>
List-Archive: <http://mails.dpdk.org/archives/test-report/>
List-Post: <mailto:test-report@dpdk.org>
List-Help: <mailto:test-report-request@dpdk.org?subject=help>
List-Subscribe: <https://mails.dpdk.org/listinfo/test-report>,
 <mailto:test-report-request@dpdk.org?subject=subscribe>
Errors-To: test-report-bounces@dpdk.org

Test-Label: iol-compile-amd64-testing
Test-Status: PENDING
http://dpdk.org/patch/142616

_Testing pending_

Submitter: Gowrishankar Muthukrishnan <gmuthukrishn@marvell.com>
Date: Monday, July 22 2024 14:53:21 
DPDK git baseline: Repo:dpdk
  Branch: master
  CommitID:fa8d2f7f28524a6c8defa3dcd94f5aa131aae084

142616 --> testing pending

Upstream job id: Windows-Compile-DPDK-Mingw64#20919

Test environment and result as below:

+---------------------+--------------------+----------------------+
|     Environment     | dpdk_meson_compile | dpdk_mingw64_compile |
+=====================+====================+======================+
| Windows Server 2019 | PASS               | PASS                 |
+---------------------+--------------------+----------------------+
| FreeBSD 13.3        | PASS               | SKIPPED              |
+---------------------+--------------------+----------------------+
| FreeBSD 14.1        | PASS               | SKIPPED              |
+---------------------+--------------------+----------------------+
| Windows Server 2022 | PEND               | PASS                 |
+---------------------+--------------------+----------------------+


Windows Server 2019
	Kernel: 10.0.17763
	Compiler: clang 14.0 and gcc 8.1.0 (MinGW)

FreeBSD 13.3
	Kernel: 13.3-RELEASE-p1
	Compiler: clang 17.0.6

FreeBSD 14.1
	Kernel: 14.1
	Compiler: clang 18.1.5

Windows Server 2022
	Kernel: 10.0.20348.2031
	Compiler: clang 15.0.7, gcc 8.1.0 (MinGW), and MSVC VS 17.9

To view detailed results, visit:
https://lab.dpdk.org/results/dashboard/patchsets/30578/

UNH-IOL DPDK Community Lab

To manage your email subscriptions, visit: 
https://lab.dpdk.org/results/dashboard/preferences/subscriptions/