From mboxrd@z Thu Jan  1 00:00:00 1970
Return-Path: <test-report-bounces@dpdk.org>
Received: from mails.dpdk.org (mails.dpdk.org [217.70.189.124])
	by inbox.dpdk.org (Postfix) with ESMTP id 40CF545686
	for <public@inbox.dpdk.org>; Tue, 23 Jul 2024 03:53:35 +0200 (CEST)
Received: from mails.dpdk.org (localhost [127.0.0.1])
	by mails.dpdk.org (Postfix) with ESMTP id 361C2402C3;
	Tue, 23 Jul 2024 03:53:35 +0200 (CEST)
Received: from mail-yw1-f226.google.com (mail-yw1-f226.google.com
 [209.85.128.226])
 by mails.dpdk.org (Postfix) with ESMTP id 94AC740289
 for <test-report@dpdk.org>; Tue, 23 Jul 2024 03:53:33 +0200 (CEST)
Received: by mail-yw1-f226.google.com with SMTP id
 00721157ae682-66a1842b452so32155237b3.3
 for <test-report@dpdk.org>; Mon, 22 Jul 2024 18:53:33 -0700 (PDT)
DKIM-Signature: v=1; a=rsa-sha256; c=relaxed/relaxed;
 d=iol.unh.edu; s=unh-iol; t=1721699613; x=1722304413; darn=dpdk.org;
 h=references:in-reply-to:cc:to:from:subject:message-id:date:from:to
 :cc:subject:date:message-id:reply-to;
 bh=w2YAOv1X1wm1+PIwS0phX8vxJ08sGaKT/pv8FDCjVI4=;
 b=MX8hK5uZ2pwoJEOaNUPqLnGJBV/RdqDI3KxIM1yD7dXNS5dHMQKCIzYDMiWV00kuEu
 kqDb2ecZyV7I8xKFvq6MhPoMMoew2K+DPn303HOftXjZjWciJaMBclMr61/PZR7xvqCd
 cUJHqjlCyVMgLIpZHTNe2v3n5sf8OZOb4X/yk=
X-Google-DKIM-Signature: v=1; a=rsa-sha256; c=relaxed/relaxed;
 d=1e100.net; s=20230601; t=1721699613; x=1722304413;
 h=references:in-reply-to:cc:to:from:subject:message-id:date
 :x-gm-message-state:from:to:cc:subject:date:message-id:reply-to;
 bh=w2YAOv1X1wm1+PIwS0phX8vxJ08sGaKT/pv8FDCjVI4=;
 b=CLsRSS/YQosOqPhv4gx7B1dbirWt1VpeHoaNRK6GexovvkrVX/AU44Y0NUUQwGHXUn
 n8+wHhvrpHpPR50auQ9TiSpi3iH6z66ebL39N1gJyeyGc/dVx1UC49GF6fNY2feXaANg
 8JUSLahboOK6eX+Fmsmo5Nr9My+L6ygQ3Al+BtXgi1ftqkCkX4EsHto8JT+9u2b0bthW
 PRO6iYnOafE0+Mbs3pCsoZRG58+GHCCCb5lM+iRiNyEXVjWaWJvuYBQJgzma2w45uDjm
 odjAjCRiTK+uVWezMhX57VuSa8YcTWYmQ4thCh/HbECyKh+CzueIRogM+CFuyKye1BcB
 hDvw==
X-Gm-Message-State: AOJu0YwWav6iyQuQuq3+e9VwbarFhQTCdSgb5sK+wDIAsN5D2IPWVH0c
 U/Boa2TMZQPeqsRVHSyHJQAknoOdxr+yts8n6qI/U+QefcrWiKKotph6GXREti1687cjuiDHjY/
 KkRZZaAAGe8fKK85cFfG12olDOfVlUVTnS9njs2lw
X-Google-Smtp-Source: AGHT+IGAIzFwXpdTlmSaf5bGGMDa5V+46l6xFMMIXQheBlft6R5hBjFrzTRz9vsOnKb6xFUMaJpvCkHqolMZ
X-Received: by 2002:a05:690c:290d:b0:64a:8d78:f2a3 with SMTP id
 00721157ae682-66a6a413b38mr98477337b3.30.1721699613053; 
 Mon, 22 Jul 2024 18:53:33 -0700 (PDT)
Received: from postal.iol.unh.edu (postal.iol.unh.edu. [132.177.123.84])
 by smtp-relay.gmail.com with ESMTPS id
 00721157ae682-6695206a187sm5814457b3.21.2024.07.22.18.53.32
 (version=TLS1_2 cipher=ECDHE-ECDSA-AES128-GCM-SHA256 bits=128/128);
 Mon, 22 Jul 2024 18:53:33 -0700 (PDT)
X-Relaying-Domain: iol.unh.edu
Date: Mon, 22 Jul 2024 18:53:33 -0700 (PDT)
Message-ID: <669f0d1d.0d0a0220.a8058.1cdeSMTPIN_ADDED_MISSING@mx.google.com>
Received: from [172.17.0.5] (unknown [172.18.0.217])
 by postal.iol.unh.edu (Postfix) with ESMTP id 705DB605C351;
 Mon, 22 Jul 2024 21:53:32 -0400 (EDT)
Subject: |PENDING| pw142620-142649 [PATCH] [v3,30/30] bus/dpaa: add port bmi 
From: dpdklab@iol.unh.edu
To: Test Report <test-report@dpdk.org>
Cc: dpdk-test-reports@iol.unh.edu
In-Reply-To: <20240722163930.2171568-31-g.singh@nxp.com>
References: <20240722163930.2171568-31-g.singh@nxp.com>
Content-Type: text/plain
X-BeenThere: test-report@dpdk.org
X-Mailman-Version: 2.1.29
Precedence: list
List-Id: automatic DPDK test reports <test-report.dpdk.org>
List-Unsubscribe: <https://mails.dpdk.org/options/test-report>,
 <mailto:test-report-request@dpdk.org?subject=unsubscribe>
List-Archive: <http://mails.dpdk.org/archives/test-report/>
List-Post: <mailto:test-report@dpdk.org>
List-Help: <mailto:test-report-request@dpdk.org?subject=help>
List-Subscribe: <https://mails.dpdk.org/listinfo/test-report>,
 <mailto:test-report-request@dpdk.org?subject=subscribe>
Errors-To: test-report-bounces@dpdk.org

Test-Label: iol-abi-testing
Test-Status: PENDING
http://dpdk.org/patch/142649

_Testing pending_

Submitter: Gagandeep Singh <g.singh@nxp.com>
Date: Monday, July 22 2024 16:39:30 
DPDK git baseline: Repo:dpdk
  Branch: master
  CommitID:4fe08bab4bc71f1c04854f764bae98927c2b6fe1

142620-142649 --> testing pending

Upstream job id: Generic-DPDK-Compile-ABI#99877

Test environment and result as below:

+-------------------+----------+
|    Environment    | abi_test |
+===================+==========+
| CentOS Stream 8   | PASS     |
+-------------------+----------+
| Debian Bullseye   | PASS     |
+-------------------+----------+
| Fedora 37         | PEND     |
+-------------------+----------+
| Debian 12         | PASS     |
+-------------------+----------+
| Fedora 39 (Clang) | PASS     |
+-------------------+----------+
| Fedora 38 (Clang) | PASS     |
+-------------------+----------+
| Fedora 39         | PASS     |
+-------------------+----------+
| Fedora 38         | PASS     |
+-------------------+----------+
| Fedora 40 (Clang) | PASS     |
+-------------------+----------+
| Fedora 40         | PEND     |
+-------------------+----------+
| Ubuntu 22.04      | PEND     |
+-------------------+----------+
| openSUSE Leap 15  | PEND     |
+-------------------+----------+
| RHEL9             | PEND     |
+-------------------+----------+
| RHEL8             | PASS     |
+-------------------+----------+
| Ubuntu 24.04      | PASS     |
+-------------------+----------+
| CentOS Stream 9   | PEND     |
+-------------------+----------+


CentOS Stream 8
	Kernel: 5.4.0-167-generic
	Compiler: gcc 8.5.0 20210514

Debian Bullseye
	Kernel: 5.4.0-167-generic
	Compiler: gcc 10.2.1-6

Fedora 37
	Kernel: Depends on container host system
	Compiler: gcc 12.3.1

Debian 12
	Kernel: Container Host Kernel
	Compiler: gcc 12.2.0

Fedora 39 (Clang)
	Kernel: Depends on container host
	Compiler: clang 17.0.6

Fedora 38 (Clang)
	Kernel: Depends on container host
	Compiler: clang 16.0.6

Fedora 39
	Kernel: Depends on container host
	Compiler: gcc 13.2.1

Fedora 38
	Kernel: Depends on container host
	Compiler: gcc 13.2.1

Fedora 40 (Clang)
	Kernel: Depends on container host
	Compiler: clang 18.1.6

Fedora 40
	Kernel: Depends on container host
	Compiler: gcc 14.1.1

Ubuntu 22.04
	Kernel: 5.4.0-167-generic
	Compiler: gcc 11.4.0

openSUSE Leap 15
	Kernel: 5.4.0-167-generic
	Compiler: gcc 7.5.0

RHEL9
	Kernel: Depends on container host
	Compiler: gcc 11.4.1

RHEL8
	Kernel: 5.4.0-167-generic
	Compiler: gcc 8.5.0 20210514 (Red Hat 8.5.0-20)

Ubuntu 24.04
	Kernel: 5.4.0-167-generic
	Compiler: gcc 13.2.0

CentOS Stream 9
	Kernel: 5.4.0-167-generic
	Compiler: gcc 11.4.1 20230605

To view detailed results, visit:
https://lab.dpdk.org/results/dashboard/patchsets/30582/

UNH-IOL DPDK Community Lab

To manage your email subscriptions, visit: 
https://lab.dpdk.org/results/dashboard/preferences/subscriptions/