From mboxrd@z Thu Jan  1 00:00:00 1970
Return-Path: <test-report-bounces@dpdk.org>
Received: from mails.dpdk.org (mails.dpdk.org [217.70.189.124])
	by inbox.dpdk.org (Postfix) with ESMTP id AB51945688
	for <public@inbox.dpdk.org>; Tue, 23 Jul 2024 04:34:31 +0200 (CEST)
Received: from mails.dpdk.org (localhost [127.0.0.1])
	by mails.dpdk.org (Postfix) with ESMTP id 9B885402C3;
	Tue, 23 Jul 2024 04:34:31 +0200 (CEST)
Received: from mail-yb1-f227.google.com (mail-yb1-f227.google.com
 [209.85.219.227])
 by mails.dpdk.org (Postfix) with ESMTP id E5F7040289
 for <test-report@dpdk.org>; Tue, 23 Jul 2024 04:34:30 +0200 (CEST)
Received: by mail-yb1-f227.google.com with SMTP id
 3f1490d57ef6-e05ed8a5526so4865476276.3
 for <test-report@dpdk.org>; Mon, 22 Jul 2024 19:34:30 -0700 (PDT)
DKIM-Signature: v=1; a=rsa-sha256; c=relaxed/relaxed;
 d=iol.unh.edu; s=unh-iol; t=1721702070; x=1722306870; darn=dpdk.org;
 h=references:in-reply-to:cc:to:from:subject:message-id:date:from:to
 :cc:subject:date:message-id:reply-to;
 bh=tw34NvmXoJvfVRDBC0kTROlzlEPUHfB04ScoI9upEMI=;
 b=Qdqk1dqPZ3kQGS+kDoICG2HMJ/tD74IEm5mWKvxCA7J9h4EbvPiwCmYJstVaON3y67
 QDnpEDWPOVUIvbMP17k2MZuSN0aYFQkBsn/tij4GXcv6bZo129Rdjb18LNyOHjoATv0W
 VZ4DyiwKk0pUAR8mlSqK62lI79B5m5OdIcUU4=
X-Google-DKIM-Signature: v=1; a=rsa-sha256; c=relaxed/relaxed;
 d=1e100.net; s=20230601; t=1721702070; x=1722306870;
 h=references:in-reply-to:cc:to:from:subject:message-id:date
 :x-gm-message-state:from:to:cc:subject:date:message-id:reply-to;
 bh=tw34NvmXoJvfVRDBC0kTROlzlEPUHfB04ScoI9upEMI=;
 b=W+NI67p0f+SpD6JBlWXQfXP1fsVGE7zoQ3MIMwcRQX+ygaRHi3c2JluMK7etgwmcuk
 znFb/F6v3aN+Th4UDyyaaOHGtbWmtSuTivuWBfNfNIr1e5rWzp8CLNs7tPC7333Rl0zr
 ix3Js+xuM/57qwlmZ1J9cRRCqTWEnFjZnWvuWBj7uje2Y4QXKxrMWYJrp1mmOldwdJ8D
 dWI6xoFzHPMjSsAwcH3rIgxgGtzVEFyKKPJvFhDPl+0FIkDlYqXuBuehyai80De/spxi
 wjDGDVRMvlgEhXEijrfy6tDOADUQ+lWpU0BGxDetlmWcIebUft9UCIxcUVl9prKFtLAl
 D5Sg==
X-Gm-Message-State: AOJu0Yy/6QKT4IcNpD1N2vawqw94aLdlBadq37hDsi/xaMnXv/2fjuNj
 Vjqzb++e7SRUTIDBPZaKH5eVMAOTmzN08eAy5qwG0P5jSb8OiUGP9qEFPiXg0E2/Ralkz+skvdu
 g4qYDsma5MXKwCEMyDq11nyNs40VCajMWSZzcQcvP
X-Google-Smtp-Source: AGHT+IFq53Zwe5cBeoQqp4FUYgMqaJW6t14qIRM3vjmJfM9r3RELV7nPOVFg0ms+6QffIireIMpM0PsVQvEx
X-Received: by 2002:a05:6902:1008:b0:e08:7078:8cd9 with SMTP id
 3f1490d57ef6-e087b90b750mr9593042276.52.1721702070258; 
 Mon, 22 Jul 2024 19:34:30 -0700 (PDT)
Received: from postal.iol.unh.edu (postal.iol.unh.edu. [132.177.123.84])
 by smtp-relay.gmail.com with ESMTPS id
 3f1490d57ef6-e0860892e75sm179035276.2.2024.07.22.19.34.30
 (version=TLS1_2 cipher=ECDHE-ECDSA-AES128-GCM-SHA256 bits=128/128);
 Mon, 22 Jul 2024 19:34:30 -0700 (PDT)
X-Relaying-Domain: iol.unh.edu
Date: Mon, 22 Jul 2024 19:34:30 -0700 (PDT)
Message-ID: <669f16b6.050a0220.64a9b.8f93SMTPIN_ADDED_MISSING@mx.google.com>
Received: from [172.21.0.7] (unknown [172.18.0.240])
 by postal.iol.unh.edu (Postfix) with ESMTP id D8D10605C351;
 Mon, 22 Jul 2024 22:34:29 -0400 (EDT)
Subject: |PENDING| pw142616 [PATCH] doc: announce cryptodev change to support
From: dpdklab@iol.unh.edu
To: Test Report <test-report@dpdk.org>
Cc: dpdk-test-reports@iol.unh.edu
In-Reply-To: <20240722145324.1091-1-gmuthukrishn@marvell.com>
References: <20240722145324.1091-1-gmuthukrishn@marvell.com>
Content-Type: text/plain
X-BeenThere: test-report@dpdk.org
X-Mailman-Version: 2.1.29
Precedence: list
List-Id: automatic DPDK test reports <test-report.dpdk.org>
List-Unsubscribe: <https://mails.dpdk.org/options/test-report>,
 <mailto:test-report-request@dpdk.org?subject=unsubscribe>
List-Archive: <http://mails.dpdk.org/archives/test-report/>
List-Post: <mailto:test-report@dpdk.org>
List-Help: <mailto:test-report-request@dpdk.org?subject=help>
List-Subscribe: <https://mails.dpdk.org/listinfo/test-report>,
 <mailto:test-report-request@dpdk.org?subject=subscribe>
Errors-To: test-report-bounces@dpdk.org

Test-Label: iol-unit-amd64-testing
Test-Status: PENDING
http://dpdk.org/patch/142616

_Testing pending_

Submitter: Gowrishankar Muthukrishnan <gmuthukrishn@marvell.com>
Date: Monday, July 22 2024 14:53:21 
DPDK git baseline: Repo:dpdk
  Branch: master
  CommitID:fa8d2f7f28524a6c8defa3dcd94f5aa131aae084

142616 --> testing pending

Upstream job id: Generic-Unit-Test-DPDK#243093

Test environment and result as below:

+---------------------+----------------+
|     Environment     | dpdk_unit_test |
+=====================+================+
| Windows Server 2022 | PASS           |
+---------------------+----------------+
| CentOS Stream 8     | PASS           |
+---------------------+----------------+
| CentOS Stream 9     | PASS           |
+---------------------+----------------+
| Debian Bullseye     | PASS           |
+---------------------+----------------+
| Debian 12           | PASS           |
+---------------------+----------------+
| Fedora 37           | PASS           |
+---------------------+----------------+
| Fedora 38           | PEND           |
+---------------------+----------------+
| Fedora 38 (Clang)   | PEND           |
+---------------------+----------------+
| Fedora 39           | PEND           |
+---------------------+----------------+
| Fedora 39 (Clang)   | PEND           |
+---------------------+----------------+
| Fedora 40           | PEND           |
+---------------------+----------------+
| Windows Server 2019 | PASS           |
+---------------------+----------------+
| openSUSE Leap 15    | PEND           |
+---------------------+----------------+
| Fedora 40 (Clang)   | PEND           |
+---------------------+----------------+
| Ubuntu 22.04        | PEND           |
+---------------------+----------------+
| RHEL8               | PEND           |
+---------------------+----------------+
| RHEL9               | PEND           |
+---------------------+----------------+
| Ubuntu 20.04        | PEND           |
+---------------------+----------------+
| Ubuntu 24.04        | PEND           |
+---------------------+----------------+


Windows Server 2022
	Kernel: 10.0.20348.2031
	Compiler: clang 15.0.7, gcc 8.1.0 (MinGW), and MSVC VS 17.9

CentOS Stream 8
	Kernel: 5.4.0-167-generic
	Compiler: gcc 8.5.0 20210514

CentOS Stream 9
	Kernel: 5.4.0-167-generic
	Compiler: gcc 11.4.1 20230605

Debian Bullseye
	Kernel: 5.4.0-167-generic
	Compiler: gcc 10.2.1-6

Debian 12
	Kernel: Container Host Kernel
	Compiler: gcc 12.2.0

Fedora 37
	Kernel: Depends on container host system
	Compiler: gcc 12.3.1

Fedora 38
	Kernel: Depends on container host
	Compiler: gcc 13.2.1

Fedora 38 (Clang)
	Kernel: Depends on container host
	Compiler: clang 16.0.6

Fedora 39
	Kernel: Depends on container host
	Compiler: gcc 13.2.1

Fedora 39 (Clang)
	Kernel: Depends on container host
	Compiler: clang 17.0.6

Fedora 40
	Kernel: Depends on container host
	Compiler: gcc 14.1.1

Windows Server 2019
	Kernel: 10.0.17763
	Compiler: clang 14.0 and gcc 8.1.0 (MinGW)

openSUSE Leap 15
	Kernel: 5.4.0-167-generic
	Compiler: gcc 7.5.0

Fedora 40 (Clang)
	Kernel: Depends on container host
	Compiler: clang 18.1.6

Ubuntu 22.04
	Kernel: 5.4.0-167-generic
	Compiler: gcc 11.4.0

RHEL8
	Kernel: 5.4.0-167-generic
	Compiler: gcc 8.5.0 20210514 (Red Hat 8.5.0-20)

RHEL9
	Kernel: Depends on container host
	Compiler: gcc 11.4.1

Ubuntu 20.04
	Kernel: 5.4.0-167-generic
	Compiler: gcc 9.4.0-1ubuntu1~20.04.1

Ubuntu 24.04
	Kernel: 5.4.0-167-generic
	Compiler: gcc 13.2.0

To view detailed results, visit:
https://lab.dpdk.org/results/dashboard/patchsets/30578/

UNH-IOL DPDK Community Lab

To manage your email subscriptions, visit: 
https://lab.dpdk.org/results/dashboard/preferences/subscriptions/