From mboxrd@z Thu Jan  1 00:00:00 1970
Return-Path: <test-report-bounces@dpdk.org>
Received: from mails.dpdk.org (mails.dpdk.org [217.70.189.124])
	by inbox.dpdk.org (Postfix) with ESMTP id 49D394568C
	for <public@inbox.dpdk.org>; Tue, 23 Jul 2024 04:57:17 +0200 (CEST)
Received: from mails.dpdk.org (localhost [127.0.0.1])
	by mails.dpdk.org (Postfix) with ESMTP id 3EBEE40E1E;
	Tue, 23 Jul 2024 04:57:17 +0200 (CEST)
Received: from mail-io1-f98.google.com (mail-io1-f98.google.com
 [209.85.166.98]) by mails.dpdk.org (Postfix) with ESMTP id 0248640289
 for <test-report@dpdk.org>; Tue, 23 Jul 2024 04:57:10 +0200 (CEST)
Received: by mail-io1-f98.google.com with SMTP id
 ca18e2360f4ac-7f9be1f6cdbso170404139f.1
 for <test-report@dpdk.org>; Mon, 22 Jul 2024 19:57:09 -0700 (PDT)
DKIM-Signature: v=1; a=rsa-sha256; c=relaxed/relaxed;
 d=iol.unh.edu; s=unh-iol; t=1721703429; x=1722308229; darn=dpdk.org;
 h=references:in-reply-to:cc:to:from:subject:message-id:date:from:to
 :cc:subject:date:message-id:reply-to;
 bh=zxlMk7dKzdu5nBMYkfSDteykJyCkShEuN+FoV/sa8JM=;
 b=W4dT8sZiIPO+RNzwhTqE2DIbQ7oI9ABuvsh2lh1uNuZH2yCV9m4eE5+Xas1iWUHsCX
 GS9W39X+AOG8/O55EOKwxPx577pprI1vAnvosmoCqCjzTDp+4pfzV2SDkHAw2/Pholm5
 A++VRwNmapgfX5FNOlILVFUMcEOwqvCO72iaM=
X-Google-DKIM-Signature: v=1; a=rsa-sha256; c=relaxed/relaxed;
 d=1e100.net; s=20230601; t=1721703429; x=1722308229;
 h=references:in-reply-to:cc:to:from:subject:message-id:date
 :x-gm-message-state:from:to:cc:subject:date:message-id:reply-to;
 bh=zxlMk7dKzdu5nBMYkfSDteykJyCkShEuN+FoV/sa8JM=;
 b=ei0ZqtO2Ifvzx82deRZoQlVlQcFauCyFgXx7mQ67M/2pFsFro2VKGSeHYo2kgbCu6Q
 doBCWdIRifHsVjK4LXE9zdbpjwe63JsK1BQ0L86A1NwPlRSRcJphdR1lj17d/7IVV1eS
 oXd5gZI+UxZTh328WqYOlhZjqoSP7juEvLzCfgvTaKe1Ss8VIbK4rEmT6rS6qLXiE39m
 nbkTAnoxRhDOQQMILIPxbZhsEaJmADiitHqkkJcJI45+1j6h+gc2FxyGHwGgEG2mMlW1
 Vl3x6xTPdmUxMCZ6B/pdFyan3hPYxkbKoyqTQQILWu1AtQIUzBDeRsA4jxNsvyes52oB
 pe4w==
X-Gm-Message-State: AOJu0YzltR+/AQzwoINLx0ofMGzhOi10l4PG7BFU9m1HFHNZhFODehaj
 1WJ6KqZHAKlLJJlJriS/dZMa8f2ikimZAEdgkEkR39gNMAm5i4PNCETqQ/T3RRvrRzJcjYvgMXK
 ueVwlMEO2aXThlWYrj6DZk01HjuZ7izl7ivpoIHFa
X-Google-Smtp-Source: AGHT+IHcXrf8cdQtq+p8hLAOirq7U8KoMFTiBjr5hqKXQCA0cpfd7/X1+10VDMI0knUdFwB7oTYwqd8OQtBW
X-Received: by 2002:a05:6602:484:b0:807:1d6d:888c with SMTP id
 ca18e2360f4ac-81b34b63c64mr1083919239f.7.1721703429154; 
 Mon, 22 Jul 2024 19:57:09 -0700 (PDT)
Received: from postal.iol.unh.edu (postal.iol.unh.edu. [132.177.123.84])
 by smtp-relay.gmail.com with ESMTPS id
 ca18e2360f4ac-819ab72b1a5sm37513239f.5.2024.07.22.19.57.09
 (version=TLS1_2 cipher=ECDHE-ECDSA-AES128-GCM-SHA256 bits=128/128);
 Mon, 22 Jul 2024 19:57:09 -0700 (PDT)
X-Relaying-Domain: iol.unh.edu
Date: Mon, 22 Jul 2024 19:57:09 -0700 (PDT)
Message-ID: <669f1c05.050a0220.99a68.5eddSMTPIN_ADDED_MISSING@mx.google.com>
Received: from [172.21.0.8] (unknown [172.18.0.240])
 by postal.iol.unh.edu (Postfix) with ESMTP id 947C1605C351;
 Mon, 22 Jul 2024 22:57:08 -0400 (EDT)
Subject: |PENDING| pw142616 [PATCH] doc: announce cryptodev change to support
From: dpdklab@iol.unh.edu
To: Test Report <test-report@dpdk.org>
Cc: dpdk-test-reports@iol.unh.edu
In-Reply-To: <20240722145324.1091-1-gmuthukrishn@marvell.com>
References: <20240722145324.1091-1-gmuthukrishn@marvell.com>
Content-Type: text/plain
X-BeenThere: test-report@dpdk.org
X-Mailman-Version: 2.1.29
Precedence: list
List-Id: automatic DPDK test reports <test-report.dpdk.org>
List-Unsubscribe: <https://mails.dpdk.org/options/test-report>,
 <mailto:test-report-request@dpdk.org?subject=unsubscribe>
List-Archive: <http://mails.dpdk.org/archives/test-report/>
List-Post: <mailto:test-report@dpdk.org>
List-Help: <mailto:test-report-request@dpdk.org?subject=help>
List-Subscribe: <https://mails.dpdk.org/listinfo/test-report>,
 <mailto:test-report-request@dpdk.org?subject=subscribe>
Errors-To: test-report-bounces@dpdk.org

Test-Label: iol-compile-amd64-testing
Test-Status: PENDING
http://dpdk.org/patch/142616

_Testing pending_

Submitter: Gowrishankar Muthukrishnan <gmuthukrishn@marvell.com>
Date: Monday, July 22 2024 14:53:21 
DPDK git baseline: Repo:dpdk
  Branch: master
  CommitID:fa8d2f7f28524a6c8defa3dcd94f5aa131aae084

142616 --> testing pending

Upstream job id: Generic-DPDK-Compile-Meson#277934

Test environment and result as below:

+---------------------+--------------------+----------------------+------------------+-------------------+
|     Environment     | dpdk_meson_compile | dpdk_mingw64_compile | dpdk_compile_ovs | dpdk_compile_spdk |
+=====================+====================+======================+==================+===================+
| FreeBSD 13.3        | PASS               | SKIPPED              | SKIPPED          | SKIPPED           |
+---------------------+--------------------+----------------------+------------------+-------------------+
| Windows Server 2022 | PASS               | PASS                 | SKIPPED          | SKIPPED           |
+---------------------+--------------------+----------------------+------------------+-------------------+
| FreeBSD 14.1        | PASS               | SKIPPED              | SKIPPED          | SKIPPED           |
+---------------------+--------------------+----------------------+------------------+-------------------+
| Windows Server 2019 | PASS               | PASS                 | SKIPPED          | SKIPPED           |
+---------------------+--------------------+----------------------+------------------+-------------------+
| CentOS Stream 8     | PASS               | SKIPPED              | PASS             | PASS              |
+---------------------+--------------------+----------------------+------------------+-------------------+
| CentOS Stream 9     | PASS               | SKIPPED              | PASS             | PASS              |
+---------------------+--------------------+----------------------+------------------+-------------------+
| Debian Bullseye     | PEND               | SKIPPED              | PEND             | PEND              |
+---------------------+--------------------+----------------------+------------------+-------------------+
| Debian 12           | PASS               | SKIPPED              | PASS             | PASS              |
+---------------------+--------------------+----------------------+------------------+-------------------+
| Fedora 37           | PEND               | SKIPPED              | PEND             | PEND              |
+---------------------+--------------------+----------------------+------------------+-------------------+
| Fedora 38 (Clang)   | PEND               | SKIPPED              | PEND             | PEND              |
+---------------------+--------------------+----------------------+------------------+-------------------+
| Fedora 38           | PEND               | SKIPPED              | PEND             | PEND              |
+---------------------+--------------------+----------------------+------------------+-------------------+
| Fedora 39 (Clang)   | PEND               | SKIPPED              | PEND             | PEND              |
+---------------------+--------------------+----------------------+------------------+-------------------+
| Fedora 39           | PEND               | SKIPPED              | PEND             | PEND              |
+---------------------+--------------------+----------------------+------------------+-------------------+
| Fedora 40 (Clang)   | PEND               | SKIPPED              | PEND             | PEND              |
+---------------------+--------------------+----------------------+------------------+-------------------+
| Fedora 40           | PEND               | SKIPPED              | PEND             | PEND              |
+---------------------+--------------------+----------------------+------------------+-------------------+
| openSUSE Leap 15    | PEND               | SKIPPED              | PEND             | SKIPPED           |
+---------------------+--------------------+----------------------+------------------+-------------------+
| RHEL8               | PEND               | SKIPPED              | PEND             | SKIPPED           |
+---------------------+--------------------+----------------------+------------------+-------------------+
| RHEL9               | PEND               | SKIPPED              | PEND             | SKIPPED           |
+---------------------+--------------------+----------------------+------------------+-------------------+
| Ubuntu 20.04        | PEND               | SKIPPED              | PEND             | SKIPPED           |
+---------------------+--------------------+----------------------+------------------+-------------------+
| Ubuntu 22.04        | PEND               | SKIPPED              | PEND             | PEND              |
+---------------------+--------------------+----------------------+------------------+-------------------+
| Ubuntu 24.04        | PEND               | SKIPPED              | PEND             | PEND              |
+---------------------+--------------------+----------------------+------------------+-------------------+
| Alpine              | PEND               | SKIPPED              | PEND             | SKIPPED           |
+---------------------+--------------------+----------------------+------------------+-------------------+


FreeBSD 13.3
	Kernel: 13.3-RELEASE-p1
	Compiler: clang 17.0.6

Windows Server 2022
	Kernel: 10.0.20348.2031
	Compiler: clang 15.0.7, gcc 8.1.0 (MinGW), and MSVC VS 17.9

FreeBSD 14.1
	Kernel: 14.1
	Compiler: clang 18.1.5

Windows Server 2019
	Kernel: 10.0.17763
	Compiler: clang 14.0 and gcc 8.1.0 (MinGW)

CentOS Stream 8
	Kernel: 5.4.0-167-generic
	Compiler: gcc 8.5.0 20210514

CentOS Stream 9
	Kernel: 5.4.0-167-generic
	Compiler: gcc 11.4.1 20230605

Debian Bullseye
	Kernel: 5.4.0-167-generic
	Compiler: gcc 10.2.1-6

Debian 12
	Kernel: Container Host Kernel
	Compiler: gcc 12.2.0

Fedora 37
	Kernel: Depends on container host system
	Compiler: gcc 12.3.1

Fedora 38 (Clang)
	Kernel: Depends on container host
	Compiler: clang 16.0.6

Fedora 38
	Kernel: Depends on container host
	Compiler: gcc 13.2.1

Fedora 39 (Clang)
	Kernel: Depends on container host
	Compiler: clang 17.0.6

Fedora 39
	Kernel: Depends on container host
	Compiler: gcc 13.2.1

Fedora 40 (Clang)
	Kernel: Depends on container host
	Compiler: clang 18.1.6

Fedora 40
	Kernel: Depends on container host
	Compiler: gcc 14.1.1

openSUSE Leap 15
	Kernel: 5.4.0-167-generic
	Compiler: gcc 7.5.0

RHEL8
	Kernel: 5.4.0-167-generic
	Compiler: gcc 8.5.0 20210514 (Red Hat 8.5.0-20)

RHEL9
	Kernel: Depends on container host
	Compiler: gcc 11.4.1

Ubuntu 20.04
	Kernel: 5.4.0-167-generic
	Compiler: gcc 9.4.0-1ubuntu1~20.04.1

Ubuntu 22.04
	Kernel: 5.4.0-167-generic
	Compiler: gcc 11.4.0

Ubuntu 24.04
	Kernel: 5.4.0-167-generic
	Compiler: gcc 13.2.0

Alpine
	Kernel: 5.4.0-167-generic
	Compiler: gcc (Alpine 13.2.1_git20231014) 13.2.1 20231014

To view detailed results, visit:
https://lab.dpdk.org/results/dashboard/patchsets/30578/

UNH-IOL DPDK Community Lab

To manage your email subscriptions, visit: 
https://lab.dpdk.org/results/dashboard/preferences/subscriptions/