From mboxrd@z Thu Jan  1 00:00:00 1970
Return-Path: <test-report-bounces@dpdk.org>
Received: from mails.dpdk.org (mails.dpdk.org [217.70.189.124])
	by inbox.dpdk.org (Postfix) with ESMTP id 2191E4568C
	for <public@inbox.dpdk.org>; Tue, 23 Jul 2024 05:14:57 +0200 (CEST)
Received: from mails.dpdk.org (localhost [127.0.0.1])
	by mails.dpdk.org (Postfix) with ESMTP id 1B594402D3;
	Tue, 23 Jul 2024 05:14:57 +0200 (CEST)
Received: from mail-vk1-f226.google.com (mail-vk1-f226.google.com
 [209.85.221.226])
 by mails.dpdk.org (Postfix) with ESMTP id A2BC040289
 for <test-report@dpdk.org>; Tue, 23 Jul 2024 05:14:54 +0200 (CEST)
Received: by mail-vk1-f226.google.com with SMTP id
 71dfb90a1353d-4f52bd5b555so678744e0c.1
 for <test-report@dpdk.org>; Mon, 22 Jul 2024 20:14:54 -0700 (PDT)
DKIM-Signature: v=1; a=rsa-sha256; c=relaxed/relaxed;
 d=iol.unh.edu; s=unh-iol; t=1721704494; x=1722309294; darn=dpdk.org;
 h=references:in-reply-to:cc:to:from:subject:message-id:date:from:to
 :cc:subject:date:message-id:reply-to;
 bh=eXq22e5VT2Tmc1qI6F4lJB5Mh3RF2Wu43QxUdMaLNmY=;
 b=K8txp6vD2WkZ+ykd+z92GbG0htbmx2n1I3gw+/piLrFOPjjQJTJjXahywBhi7AhFFN
 JKnIwVCwU+hklcVWzcbnVMDWTTvw+gxmKCZgeD3UIE4gkvDNvRxl1KRpTO85WTN1S/3G
 1Q3adlklATsM7K7E8TUlx3S9a47cDtIl5OzKU=
X-Google-DKIM-Signature: v=1; a=rsa-sha256; c=relaxed/relaxed;
 d=1e100.net; s=20230601; t=1721704494; x=1722309294;
 h=references:in-reply-to:cc:to:from:subject:message-id:date
 :x-gm-message-state:from:to:cc:subject:date:message-id:reply-to;
 bh=eXq22e5VT2Tmc1qI6F4lJB5Mh3RF2Wu43QxUdMaLNmY=;
 b=WKS2rnnYLZAesHeXUsUIwMab4eLbWStX7QYkMzqynwvaYao4HfRXoAUqZU9J+aVqKL
 BGv+epE85KTfcM54DmBRrpPosjtkEJD+Q7TVpurO+U20yNb8MNbjr1moXqdGywRUOnqV
 ZY3F0sUEk+O63ygbWtGHk0nCgIFgRiXZS7VveOGdZ1alcYaqLPKVCvGCbpJqO3j0RCfO
 sM7uImtgKTqbtddD1+upCQIGQZXiEMQeVI6Fdcr2iRQfj6/5a9UrIixALXb1m0UGLFMr
 SIt460M/dpOyXfj/GFN7MZZeEe7SQT2YTD3KyICWJjqWqpM7+hoxv040vE0r6ylucWBg
 446A==
X-Gm-Message-State: AOJu0YzAYg3nUTOkUY56BRSnS6IEX3Mbtv55ixT5qOA8pXGwwEvjrBkc
 UZfK9rwyO95bvKE9mvLIdyhFRAqOnusktcMqDCnTytFUfGAZjLURcG3fqD/TRhvP/ooIFQEvkS0
 LMLyu6Dw9m1tppBPIXyRhRorMQn3N5D/6wel8j3p5W8eXbLJMtKeSUH0K
X-Google-Smtp-Source: AGHT+IFH/X2JkB8t1MOe0Hpge9zFIB81c80ORb6rPt8OcTOdHPxMo2fyKZU6hQqmPlana7sCB78oKsCIHoFn
X-Received: by 2002:a05:6122:12b5:b0:4f5:2849:598d with SMTP id
 71dfb90a1353d-4f6a8ea6984mr254868e0c.4.1721704493793; 
 Mon, 22 Jul 2024 20:14:53 -0700 (PDT)
Received: from postal.iol.unh.edu (postal.iol.unh.edu.
 [2606:4100:3880:1234::84]) by smtp-relay.gmail.com with ESMTPS id
 71dfb90a1353d-4f524e200b0sm232734e0c.2.2024.07.22.20.14.53
 (version=TLS1_2 cipher=ECDHE-ECDSA-AES128-GCM-SHA256 bits=128/128);
 Mon, 22 Jul 2024 20:14:53 -0700 (PDT)
X-Relaying-Domain: iol.unh.edu
Date: Mon, 22 Jul 2024 20:14:53 -0700 (PDT)
Message-ID: <669f202d.050a0220.29e2d.9e9cSMTPIN_ADDED_MISSING@mx.google.com>
Received: from [172.21.0.9] (unknown [172.18.0.240])
 by postal.iol.unh.edu (Postfix) with ESMTP id 748B1605C351;
 Mon, 22 Jul 2024 23:14:53 -0400 (EDT)
Subject: |PENDING| pw142616 [PATCH] doc: announce cryptodev change to support
From: dpdklab@iol.unh.edu
To: Test Report <test-report@dpdk.org>
Cc: dpdk-test-reports@iol.unh.edu
In-Reply-To: <20240722145324.1091-1-gmuthukrishn@marvell.com>
References: <20240722145324.1091-1-gmuthukrishn@marvell.com>
Content-Type: text/plain
X-BeenThere: test-report@dpdk.org
X-Mailman-Version: 2.1.29
Precedence: list
List-Id: automatic DPDK test reports <test-report.dpdk.org>
List-Unsubscribe: <https://mails.dpdk.org/options/test-report>,
 <mailto:test-report-request@dpdk.org?subject=unsubscribe>
List-Archive: <http://mails.dpdk.org/archives/test-report/>
List-Post: <mailto:test-report@dpdk.org>
List-Help: <mailto:test-report-request@dpdk.org?subject=help>
List-Subscribe: <https://mails.dpdk.org/listinfo/test-report>,
 <mailto:test-report-request@dpdk.org?subject=subscribe>
Errors-To: test-report-bounces@dpdk.org

Test-Label: iol-compile-amd64-testing
Test-Status: PENDING
http://dpdk.org/patch/142616

_Testing pending_

Submitter: Gowrishankar Muthukrishnan <gmuthukrishn@marvell.com>
Date: Monday, July 22 2024 14:53:21 
DPDK git baseline: Repo:dpdk
  Branch: master
  CommitID:fa8d2f7f28524a6c8defa3dcd94f5aa131aae084

142616 --> testing pending

Upstream job id: Generic-DPDK-Compile-Meson#277948

Test environment and result as below:

+---------------------+--------------------+----------------------+------------------+-------------------+
|     Environment     | dpdk_meson_compile | dpdk_mingw64_compile | dpdk_compile_ovs | dpdk_compile_spdk |
+=====================+====================+======================+==================+===================+
| FreeBSD 13.3        | PASS               | SKIPPED              | SKIPPED          | SKIPPED           |
+---------------------+--------------------+----------------------+------------------+-------------------+
| Windows Server 2022 | PASS               | PASS                 | SKIPPED          | SKIPPED           |
+---------------------+--------------------+----------------------+------------------+-------------------+
| FreeBSD 14.1        | PASS               | SKIPPED              | SKIPPED          | SKIPPED           |
+---------------------+--------------------+----------------------+------------------+-------------------+
| Windows Server 2019 | PASS               | PASS                 | SKIPPED          | SKIPPED           |
+---------------------+--------------------+----------------------+------------------+-------------------+
| CentOS Stream 8     | PASS               | SKIPPED              | PASS             | PASS              |
+---------------------+--------------------+----------------------+------------------+-------------------+
| CentOS Stream 9     | PASS               | SKIPPED              | PASS             | PASS              |
+---------------------+--------------------+----------------------+------------------+-------------------+
| Debian Bullseye     | PASS               | SKIPPED              | PASS             | PASS              |
+---------------------+--------------------+----------------------+------------------+-------------------+
| Debian 12           | PASS               | SKIPPED              | PASS             | PASS              |
+---------------------+--------------------+----------------------+------------------+-------------------+
| Fedora 37           | PASS               | SKIPPED              | PASS             | PASS              |
+---------------------+--------------------+----------------------+------------------+-------------------+
| Fedora 38 (Clang)   | PEND               | SKIPPED              | PEND             | PEND              |
+---------------------+--------------------+----------------------+------------------+-------------------+
| Fedora 38           | PASS               | SKIPPED              | PASS             | PASS              |
+---------------------+--------------------+----------------------+------------------+-------------------+
| Fedora 39 (Clang)   | PEND               | SKIPPED              | PEND             | PEND              |
+---------------------+--------------------+----------------------+------------------+-------------------+
| Fedora 39           | PASS               | SKIPPED              | PASS             | PASS              |
+---------------------+--------------------+----------------------+------------------+-------------------+
| Fedora 40 (Clang)   | PEND               | SKIPPED              | PEND             | PEND              |
+---------------------+--------------------+----------------------+------------------+-------------------+
| Fedora 40           | PASS               | SKIPPED              | PASS             | PASS              |
+---------------------+--------------------+----------------------+------------------+-------------------+
| openSUSE Leap 15    | PASS               | SKIPPED              | PASS             | SKIPPED           |
+---------------------+--------------------+----------------------+------------------+-------------------+
| RHEL8               | PASS               | SKIPPED              | PASS             | SKIPPED           |
+---------------------+--------------------+----------------------+------------------+-------------------+
| RHEL9               | PEND               | SKIPPED              | PEND             | SKIPPED           |
+---------------------+--------------------+----------------------+------------------+-------------------+
| Ubuntu 20.04        | PASS               | SKIPPED              | PASS             | SKIPPED           |
+---------------------+--------------------+----------------------+------------------+-------------------+
| Ubuntu 22.04        | PEND               | SKIPPED              | PEND             | PEND              |
+---------------------+--------------------+----------------------+------------------+-------------------+
| Ubuntu 24.04        | PEND               | SKIPPED              | PEND             | PEND              |
+---------------------+--------------------+----------------------+------------------+-------------------+
| Alpine              | PEND               | SKIPPED              | PEND             | SKIPPED           |
+---------------------+--------------------+----------------------+------------------+-------------------+


FreeBSD 13.3
	Kernel: 13.3-RELEASE-p1
	Compiler: clang 17.0.6

Windows Server 2022
	Kernel: 10.0.20348.2031
	Compiler: clang 15.0.7, gcc 8.1.0 (MinGW), and MSVC VS 17.9

FreeBSD 14.1
	Kernel: 14.1
	Compiler: clang 18.1.5

Windows Server 2019
	Kernel: 10.0.17763
	Compiler: clang 14.0 and gcc 8.1.0 (MinGW)

CentOS Stream 8
	Kernel: 5.4.0-167-generic
	Compiler: gcc 8.5.0 20210514

CentOS Stream 9
	Kernel: 5.4.0-167-generic
	Compiler: gcc 11.4.1 20230605

Debian Bullseye
	Kernel: 5.4.0-167-generic
	Compiler: gcc 10.2.1-6

Debian 12
	Kernel: Container Host Kernel
	Compiler: gcc 12.2.0

Fedora 37
	Kernel: Depends on container host system
	Compiler: gcc 12.3.1

Fedora 38 (Clang)
	Kernel: Depends on container host
	Compiler: clang 16.0.6

Fedora 38
	Kernel: Depends on container host
	Compiler: gcc 13.2.1

Fedora 39 (Clang)
	Kernel: Depends on container host
	Compiler: clang 17.0.6

Fedora 39
	Kernel: Depends on container host
	Compiler: gcc 13.2.1

Fedora 40 (Clang)
	Kernel: Depends on container host
	Compiler: clang 18.1.6

Fedora 40
	Kernel: Depends on container host
	Compiler: gcc 14.1.1

openSUSE Leap 15
	Kernel: 5.4.0-167-generic
	Compiler: gcc 7.5.0

RHEL8
	Kernel: 5.4.0-167-generic
	Compiler: gcc 8.5.0 20210514 (Red Hat 8.5.0-20)

RHEL9
	Kernel: Depends on container host
	Compiler: gcc 11.4.1

Ubuntu 20.04
	Kernel: 5.4.0-167-generic
	Compiler: gcc 9.4.0-1ubuntu1~20.04.1

Ubuntu 22.04
	Kernel: 5.4.0-167-generic
	Compiler: gcc 11.4.0

Ubuntu 24.04
	Kernel: 5.4.0-167-generic
	Compiler: gcc 13.2.0

Alpine
	Kernel: 5.4.0-167-generic
	Compiler: gcc (Alpine 13.2.1_git20231014) 13.2.1 20231014

To view detailed results, visit:
https://lab.dpdk.org/results/dashboard/patchsets/30578/

UNH-IOL DPDK Community Lab

To manage your email subscriptions, visit: 
https://lab.dpdk.org/results/dashboard/preferences/subscriptions/