From mboxrd@z Thu Jan  1 00:00:00 1970
Return-Path: <test-report-bounces@dpdk.org>
Received: from mails.dpdk.org (mails.dpdk.org [217.70.189.124])
	by inbox.dpdk.org (Postfix) with ESMTP id 8F6F54568B
	for <public@inbox.dpdk.org>; Tue, 23 Jul 2024 06:05:38 +0200 (CEST)
Received: from mails.dpdk.org (localhost [127.0.0.1])
	by mails.dpdk.org (Postfix) with ESMTP id 526B5402D3;
	Tue, 23 Jul 2024 06:05:38 +0200 (CEST)
Received: from mail-vk1-f225.google.com (mail-vk1-f225.google.com
 [209.85.221.225])
 by mails.dpdk.org (Postfix) with ESMTP id 3DDA640289
 for <test-report@dpdk.org>; Tue, 23 Jul 2024 06:05:37 +0200 (CEST)
Received: by mail-vk1-f225.google.com with SMTP id
 71dfb90a1353d-4f51c218396so803484e0c.3
 for <test-report@dpdk.org>; Mon, 22 Jul 2024 21:05:37 -0700 (PDT)
DKIM-Signature: v=1; a=rsa-sha256; c=relaxed/relaxed;
 d=iol.unh.edu; s=unh-iol; t=1721707536; x=1722312336; darn=dpdk.org;
 h=references:in-reply-to:cc:to:from:subject:message-id:date:from:to
 :cc:subject:date:message-id:reply-to;
 bh=QF3/YqjDxJCE8LENU5w0vD2/5SOnv067awMzS3v+kWM=;
 b=OZGYEDc0In4Gw3IjBRiluGxt5MY0i/zyc4Ne7eraGkwrqgfEda19juOiNhS0g2wCUu
 2qHfb5RiOJnjdKqwHaR8YOSKAP+GTvwRIvypVUf90wKF4C3nxpZzVPNEJs+/M3YaNoDa
 1ogU87RdEg2OiPDd3BzD4aMPm7/hWIKmLHfL0=
X-Google-DKIM-Signature: v=1; a=rsa-sha256; c=relaxed/relaxed;
 d=1e100.net; s=20230601; t=1721707536; x=1722312336;
 h=references:in-reply-to:cc:to:from:subject:message-id:date
 :x-gm-message-state:from:to:cc:subject:date:message-id:reply-to;
 bh=QF3/YqjDxJCE8LENU5w0vD2/5SOnv067awMzS3v+kWM=;
 b=OTj7Ndj+T0wwaHQMaPubf5Tt7EhTSzzDSiKYwjUdlSSb3KlPMQ6J3gypwd6+oM57bc
 TwjvcKjyj/+pVH5tUaqPOUIWeS+SNFbP58LMpDzk8NImHqU5VPdjrSkRq6D330ThmXn5
 ncsCTquEYBU3f/k6Mm8HQ2wwnHcyPdGFmiHU0o56DSerzuNG/RN2vgr1Ri5eAt4UPsEc
 CnJqlysp2P1QowuA3gl9Hx8VJ+BK52vFBnityPYvR+FYxkwPi1rElA43ikW+rJPy/GTF
 CA7A1S4XiU5eHapVDFElSpPA3zNurm/lUtWp3zVdHvTW+NbEuCkb8w17FbiyF6M/jr7n
 q7JA==
X-Gm-Message-State: AOJu0YxInpgChk4tW91YpeRj6ejbScIQTWh29XiGtev1dsXAly9m+OFs
 1Z1gXnM72wwgMbnsOb5MAe6zJnr1JB2rrhS57usAmIlwxvANSbT4+ZQBhYZJLyjZLh6nBVYxPpM
 v5eFDrQwx+dc0mNLbMplx4+6Lg15Tr1RN9MYHnw0t
X-Google-Smtp-Source: AGHT+IGrjqvVcYw3+U48NAtCepXoBRzH66XCx2fNyyPoWANkY90TOF4y60EldXrfCeQOAWddMvUXeiflPbMF
X-Received: by 2002:a05:6122:7d1:b0:4ef:6870:ff5 with SMTP id
 71dfb90a1353d-4f50667e6d8mr10045689e0c.5.1721707536439; 
 Mon, 22 Jul 2024 21:05:36 -0700 (PDT)
Received: from postal.iol.unh.edu (postal.iol.unh.edu. [132.177.123.84])
 by smtp-relay.gmail.com with ESMTPS id
 71dfb90a1353d-4f4fa004e1csm556430e0c.11.2024.07.22.21.05.36
 (version=TLS1_2 cipher=ECDHE-ECDSA-AES128-GCM-SHA256 bits=128/128);
 Mon, 22 Jul 2024 21:05:36 -0700 (PDT)
X-Relaying-Domain: iol.unh.edu
Date: Mon, 22 Jul 2024 21:05:36 -0700 (PDT)
Message-ID: <669f2c10.050a0220.57e51.daa8SMTPIN_ADDED_MISSING@mx.google.com>
Received: from [172.21.0.6] (unknown [172.18.0.240])
 by postal.iol.unh.edu (Postfix) with ESMTP id 1DD3E605C351;
 Tue, 23 Jul 2024 00:05:36 -0400 (EDT)
Subject: |SUCCESS| pw142620-142649 [PATCH] [v3,30/30] bus/dpaa: add port bmi 
From: dpdklab@iol.unh.edu
To: Test Report <test-report@dpdk.org>
Cc: dpdk-test-reports@iol.unh.edu
In-Reply-To: <20240722163930.2171568-31-g.singh@nxp.com>
References: <20240722163930.2171568-31-g.singh@nxp.com>
Content-Type: text/plain
X-BeenThere: test-report@dpdk.org
X-Mailman-Version: 2.1.29
Precedence: list
List-Id: automatic DPDK test reports <test-report.dpdk.org>
List-Unsubscribe: <https://mails.dpdk.org/options/test-report>,
 <mailto:test-report-request@dpdk.org?subject=unsubscribe>
List-Archive: <http://mails.dpdk.org/archives/test-report/>
List-Post: <mailto:test-report@dpdk.org>
List-Help: <mailto:test-report-request@dpdk.org?subject=help>
List-Subscribe: <https://mails.dpdk.org/listinfo/test-report>,
 <mailto:test-report-request@dpdk.org?subject=subscribe>
Errors-To: test-report-bounces@dpdk.org

Test-Label: iol-compile-amd64-testing
Test-Status: SUCCESS
http://dpdk.org/patch/142649

_Testing PASS_

Submitter: Gagandeep Singh <g.singh@nxp.com>
Date: Monday, July 22 2024 16:39:30 
DPDK git baseline: Repo:dpdk
  Branch: master
  CommitID:4fe08bab4bc71f1c04854f764bae98927c2b6fe1

142620-142649 --> testing pass

Upstream job id: Windows-Compile-DPDK-Mingw64#20928

Test environment and result as below:

+---------------------+--------------------+----------------------+
|     Environment     | dpdk_meson_compile | dpdk_mingw64_compile |
+=====================+====================+======================+
| Windows Server 2019 | PASS               | PASS                 |
+---------------------+--------------------+----------------------+
| Windows Server 2022 | PASS               | PASS                 |
+---------------------+--------------------+----------------------+
| FreeBSD 13.3        | PASS               | SKIPPED              |
+---------------------+--------------------+----------------------+
| FreeBSD 14.1        | PASS               | SKIPPED              |
+---------------------+--------------------+----------------------+


Windows Server 2019
	Kernel: 10.0.17763
	Compiler: clang 14.0 and gcc 8.1.0 (MinGW)

Windows Server 2022
	Kernel: 10.0.20348.2031
	Compiler: clang 15.0.7, gcc 8.1.0 (MinGW), and MSVC VS 17.9

FreeBSD 13.3
	Kernel: 13.3-RELEASE-p1
	Compiler: clang 17.0.6

FreeBSD 14.1
	Kernel: 14.1
	Compiler: clang 18.1.5

To view detailed results, visit:
https://lab.dpdk.org/results/dashboard/patchsets/30582/

UNH-IOL DPDK Community Lab

To manage your email subscriptions, visit: 
https://lab.dpdk.org/results/dashboard/preferences/subscriptions/