From mboxrd@z Thu Jan  1 00:00:00 1970
Return-Path: <test-report-bounces@dpdk.org>
Received: from mails.dpdk.org (mails.dpdk.org [217.70.189.124])
	by inbox.dpdk.org (Postfix) with ESMTP id 6C2BA4568B
	for <public@inbox.dpdk.org>; Tue, 23 Jul 2024 07:09:53 +0200 (CEST)
Received: from mails.dpdk.org (localhost [127.0.0.1])
	by mails.dpdk.org (Postfix) with ESMTP id 5E5BB40E34;
	Tue, 23 Jul 2024 07:09:53 +0200 (CEST)
Received: from mail-yw1-f227.google.com (mail-yw1-f227.google.com
 [209.85.128.227])
 by mails.dpdk.org (Postfix) with ESMTP id 9E7FF40289
 for <test-report@dpdk.org>; Tue, 23 Jul 2024 07:09:29 +0200 (CEST)
Received: by mail-yw1-f227.google.com with SMTP id
 00721157ae682-66acac24443so29190657b3.1
 for <test-report@dpdk.org>; Mon, 22 Jul 2024 22:09:29 -0700 (PDT)
DKIM-Signature: v=1; a=rsa-sha256; c=relaxed/relaxed;
 d=iol.unh.edu; s=unh-iol; t=1721711369; x=1722316169; darn=dpdk.org;
 h=references:in-reply-to:cc:to:from:subject:message-id:date:from:to
 :cc:subject:date:message-id:reply-to;
 bh=dhsT/LN4BpceKy8ENpTnJ3zs/Q/zvltg9flSgdMhc58=;
 b=hEdna7oCBNcbnhLTXm1NeLNd2FSMKgFTNamGEgg43+5s5WgElHpg5YL0qMflY/XNQf
 iztmA+BKyt1zVEPKQEv0zI9YdS6Q87wHWf/MXoVtlFspJbkiF0rZ7oiBBDUmm6nuNT6S
 hl/BWw4qkh0ApVlx6QKkC18mlih/YaYKpUXFs=
X-Google-DKIM-Signature: v=1; a=rsa-sha256; c=relaxed/relaxed;
 d=1e100.net; s=20230601; t=1721711369; x=1722316169;
 h=references:in-reply-to:cc:to:from:subject:message-id:date
 :x-gm-message-state:from:to:cc:subject:date:message-id:reply-to;
 bh=dhsT/LN4BpceKy8ENpTnJ3zs/Q/zvltg9flSgdMhc58=;
 b=rjrZEzgEGcu1FdKaa7jcuXZ2Axoq1kfX3BQqcTa6guOQ9TgSPZ+g2bUIzN6xDS/3c9
 nOcG38vlbMTGMsVU/7+pdU7A7hOV+e5ukqabnRU2PSgbkRUFpo6hpHPkuSXqr8mQ6eEv
 rn932iGROqcFmbf0ZVX8lihlnjgDRtapktm0IXn3vMiGGF8rh2gCmqSe45ksaW4i/mnR
 c3nExjnLHg1KTFUqg3pB+x21Zp9zyAs2AvRdB9a/SH4M3YOACzmqNHx1ILOfEvu1TfH0
 YZAWPwqU8Qt5SMGKmamgNVWOPDjzQwoAy86ppal09EvQ1HLXe6XI33qBmQu7tkt/vS1i
 Kiiw==
X-Gm-Message-State: AOJu0YzcxVNOnf32/XCUvrA1p7vIzj44YbMfNXW0y635e+TklyDV70AJ
 eRcG3uJ4tVPIiT77Ck+ZF/20mdOSmTldnsp/ZyN+MwZQk6bJHlZ8gB0JHqof61fciiyObQPZzuT
 /ol67A602TOOsDsDeMyMKfndPH0UAYNwfi4Oim2F8
X-Google-Smtp-Source: AGHT+IHLngEK9+Z2905kFwg3e2iiPFGAkH9xnd4gCXJXGSSMvRhRDr+5wcXxUbUzv8t992/24Mpdr5Fv8cHJ
X-Received: by 2002:a05:690c:318e:b0:64a:4161:4f91 with SMTP id
 00721157ae682-66ad8cc880dmr87979307b3.14.1721711368987; 
 Mon, 22 Jul 2024 22:09:28 -0700 (PDT)
Received: from postal.iol.unh.edu (postal.iol.unh.edu. [132.177.123.84])
 by smtp-relay.gmail.com with ESMTPS id
 00721157ae682-669539de64dsm3529167b3.54.2024.07.22.22.09.28
 (version=TLS1_2 cipher=ECDHE-ECDSA-AES128-GCM-SHA256 bits=128/128);
 Mon, 22 Jul 2024 22:09:28 -0700 (PDT)
X-Relaying-Domain: iol.unh.edu
Date: Mon, 22 Jul 2024 22:09:28 -0700 (PDT)
Message-ID: <669f3b08.050a0220.27ca31.1352SMTPIN_ADDED_MISSING@mx.google.com>
Received: from [172.21.0.7] (unknown [172.18.0.240])
 by postal.iol.unh.edu (Postfix) with ESMTP id AFB11605C351;
 Tue, 23 Jul 2024 01:09:28 -0400 (EDT)
Subject: |PENDING| pw142620-142649 [PATCH] [v3,30/30] bus/dpaa: add port bmi 
From: dpdklab@iol.unh.edu
To: Test Report <test-report@dpdk.org>
Cc: dpdk-test-reports@iol.unh.edu
In-Reply-To: <20240722163930.2171568-31-g.singh@nxp.com>
References: <20240722163930.2171568-31-g.singh@nxp.com>
Content-Type: text/plain
X-BeenThere: test-report@dpdk.org
X-Mailman-Version: 2.1.29
Precedence: list
List-Id: automatic DPDK test reports <test-report.dpdk.org>
List-Unsubscribe: <https://mails.dpdk.org/options/test-report>,
 <mailto:test-report-request@dpdk.org?subject=unsubscribe>
List-Archive: <http://mails.dpdk.org/archives/test-report/>
List-Post: <mailto:test-report@dpdk.org>
List-Help: <mailto:test-report-request@dpdk.org?subject=help>
List-Subscribe: <https://mails.dpdk.org/listinfo/test-report>,
 <mailto:test-report-request@dpdk.org?subject=subscribe>
Errors-To: test-report-bounces@dpdk.org

Test-Label: iol-compile-arm64-testing
Test-Status: PENDING
http://dpdk.org/patch/142649

_Testing pending_

Submitter: Gagandeep Singh <g.singh@nxp.com>
Date: Monday, July 22 2024 16:39:30 
DPDK git baseline: Repo:dpdk
  Branch: master
  CommitID:4fe08bab4bc71f1c04854f764bae98927c2b6fe1

142620-142649 --> testing pending

Upstream job id: Generic-DPDK-Compile-Meson#278077

Test environment and result as below:

+----------------------------------------+--------------------+
|              Environment               | dpdk_meson_compile |
+========================================+====================+
| RHEL9 (ARM)                            | PASS               |
+----------------------------------------+--------------------+
| Ubuntu 20.04 ARM GCC Cross Compile     | PEND               |
+----------------------------------------+--------------------+
| Ubuntu 20.04 ARM SVE                   | PASS               |
+----------------------------------------+--------------------+
| Debian 12 with MUSDK                   | PASS               |
+----------------------------------------+--------------------+
| Fedora 37 (ARM)                        | PASS               |
+----------------------------------------+--------------------+
| Fedora 38 (ARM)                        | PASS               |
+----------------------------------------+--------------------+
| Fedora 38 (ARM Clang)                  | PEND               |
+----------------------------------------+--------------------+
| Fedora 39 (ARM)                        | PASS               |
+----------------------------------------+--------------------+
| Fedora 39 (ARM Clang)                  | PEND               |
+----------------------------------------+--------------------+
| Fedora 40 (ARM)                        | PASS               |
+----------------------------------------+--------------------+
| Fedora 40 (ARM Clang)                  | PEND               |
+----------------------------------------+--------------------+
| Ubuntu 20.04 (ARM)                     | PASS               |
+----------------------------------------+--------------------+
| Ubuntu 22.04 (ARM)                     | PASS               |
+----------------------------------------+--------------------+
| Ubuntu 24.04 (ARM)                     | PASS               |
+----------------------------------------+--------------------+
| Debian 11 (Buster) (ARM)               | PASS               |
+----------------------------------------+--------------------+
| CentOS Stream 9 (ARM)                  | PASS               |
+----------------------------------------+--------------------+
| Debian 12 (arm)                        | PASS               |
+----------------------------------------+--------------------+
| Ubuntu 20.04 ARM Clang Cross Compile   | PASS               |
+----------------------------------------+--------------------+
| Ubuntu 20.04 aarch32 GCC Cross Compile | PASS               |
+----------------------------------------+--------------------+


RHEL9 (ARM)
	Kernel: Depends on container host
	Compiler: gcc 11.4.1

Ubuntu 20.04 ARM GCC Cross Compile
	Kernel: 5.4.0-167-generic
	Compiler: aarch64-linux-gnu-gcc (Ubuntu 9.4.0-1ubuntu1~20.04.2) 9.4.0

Ubuntu 20.04 ARM SVE
	Kernel: 5.4.0-167-generic
	Compiler: gcc (Ubuntu 10.5.0-1ubuntu1~20.04) 10.5.0

Debian 12 with MUSDK
	Kernel: Container Host Kernel
	Compiler: gcc 12.2.0

Fedora 37 (ARM)
	Kernel: Depends on container host
	Compiler: gcc 12.3.1

Fedora 38 (ARM)
	Kernel: Depends on container host
	Compiler: gcc 13.2.1

Fedora 38 (ARM Clang)
	Kernel: Depends on container host
	Compiler: clang 16.0.6

Fedora 39 (ARM)
	Kernel: Depends on container host
	Compiler: gcc 13.2.1

Fedora 39 (ARM Clang)
	Kernel: Depends on container host
	Compiler: clang 17.0.6

Fedora 40 (ARM)
	Kernel: Depends on container host
	Compiler: gcc 14.1.1

Fedora 40 (ARM Clang)
	Kernel: Depends on container host
	Compiler: clang 18.1.6

Ubuntu 20.04 (ARM)
	Kernel: Container Host Kernel
	Compiler: gcc 9.4.0

Ubuntu 22.04 (ARM)
	Kernel: Container Host Kernel
	Compiler: gcc 11.4.0

Ubuntu 24.04 (ARM)
	Kernel: 5.4.0-167-generic
	Compiler: gcc 13.2.0

Debian 11 (Buster) (ARM)
	Kernel: Container Host Kernel
	Compiler: gcc 10.2.1

CentOS Stream 9 (ARM)
	Kernel: Container Host Kernel
	Compiler: gcc 11.4.1

Debian 12 (arm)
	Kernel: Container Host Kernel
	Compiler: gcc 12.2.0

Ubuntu 20.04 ARM Clang Cross Compile
	Kernel: 5.4.0-72-generic
	Compiler: clang 10.0.0-4ubuntu1

Ubuntu 20.04 aarch32 GCC Cross Compile
	Kernel: 5.4.0-167-generic
	Compiler: gcc 9.4.0

To view detailed results, visit:
https://lab.dpdk.org/results/dashboard/patchsets/30582/

UNH-IOL DPDK Community Lab

To manage your email subscriptions, visit: 
https://lab.dpdk.org/results/dashboard/preferences/subscriptions/