From mboxrd@z Thu Jan  1 00:00:00 1970
Return-Path: <test-report-bounces@dpdk.org>
Received: from mails.dpdk.org (mails.dpdk.org [217.70.189.124])
	by inbox.dpdk.org (Postfix) with ESMTP id 38D184568D
	for <public@inbox.dpdk.org>; Tue, 23 Jul 2024 09:13:25 +0200 (CEST)
Received: from mails.dpdk.org (localhost [127.0.0.1])
	by mails.dpdk.org (Postfix) with ESMTP id 33A21410EA;
	Tue, 23 Jul 2024 09:13:25 +0200 (CEST)
Received: from mail-pl1-f226.google.com (mail-pl1-f226.google.com
 [209.85.214.226])
 by mails.dpdk.org (Postfix) with ESMTP id 3A37540289
 for <test-report@dpdk.org>; Tue, 23 Jul 2024 08:44:50 +0200 (CEST)
Received: by mail-pl1-f226.google.com with SMTP id
 d9443c01a7336-1fd69e44596so3732165ad.1
 for <test-report@dpdk.org>; Mon, 22 Jul 2024 23:44:50 -0700 (PDT)
DKIM-Signature: v=1; a=rsa-sha256; c=relaxed/relaxed;
 d=iol.unh.edu; s=unh-iol; t=1721717089; x=1722321889; darn=dpdk.org;
 h=references:in-reply-to:cc:to:from:subject:message-id:date:from:to
 :cc:subject:date:message-id:reply-to;
 bh=Ia10IrN+/bhi19kxjIRjTcg9SuB5bto/ZentB6Lg/Aw=;
 b=Cz0xlkalgolJRBm/M1AJ6azvX+pnFtM6vsGPG3/h6EHuKhGArZeSeEa+lX4Ee9HJJA
 2S24FClA6zyBCJizf2tNhRRGX9b9uGy9EWOtCXdmizjrbesa3BBurxxX7YpggOkxosEW
 pR69/g8f4il/5RYMl43IwYKlcPi5WGkwLYz1U=
X-Google-DKIM-Signature: v=1; a=rsa-sha256; c=relaxed/relaxed;
 d=1e100.net; s=20230601; t=1721717089; x=1722321889;
 h=references:in-reply-to:cc:to:from:subject:message-id:date
 :x-gm-message-state:from:to:cc:subject:date:message-id:reply-to;
 bh=Ia10IrN+/bhi19kxjIRjTcg9SuB5bto/ZentB6Lg/Aw=;
 b=pCEVJR1Wtx86enpdu6WTi0ZTRpwUO1CiR9ln6l9uv4NOy7D6ZN/guyQgYRfwHnaIHH
 gJjp6HPYsz5ePQahWzB2XJfK+FDQwXQ51V6XBf1uZJ9HsbsI+rxIQSlBArW4dliBdRgb
 vX4bqQgS+g6JNf0dLpPdqYaesIKE2/3fPCU2oK1YlhVFthrZC+rlgy4a6mWTrP0qLNq1
 SEqshbpT0mLvcBRJUg+oHNOrWzYKDqvEMIO2/CQ71A+C/BfbLMG13NaPar1ZoKJtlQzl
 fmvLGRm7Opbs4HoRhxYT1gjEdIxVarzalXTckyh2mCXQo2kw65sASD0PbhuSF18SP44R
 mfsA==
X-Gm-Message-State: AOJu0YwtuVX+wCLlZnShMj8bQkB7rZ4u17GasjKZ2hxfcdygiGEuzqk8
 4S5sIWDRL/BZYXIbvhTtfjF5qmgYGo8Ps4FV854Q3xSGEdR4Qs42uecY13QFgddrLagXUSPDlA8
 RUcv5eymtEm9c+X292w3ZJSs32ISDp/DiuFi6ALzK
X-Google-Smtp-Source: AGHT+IHA1NtmFPW+cKvC0Qj3u+V2L2jO2ERI9W+BU0pnWY5Jx9i4s9Ri3VhBmXpgZ6rnqGL4c+nF83TvVRlN
X-Received: by 2002:a17:902:d509:b0:1fc:4acb:3670 with SMTP id
 d9443c01a7336-1fdb95128e9mr16731315ad.12.1721717089403; 
 Mon, 22 Jul 2024 23:44:49 -0700 (PDT)
Received: from postal.iol.unh.edu (postal.iol.unh.edu. [132.177.123.84])
 by smtp-relay.gmail.com with ESMTPS id
 d9443c01a7336-1fd6f26029dsm3002915ad.49.2024.07.22.23.44.49
 (version=TLS1_2 cipher=ECDHE-ECDSA-AES128-GCM-SHA256 bits=128/128);
 Mon, 22 Jul 2024 23:44:49 -0700 (PDT)
X-Relaying-Domain: iol.unh.edu
Date: Mon, 22 Jul 2024 23:44:49 -0700 (PDT)
Message-ID: <669f5161.170a0220.b5d53.eda6SMTPIN_ADDED_MISSING@mx.google.com>
Received: from [172.21.0.6] (unknown [172.18.0.240])
 by postal.iol.unh.edu (Postfix) with ESMTP id 8C917605C351;
 Tue, 23 Jul 2024 02:44:48 -0400 (EDT)
Subject: |PENDING| pw142652-142654 [PATCH] [v2,3/3] test-pmd: add more packet
From: dpdklab@iol.unh.edu
To: Test Report <test-report@dpdk.org>
Cc: dpdk-test-reports@iol.unh.edu
In-Reply-To: <20240723024537.980016-4-stephen@networkplumber.org>
References: <20240723024537.980016-4-stephen@networkplumber.org>
Content-Type: text/plain
X-BeenThere: test-report@dpdk.org
X-Mailman-Version: 2.1.29
Precedence: list
List-Id: automatic DPDK test reports <test-report.dpdk.org>
List-Unsubscribe: <https://mails.dpdk.org/options/test-report>,
 <mailto:test-report-request@dpdk.org?subject=unsubscribe>
List-Archive: <http://mails.dpdk.org/archives/test-report/>
List-Post: <mailto:test-report@dpdk.org>
List-Help: <mailto:test-report-request@dpdk.org?subject=help>
List-Subscribe: <https://mails.dpdk.org/listinfo/test-report>,
 <mailto:test-report-request@dpdk.org?subject=subscribe>
Errors-To: test-report-bounces@dpdk.org

Test-Label: iol-abi-testing
Test-Status: PENDING
http://dpdk.org/patch/142654

_Testing pending_

Submitter: Stephen Hemminger <stephen@networkplumber.org>
Date: Tuesday, July 23 2024 02:44:12 
DPDK git baseline: Repo:dpdk
  Branch: master
  CommitID:82baecc069d9247c6890677d84481c1cdff84ecb

142652-142654 --> testing pending

Upstream job id: Generic-DPDK-Compile-ABI#99893

Test environment and result as below:

+-------------------+----------+
|    Environment    | abi_test |
+===================+==========+
| RHEL9             | PASS     |
+-------------------+----------+
| CentOS Stream 9   | PASS     |
+-------------------+----------+
| Ubuntu 22.04      | PASS     |
+-------------------+----------+
| CentOS Stream 8   | PASS     |
+-------------------+----------+
| Debian 12         | PASS     |
+-------------------+----------+
| Fedora 37         | PASS     |
+-------------------+----------+
| Fedora 38 (Clang) | PASS     |
+-------------------+----------+
| Fedora 40 (Clang) | PASS     |
+-------------------+----------+
| Fedora 39 (Clang) | PASS     |
+-------------------+----------+
| Fedora 39         | PASS     |
+-------------------+----------+
| Fedora 38         | PASS     |
+-------------------+----------+
| RHEL8             | PASS     |
+-------------------+----------+
| openSUSE Leap 15  | PASS     |
+-------------------+----------+
| Fedora 40         | PEND     |
+-------------------+----------+
| Ubuntu 24.04      | PEND     |
+-------------------+----------+
| Debian Bullseye   | PEND     |
+-------------------+----------+


RHEL9
	Kernel: Depends on container host
	Compiler: gcc 11.4.1

CentOS Stream 9
	Kernel: 5.4.0-167-generic
	Compiler: gcc 11.4.1 20230605

Ubuntu 22.04
	Kernel: 5.4.0-167-generic
	Compiler: gcc 11.4.0

CentOS Stream 8
	Kernel: 5.4.0-167-generic
	Compiler: gcc 8.5.0 20210514

Debian 12
	Kernel: Container Host Kernel
	Compiler: gcc 12.2.0

Fedora 37
	Kernel: Depends on container host system
	Compiler: gcc 12.3.1

Fedora 38 (Clang)
	Kernel: Depends on container host
	Compiler: clang 16.0.6

Fedora 40 (Clang)
	Kernel: Depends on container host
	Compiler: clang 18.1.6

Fedora 39 (Clang)
	Kernel: Depends on container host
	Compiler: clang 17.0.6

Fedora 39
	Kernel: Depends on container host
	Compiler: gcc 13.2.1

Fedora 38
	Kernel: Depends on container host
	Compiler: gcc 13.2.1

RHEL8
	Kernel: 5.4.0-167-generic
	Compiler: gcc 8.5.0 20210514 (Red Hat 8.5.0-20)

openSUSE Leap 15
	Kernel: 5.4.0-167-generic
	Compiler: gcc 7.5.0

Fedora 40
	Kernel: Depends on container host
	Compiler: gcc 14.1.1

Ubuntu 24.04
	Kernel: 5.4.0-167-generic
	Compiler: gcc 13.2.0

Debian Bullseye
	Kernel: 5.4.0-167-generic
	Compiler: gcc 10.2.1-6

To view detailed results, visit:
https://lab.dpdk.org/results/dashboard/patchsets/30585/

UNH-IOL DPDK Community Lab

To manage your email subscriptions, visit: 
https://lab.dpdk.org/results/dashboard/preferences/subscriptions/