From mboxrd@z Thu Jan  1 00:00:00 1970
Return-Path: <test-report-bounces@dpdk.org>
Received: from mails.dpdk.org (mails.dpdk.org [217.70.189.124])
	by inbox.dpdk.org (Postfix) with ESMTP id F171B4568F
	for <public@inbox.dpdk.org>; Tue, 23 Jul 2024 10:31:21 +0200 (CEST)
Received: from mails.dpdk.org (localhost [127.0.0.1])
	by mails.dpdk.org (Postfix) with ESMTP id 7C11D410FB;
	Tue, 23 Jul 2024 10:31:12 +0200 (CEST)
Received: from mail-pl1-f228.google.com (mail-pl1-f228.google.com
 [209.85.214.228])
 by mails.dpdk.org (Postfix) with ESMTP id 0FB8740E22
 for <test-report@dpdk.org>; Tue, 23 Jul 2024 09:41:28 +0200 (CEST)
Received: by mail-pl1-f228.google.com with SMTP id
 d9443c01a7336-1fd66cddd4dso4520035ad.2
 for <test-report@dpdk.org>; Tue, 23 Jul 2024 00:41:27 -0700 (PDT)
DKIM-Signature: v=1; a=rsa-sha256; c=relaxed/relaxed;
 d=iol.unh.edu; s=unh-iol; t=1721720487; x=1722325287; darn=dpdk.org;
 h=references:in-reply-to:cc:to:from:subject:message-id:date:from:to
 :cc:subject:date:message-id:reply-to;
 bh=ivdAhuq3BZMlAOye+J8os7WNwYaSNP52dlmtVm/6cSY=;
 b=SMfMt3lTDcL3AdGv6PjCpW6GxGSP3S6VODD0dO9LhQ5/tW6q9TCrvCySFTdjNT3GPf
 cXSd39MHvDJnORYPbE0P7f1IOLM9CimlvQF6uqHuNf6ZJd6bAlCF45+cqSuCnjuCF03Y
 4I8wg05RdTysKf8ybAgOH3a3CoLG4OXuUgz/w=
X-Google-DKIM-Signature: v=1; a=rsa-sha256; c=relaxed/relaxed;
 d=1e100.net; s=20230601; t=1721720487; x=1722325287;
 h=references:in-reply-to:cc:to:from:subject:message-id:date
 :x-gm-message-state:from:to:cc:subject:date:message-id:reply-to;
 bh=ivdAhuq3BZMlAOye+J8os7WNwYaSNP52dlmtVm/6cSY=;
 b=f2ZkXhK3pfDYSxh4mHHx9A9VJDqTvDjI1K8jYVe5NGmdWanDIdLCexS9nTHOy8MfY/
 wqUrdSxKxk7NQP17LuFOkwofbRdzIfm/3fNUiJ6vqzfQ3+d2ENMgxvYHTf23K3tCBVe+
 HBCULh0EZtcl1g+P4E6G/VOV5FgflIj3WfIBFKSO0s5jiBz/bhjCl7ZGgpXkKpfDJKKs
 /+DPGxYJZuskAxLku5aOEHPcqwve8Bkp9dGKQjIS2hhRvE6wn0waIoO/yRxaV2naWQ22
 fjpSEr0fMugruEWesK0Fzs8aYShXXLSR8zh9IpnLwkHvvFQF7fbMSxaCA9JGcnbYj2j6
 WYjA==
X-Gm-Message-State: AOJu0YzCjiU5iRdHN5ZK37hQqm6qLd+XXCgRLar+JmhQ+Xr3zA9BSdJB
 E82fTc/rC2Fg56PlgvvFWk0SO97QUpicK+bXxjNBlf4QiC5QlsDYHG8B7ierwrBI7PkGGtubKn+
 FtYNi//HePFPVWSYtvh5ZtVZtAsBa5mAtU1D4o4iX
X-Google-Smtp-Source: AGHT+IEnlnF3hSIfJ1JG/hmCcdyZ4UBBiXMzZECOilLunBMi/jYSkGREWXU9uV32CoLA1SOG67RC+4UO9+Hw
X-Received: by 2002:a17:902:e5c9:b0:1fb:44e1:b5d6 with SMTP id
 d9443c01a7336-1fdb5f6a99emr23301215ad.23.1721720487175; 
 Tue, 23 Jul 2024 00:41:27 -0700 (PDT)
Received: from postal.iol.unh.edu (postal.iol.unh.edu. [132.177.123.84])
 by smtp-relay.gmail.com with ESMTPS id
 d9443c01a7336-1fd6f244c37sm3185185ad.8.2024.07.23.00.41.27
 (version=TLS1_2 cipher=ECDHE-ECDSA-AES128-GCM-SHA256 bits=128/128);
 Tue, 23 Jul 2024 00:41:27 -0700 (PDT)
X-Relaying-Domain: iol.unh.edu
Date: Tue, 23 Jul 2024 00:41:27 -0700 (PDT)
Message-ID: <669f5ea7.170a0220.20a66f.0244SMTPIN_ADDED_MISSING@mx.google.com>
Received: from [172.21.0.6] (unknown [172.18.0.240])
 by postal.iol.unh.edu (Postfix) with ESMTP id A4D1B60524C8;
 Tue, 23 Jul 2024 03:41:26 -0400 (EDT)
Subject: |PENDING| pw142652-142654 [PATCH] [v2,3/3] test-pmd: add more packet
From: dpdklab@iol.unh.edu
To: Test Report <test-report@dpdk.org>
Cc: dpdk-test-reports@iol.unh.edu
In-Reply-To: <20240723024537.980016-4-stephen@networkplumber.org>
References: <20240723024537.980016-4-stephen@networkplumber.org>
Content-Type: text/plain
X-BeenThere: test-report@dpdk.org
X-Mailman-Version: 2.1.29
Precedence: list
List-Id: automatic DPDK test reports <test-report.dpdk.org>
List-Unsubscribe: <https://mails.dpdk.org/options/test-report>,
 <mailto:test-report-request@dpdk.org?subject=unsubscribe>
List-Archive: <http://mails.dpdk.org/archives/test-report/>
List-Post: <mailto:test-report@dpdk.org>
List-Help: <mailto:test-report-request@dpdk.org?subject=help>
List-Subscribe: <https://mails.dpdk.org/listinfo/test-report>,
 <mailto:test-report-request@dpdk.org?subject=subscribe>
Errors-To: test-report-bounces@dpdk.org

Test-Label: iol-compile-arm64-testing
Test-Status: PENDING
http://dpdk.org/patch/142654

_Testing pending_

Submitter: Stephen Hemminger <stephen@networkplumber.org>
Date: Tuesday, July 23 2024 02:44:12 
DPDK git baseline: Repo:dpdk
  Branch: master
  CommitID:82baecc069d9247c6890677d84481c1cdff84ecb

142652-142654 --> testing pending

Upstream job id: Generic-DPDK-Compile-Meson#278220

Test environment and result as below:

+----------------------------------------+--------------------+
|              Environment               | dpdk_meson_compile |
+========================================+====================+
| RHEL9 (ARM)                            | PASS               |
+----------------------------------------+--------------------+
| Ubuntu 20.04 ARM GCC Cross Compile     | PEND               |
+----------------------------------------+--------------------+
| Ubuntu 20.04 ARM SVE                   | PASS               |
+----------------------------------------+--------------------+
| Debian 12 with MUSDK                   | PASS               |
+----------------------------------------+--------------------+
| Fedora 37 (ARM)                        | PASS               |
+----------------------------------------+--------------------+
| Fedora 39 (ARM)                        | PASS               |
+----------------------------------------+--------------------+
| Fedora 38 (ARM)                        | PASS               |
+----------------------------------------+--------------------+
| Ubuntu 22.04 (ARM)                     | PASS               |
+----------------------------------------+--------------------+
| Fedora 40 (ARM Clang)                  | PEND               |
+----------------------------------------+--------------------+
| Fedora 39 (ARM Clang)                  | PEND               |
+----------------------------------------+--------------------+
| Fedora 40 (ARM)                        | PASS               |
+----------------------------------------+--------------------+
| Ubuntu 24.04 (ARM)                     | PASS               |
+----------------------------------------+--------------------+
| Debian 11 (Buster) (ARM)               | PASS               |
+----------------------------------------+--------------------+
| CentOS Stream 9 (ARM)                  | PASS               |
+----------------------------------------+--------------------+
| Ubuntu 20.04 ARM Clang Cross Compile   | PEND               |
+----------------------------------------+--------------------+
| Ubuntu 20.04 aarch32 GCC Cross Compile | PEND               |
+----------------------------------------+--------------------+


RHEL9 (ARM)
	Kernel: Depends on container host
	Compiler: gcc 11.4.1

Ubuntu 20.04 ARM GCC Cross Compile
	Kernel: 5.4.0-167-generic
	Compiler: aarch64-linux-gnu-gcc (Ubuntu 9.4.0-1ubuntu1~20.04.2) 9.4.0

Ubuntu 20.04 ARM SVE
	Kernel: 5.4.0-167-generic
	Compiler: gcc (Ubuntu 10.5.0-1ubuntu1~20.04) 10.5.0

Debian 12 with MUSDK
	Kernel: Container Host Kernel
	Compiler: gcc 12.2.0

Fedora 37 (ARM)
	Kernel: Depends on container host
	Compiler: gcc 12.3.1

Fedora 39 (ARM)
	Kernel: Depends on container host
	Compiler: gcc 13.2.1

Fedora 38 (ARM)
	Kernel: Depends on container host
	Compiler: gcc 13.2.1

Ubuntu 22.04 (ARM)
	Kernel: Container Host Kernel
	Compiler: gcc 11.4.0

Fedora 40 (ARM Clang)
	Kernel: Depends on container host
	Compiler: clang 18.1.6

Fedora 39 (ARM Clang)
	Kernel: Depends on container host
	Compiler: clang 17.0.6

Fedora 40 (ARM)
	Kernel: Depends on container host
	Compiler: gcc 14.1.1

Ubuntu 24.04 (ARM)
	Kernel: 5.4.0-167-generic
	Compiler: gcc 13.2.0

Debian 11 (Buster) (ARM)
	Kernel: Container Host Kernel
	Compiler: gcc 10.2.1

CentOS Stream 9 (ARM)
	Kernel: Container Host Kernel
	Compiler: gcc 11.4.1

Ubuntu 20.04 ARM Clang Cross Compile
	Kernel: 5.4.0-72-generic
	Compiler: clang 10.0.0-4ubuntu1

Ubuntu 20.04 aarch32 GCC Cross Compile
	Kernel: 5.4.0-167-generic
	Compiler: gcc 9.4.0

To view detailed results, visit:
https://lab.dpdk.org/results/dashboard/patchsets/30585/

UNH-IOL DPDK Community Lab

To manage your email subscriptions, visit: 
https://lab.dpdk.org/results/dashboard/preferences/subscriptions/