From mboxrd@z Thu Jan  1 00:00:00 1970
Return-Path: <test-report-bounces@dpdk.org>
Received: from mails.dpdk.org (mails.dpdk.org [217.70.189.124])
	by inbox.dpdk.org (Postfix) with ESMTP id F2E144568F
	for <public@inbox.dpdk.org>; Tue, 23 Jul 2024 10:31:22 +0200 (CEST)
Received: from mails.dpdk.org (localhost [127.0.0.1])
	by mails.dpdk.org (Postfix) with ESMTP id 9B6DB41132;
	Tue, 23 Jul 2024 10:31:12 +0200 (CEST)
Received: from mail-yw1-f228.google.com (mail-yw1-f228.google.com
 [209.85.128.228])
 by mails.dpdk.org (Postfix) with ESMTP id 0B36D40150
 for <test-report@dpdk.org>; Tue, 23 Jul 2024 09:42:28 +0200 (CEST)
Received: by mail-yw1-f228.google.com with SMTP id
 00721157ae682-65f9708c50dso51609317b3.2
 for <test-report@dpdk.org>; Tue, 23 Jul 2024 00:42:27 -0700 (PDT)
DKIM-Signature: v=1; a=rsa-sha256; c=relaxed/relaxed;
 d=iol.unh.edu; s=unh-iol; t=1721720547; x=1722325347; darn=dpdk.org;
 h=references:in-reply-to:cc:to:from:subject:message-id:date:from:to
 :cc:subject:date:message-id:reply-to;
 bh=1455iTxhgtoD5Oi7hXN2qrkqJ/u37tdtoPgtqBQqWh8=;
 b=BcKYU05gDisAhANOHzAqLOp1IQLwZs/By+diIuC4HJLBx4oHTGPfxRlS9NnLp755fL
 LPXUlGX0UaUxXfvDA5BnD1wXCZPvy0Ihuaueo93Owe4bu7JEURIFJjeyFNSX3gFXnIZ5
 g+pWf9iVhPGik/HZYIyPjuzedFDrZHXTBvZVI=
X-Google-DKIM-Signature: v=1; a=rsa-sha256; c=relaxed/relaxed;
 d=1e100.net; s=20230601; t=1721720547; x=1722325347;
 h=references:in-reply-to:cc:to:from:subject:message-id:date
 :x-gm-message-state:from:to:cc:subject:date:message-id:reply-to;
 bh=1455iTxhgtoD5Oi7hXN2qrkqJ/u37tdtoPgtqBQqWh8=;
 b=xE5LdkqxWFpTEbD8Hzm4K4413pawoybTWfUw/1OqNwUTJ7+SuZ9WQIZlf+Nk1pRosX
 vcV/yU/OXwB/uSTWrhHrnsJwqr3arV+idJHOo0GlLgxQSKYAd0KnIdNgpd5LOUrz3zlT
 bds5kd8jgcrtNxwlRWb7QxY3l3WP/j7oOiwaxvFsRUhBjVFomz/zev2W90LwmombGN/z
 hWwF1Iv+8GQYaExsJQiRdaLsTlO76BPQ0n07kMJyZ+DHie2NhOKbGs9mV4a8ohXUfbId
 rTJx/TWSspcCEsLhY4NIUOLY2LZhDue7JolpPiMy/CFb8UuVm6SXdGhcqcVDo6WGhLfi
 syVQ==
X-Gm-Message-State: AOJu0Yx3CyIeLZjAfyVvPbrLUl9rGNpdqklsMUwVAED6VbW7EJajvjKE
 aSKTFG0JA95kiBOfSUPDFakz6eNDYpDAlGZnMJQIZoXJWkDiLPi/wXsgz7dZR774ks5nDePC2K7
 4Enq3gcYIWXDlQ7IflgyAYPez590uaZZUUCU/sqwcU2wMwPmhvt7Vgtyc
X-Google-Smtp-Source: AGHT+IFOmepGPcoXW6JnQZ2zgUDn3XAQd2ynwT3xIhbpOMbWiuByS8kDWEQOny9ZcSHkcww19JfzKeKrFq23
X-Received: by 2002:a0d:fb44:0:b0:631:3c7c:f766 with SMTP id
 00721157ae682-66e4d8f34ecmr26073307b3.34.1721720547049; 
 Tue, 23 Jul 2024 00:42:27 -0700 (PDT)
Received: from postal.iol.unh.edu (postal.iol.unh.edu.
 [2606:4100:3880:1234::84]) by smtp-relay.gmail.com with ESMTPS id
 00721157ae682-66953fbb75esm3579507b3.72.2024.07.23.00.42.26
 (version=TLS1_2 cipher=ECDHE-ECDSA-AES128-GCM-SHA256 bits=128/128);
 Tue, 23 Jul 2024 00:42:27 -0700 (PDT)
X-Relaying-Domain: iol.unh.edu
Date: Tue, 23 Jul 2024 00:42:27 -0700 (PDT)
Message-ID: <669f5ee3.050a0220.4c4bc.0f98SMTPIN_ADDED_MISSING@mx.google.com>
Received: from [172.21.0.7] (unknown [172.18.0.240])
 by postal.iol.unh.edu (Postfix) with ESMTP id 829FF60524C8;
 Tue, 23 Jul 2024 03:42:26 -0400 (EDT)
Subject: |PENDING| pw142652-142654 [PATCH] [v2,3/3] test-pmd: add more packet
From: dpdklab@iol.unh.edu
To: Test Report <test-report@dpdk.org>
Cc: dpdk-test-reports@iol.unh.edu
In-Reply-To: <20240723024537.980016-4-stephen@networkplumber.org>
References: <20240723024537.980016-4-stephen@networkplumber.org>
Content-Type: text/plain
X-BeenThere: test-report@dpdk.org
X-Mailman-Version: 2.1.29
Precedence: list
List-Id: automatic DPDK test reports <test-report.dpdk.org>
List-Unsubscribe: <https://mails.dpdk.org/options/test-report>,
 <mailto:test-report-request@dpdk.org?subject=unsubscribe>
List-Archive: <http://mails.dpdk.org/archives/test-report/>
List-Post: <mailto:test-report@dpdk.org>
List-Help: <mailto:test-report-request@dpdk.org?subject=help>
List-Subscribe: <https://mails.dpdk.org/listinfo/test-report>,
 <mailto:test-report-request@dpdk.org?subject=subscribe>
Errors-To: test-report-bounces@dpdk.org

Test-Label: iol-compile-arm64-testing
Test-Status: PENDING
http://dpdk.org/patch/142654

_Testing pending_

Submitter: Stephen Hemminger <stephen@networkplumber.org>
Date: Tuesday, July 23 2024 02:44:12 
DPDK git baseline: Repo:dpdk
  Branch: master
  CommitID:82baecc069d9247c6890677d84481c1cdff84ecb

142652-142654 --> testing pending

Upstream job id: Generic-DPDK-Compile-Meson#278219

Test environment and result as below:

+----------------------------------------+--------------------+
|              Environment               | dpdk_meson_compile |
+========================================+====================+
| RHEL9 (ARM)                            | PASS               |
+----------------------------------------+--------------------+
| Ubuntu 20.04 ARM GCC Cross Compile     | PEND               |
+----------------------------------------+--------------------+
| Ubuntu 20.04 ARM SVE                   | PASS               |
+----------------------------------------+--------------------+
| Debian 12 with MUSDK                   | PASS               |
+----------------------------------------+--------------------+
| Fedora 37 (ARM)                        | PASS               |
+----------------------------------------+--------------------+
| Fedora 39 (ARM)                        | PASS               |
+----------------------------------------+--------------------+
| Fedora 38 (ARM)                        | PASS               |
+----------------------------------------+--------------------+
| Ubuntu 22.04 (ARM)                     | PASS               |
+----------------------------------------+--------------------+
| Fedora 40 (ARM Clang)                  | PEND               |
+----------------------------------------+--------------------+
| Fedora 39 (ARM Clang)                  | PEND               |
+----------------------------------------+--------------------+
| Fedora 40 (ARM)                        | PASS               |
+----------------------------------------+--------------------+
| Ubuntu 24.04 (ARM)                     | PASS               |
+----------------------------------------+--------------------+
| Debian 11 (Buster) (ARM)               | PASS               |
+----------------------------------------+--------------------+
| CentOS Stream 9 (ARM)                  | PASS               |
+----------------------------------------+--------------------+
| Ubuntu 20.04 ARM Clang Cross Compile   | PEND               |
+----------------------------------------+--------------------+
| Ubuntu 20.04 aarch32 GCC Cross Compile | PEND               |
+----------------------------------------+--------------------+


RHEL9 (ARM)
	Kernel: Depends on container host
	Compiler: gcc 11.4.1

Ubuntu 20.04 ARM GCC Cross Compile
	Kernel: 5.4.0-167-generic
	Compiler: aarch64-linux-gnu-gcc (Ubuntu 9.4.0-1ubuntu1~20.04.2) 9.4.0

Ubuntu 20.04 ARM SVE
	Kernel: 5.4.0-167-generic
	Compiler: gcc (Ubuntu 10.5.0-1ubuntu1~20.04) 10.5.0

Debian 12 with MUSDK
	Kernel: Container Host Kernel
	Compiler: gcc 12.2.0

Fedora 37 (ARM)
	Kernel: Depends on container host
	Compiler: gcc 12.3.1

Fedora 39 (ARM)
	Kernel: Depends on container host
	Compiler: gcc 13.2.1

Fedora 38 (ARM)
	Kernel: Depends on container host
	Compiler: gcc 13.2.1

Ubuntu 22.04 (ARM)
	Kernel: Container Host Kernel
	Compiler: gcc 11.4.0

Fedora 40 (ARM Clang)
	Kernel: Depends on container host
	Compiler: clang 18.1.6

Fedora 39 (ARM Clang)
	Kernel: Depends on container host
	Compiler: clang 17.0.6

Fedora 40 (ARM)
	Kernel: Depends on container host
	Compiler: gcc 14.1.1

Ubuntu 24.04 (ARM)
	Kernel: 5.4.0-167-generic
	Compiler: gcc 13.2.0

Debian 11 (Buster) (ARM)
	Kernel: Container Host Kernel
	Compiler: gcc 10.2.1

CentOS Stream 9 (ARM)
	Kernel: Container Host Kernel
	Compiler: gcc 11.4.1

Ubuntu 20.04 ARM Clang Cross Compile
	Kernel: 5.4.0-72-generic
	Compiler: clang 10.0.0-4ubuntu1

Ubuntu 20.04 aarch32 GCC Cross Compile
	Kernel: 5.4.0-167-generic
	Compiler: gcc 9.4.0

To view detailed results, visit:
https://lab.dpdk.org/results/dashboard/patchsets/30585/

UNH-IOL DPDK Community Lab

To manage your email subscriptions, visit: 
https://lab.dpdk.org/results/dashboard/preferences/subscriptions/