From mboxrd@z Thu Jan  1 00:00:00 1970
Return-Path: <test-report-bounces@dpdk.org>
Received: from mails.dpdk.org (mails.dpdk.org [217.70.189.124])
	by inbox.dpdk.org (Postfix) with ESMTP id D673F4568F
	for <public@inbox.dpdk.org>; Tue, 23 Jul 2024 10:31:45 +0200 (CEST)
Received: from mails.dpdk.org (localhost [127.0.0.1])
	by mails.dpdk.org (Postfix) with ESMTP id 0732C427CF;
	Tue, 23 Jul 2024 10:31:14 +0200 (CEST)
Received: from mail-qv1-f98.google.com (mail-qv1-f98.google.com
 [209.85.219.98]) by mails.dpdk.org (Postfix) with ESMTP id 2FC1D40A77
 for <test-report@dpdk.org>; Tue, 23 Jul 2024 09:55:00 +0200 (CEST)
Received: by mail-qv1-f98.google.com with SMTP id
 6a1803df08f44-6b7a3e468a9so30885766d6.1
 for <test-report@dpdk.org>; Tue, 23 Jul 2024 00:55:00 -0700 (PDT)
DKIM-Signature: v=1; a=rsa-sha256; c=relaxed/relaxed;
 d=iol.unh.edu; s=unh-iol; t=1721721299; x=1722326099; darn=dpdk.org;
 h=references:in-reply-to:cc:to:from:subject:message-id:date:from:to
 :cc:subject:date:message-id:reply-to;
 bh=7NXklsKbzdzyAXlWvBdf3rOlH9310iLcz+vpULY+q0E=;
 b=NpFDlMSXBo45jXDm+FR2xIYUniMUbq8zTov53B05+CRnMks3kCUe0W9rdyQNRvHh9C
 snW2NGstL4ARXyEzIJdxfn3TSsvsUcpG3dmw09ipBXGYmYfglVcvCYX8Aisg5Rey8KYd
 aVYpGSZdUd9KL285JIZKOw5WBoeZifrZ5UlQc=
X-Google-DKIM-Signature: v=1; a=rsa-sha256; c=relaxed/relaxed;
 d=1e100.net; s=20230601; t=1721721299; x=1722326099;
 h=references:in-reply-to:cc:to:from:subject:message-id:date
 :x-gm-message-state:from:to:cc:subject:date:message-id:reply-to;
 bh=7NXklsKbzdzyAXlWvBdf3rOlH9310iLcz+vpULY+q0E=;
 b=kAIm5+HJmlBssQIzLJCt236lPfbwAXTpdhmSin1Hc+XPOD53yx71YabeGYtYbFPaGL
 eAExLFxd6Sx9QUR8KMu+tLeR+SkoepQpUWF56uaABNDmC2BjiihUqCXmLT689MC/pOUP
 YcXtkN9DQh7W86SMtN/BFVHXhInTemeM24RZShL4bX2/AKOB200C8lQbm0CtpKQp9H57
 zXpaS/ZMeoROwkeldzkB/Jya4f0i/vIrJccGsRPt1NIM6MefRfl9av8uMLURgfUSuaag
 yNgbjh5cniATyqQbt/OJq52sI9ZdiEFze//Q7QEfnufKt+CD53g8gSbpSNVxFAM4d2VF
 APRw==
X-Gm-Message-State: AOJu0YxYTWkRS297yL2BRBP0FC5DYNelnRiJoHy5hD3xNPwh6Jk06msC
 OUT9Gz/wEeA0EUry5wthcDGvuA88Zv32Ma+LZuD9XzozyJA/0xgAkxFQOhMRI0hp16a+AQPosS5
 sjCOPcvli07IpE0Snst551dqFA4mD5Cq7lChveDUi
X-Google-Smtp-Source: AGHT+IHx/RZOKQq32smZVWoQNH6HfaRSXBxd31qqP+BIbASRkY8lVD5KlX8jH4MrTyZ9PrWAxpbc8pop0nrw
X-Received: by 2002:a05:6214:4114:b0:6b0:7d80:38b9 with SMTP id
 6a1803df08f44-6b96104e619mr119116976d6.16.1721721299529; 
 Tue, 23 Jul 2024 00:54:59 -0700 (PDT)
Received: from postal.iol.unh.edu (postal.iol.unh.edu. [132.177.123.84])
 by smtp-relay.gmail.com with ESMTPS id
 6a1803df08f44-6b7ac7b808esm4293506d6.17.2024.07.23.00.54.59
 (version=TLS1_2 cipher=ECDHE-ECDSA-AES128-GCM-SHA256 bits=128/128);
 Tue, 23 Jul 2024 00:54:59 -0700 (PDT)
X-Relaying-Domain: iol.unh.edu
Date: Tue, 23 Jul 2024 00:54:59 -0700 (PDT)
Message-ID: <669f61d3.050a0220.2a2d41.681aSMTPIN_ADDED_MISSING@mx.google.com>
Received: from [172.21.0.6] (unknown [172.18.0.240])
 by postal.iol.unh.edu (Postfix) with ESMTP id 3BBBE60524C8;
 Tue, 23 Jul 2024 03:54:59 -0400 (EDT)
Subject: |PENDING| pw142652-142654 [PATCH] [v2,3/3] test-pmd: add more packet
From: dpdklab@iol.unh.edu
To: Test Report <test-report@dpdk.org>
Cc: dpdk-test-reports@iol.unh.edu
In-Reply-To: <20240723024537.980016-4-stephen@networkplumber.org>
References: <20240723024537.980016-4-stephen@networkplumber.org>
Content-Type: text/plain
X-BeenThere: test-report@dpdk.org
X-Mailman-Version: 2.1.29
Precedence: list
List-Id: automatic DPDK test reports <test-report.dpdk.org>
List-Unsubscribe: <https://mails.dpdk.org/options/test-report>,
 <mailto:test-report-request@dpdk.org?subject=unsubscribe>
List-Archive: <http://mails.dpdk.org/archives/test-report/>
List-Post: <mailto:test-report@dpdk.org>
List-Help: <mailto:test-report-request@dpdk.org?subject=help>
List-Subscribe: <https://mails.dpdk.org/listinfo/test-report>,
 <mailto:test-report-request@dpdk.org?subject=subscribe>
Errors-To: test-report-bounces@dpdk.org

Test-Label: iol-unit-arm64-testing
Test-Status: PENDING
http://dpdk.org/patch/142654

_Testing pending_

Submitter: Stephen Hemminger <stephen@networkplumber.org>
Date: Tuesday, July 23 2024 02:44:12 
DPDK git baseline: Repo:dpdk
  Branch: master
  CommitID:82baecc069d9247c6890677d84481c1cdff84ecb

142652-142654 --> testing pending

Upstream job id: Generic-Unit-Test-DPDK#243306

Test environment and result as below:

+-----------------------------+----------------+--------------+
|         Environment         | dpdk_unit_test | lpm_autotest |
+=============================+================+==============+
| CentOS Stream 9 (ARM)       | PASS           | SKIPPED      |
+-----------------------------+----------------+--------------+
| Debian 11 (Buster) (ARM)    | PASS           | SKIPPED      |
+-----------------------------+----------------+--------------+
| Fedora 38 (ARM Clang)       | PEND           | SKIPPED      |
+-----------------------------+----------------+--------------+
| Fedora 37 (ARM)             | PASS           | SKIPPED      |
+-----------------------------+----------------+--------------+
| Fedora 38 (ARM)             | PASS           | SKIPPED      |
+-----------------------------+----------------+--------------+
| Debian 12 (arm)             | PASS           | SKIPPED      |
+-----------------------------+----------------+--------------+
| Fedora 39 (ARM)             | PEND           | SKIPPED      |
+-----------------------------+----------------+--------------+
| Fedora 40 (ARM)             | PEND           | SKIPPED      |
+-----------------------------+----------------+--------------+
| Fedora 40 (ARM Clang)       | PEND           | SKIPPED      |
+-----------------------------+----------------+--------------+
| Fedora 39 (ARM Clang)       | PEND           | SKIPPED      |
+-----------------------------+----------------+--------------+
| 32-bit Ubuntu 20.04.4 (ARM) | PEND           | SKIPPED      |
+-----------------------------+----------------+--------------+
| Ubuntu 20.04 ARM SVE        | SKIPPED        | PEND         |
+-----------------------------+----------------+--------------+


CentOS Stream 9 (ARM)
	Kernel: Container Host Kernel
	Compiler: gcc 11.4.1

Debian 11 (Buster) (ARM)
	Kernel: Container Host Kernel
	Compiler: gcc 10.2.1

Fedora 38 (ARM Clang)
	Kernel: Depends on container host
	Compiler: clang 16.0.6

Fedora 37 (ARM)
	Kernel: Depends on container host
	Compiler: gcc 12.3.1

Fedora 38 (ARM)
	Kernel: Depends on container host
	Compiler: gcc 13.2.1

Debian 12 (arm)
	Kernel: Container Host Kernel
	Compiler: gcc 12.2.0

Fedora 39 (ARM)
	Kernel: Depends on container host
	Compiler: gcc 13.2.1

Fedora 40 (ARM)
	Kernel: Depends on container host
	Compiler: gcc 14.1.1

Fedora 40 (ARM Clang)
	Kernel: Depends on container host
	Compiler: clang 18.1.6

Fedora 39 (ARM Clang)
	Kernel: Depends on container host
	Compiler: clang 17.0.6

32-bit Ubuntu 20.04.4 (ARM)
	Kernel: 5.4.0-155-generic aarch64
	Compiler: gcc 9.4

Ubuntu 20.04 ARM SVE
	Kernel: 5.4.0-167-generic
	Compiler: gcc (Ubuntu 10.5.0-1ubuntu1~20.04) 10.5.0

To view detailed results, visit:
https://lab.dpdk.org/results/dashboard/patchsets/30585/

UNH-IOL DPDK Community Lab

To manage your email subscriptions, visit: 
https://lab.dpdk.org/results/dashboard/preferences/subscriptions/