From mboxrd@z Thu Jan  1 00:00:00 1970
Return-Path: <test-report-bounces@dpdk.org>
Received: from mails.dpdk.org (mails.dpdk.org [217.70.189.124])
	by inbox.dpdk.org (Postfix) with ESMTP id 44B324568F
	for <public@inbox.dpdk.org>; Tue, 23 Jul 2024 10:31:46 +0200 (CEST)
Received: from mails.dpdk.org (localhost [127.0.0.1])
	by mails.dpdk.org (Postfix) with ESMTP id 1517C427D8;
	Tue, 23 Jul 2024 10:31:14 +0200 (CEST)
Received: from mail-io1-f97.google.com (mail-io1-f97.google.com
 [209.85.166.97]) by mails.dpdk.org (Postfix) with ESMTP id 3891F40A77
 for <test-report@dpdk.org>; Tue, 23 Jul 2024 09:55:10 +0200 (CEST)
Received: by mail-io1-f97.google.com with SMTP id
 ca18e2360f4ac-7f70a708f8aso214820339f.2
 for <test-report@dpdk.org>; Tue, 23 Jul 2024 00:55:10 -0700 (PDT)
DKIM-Signature: v=1; a=rsa-sha256; c=relaxed/relaxed;
 d=iol.unh.edu; s=unh-iol; t=1721721309; x=1722326109; darn=dpdk.org;
 h=references:in-reply-to:cc:to:from:subject:message-id:date:from:to
 :cc:subject:date:message-id:reply-to;
 bh=LATK8r7MCMuBK1blHHrlHkXbCcxUWyoUBx+CjZxLnjM=;
 b=LnRG//qoIvJ7ihDx148u1C6T93AP5f1KuYSFgMpIDfyqWsUXybuIvQgpQmo8rU8IPQ
 0/y7NfpnxiaeQTrOGo4HuHMu5eJQhJkWiXnL+bKrpvEe5Xjnh9ghsaStd+GIZfzmFYg6
 RrSicgnOi5sbmnFGmdoq8/gyqLjK2KL14fsB0=
X-Google-DKIM-Signature: v=1; a=rsa-sha256; c=relaxed/relaxed;
 d=1e100.net; s=20230601; t=1721721309; x=1722326109;
 h=references:in-reply-to:cc:to:from:subject:message-id:date
 :x-gm-message-state:from:to:cc:subject:date:message-id:reply-to;
 bh=LATK8r7MCMuBK1blHHrlHkXbCcxUWyoUBx+CjZxLnjM=;
 b=IxNHCb3O6rj5qfU/+m8VUl1pZeng/vsa/JqtqAPC20jVCIpqanwuVCQabhSOr9vbZX
 TH9VFnNOb6IYt3D47LpbfzopXFY6ODhZIjRyRxoBlOZKgLwfAyXvmjiPNhiOPGjUxlV2
 R1AwkAVZCEg7J1dolUApqFdvbR08MKausWHRb+ZSI82dQ+zHURFCtWYzBRKBcpOzDp6I
 iPoLgdB5+7jvGaRh7YncLcpwFW3MKGxc3MicwPb3TMEUow3wJqfLG2dQosvqbCVs+dKy
 eXOYbueWJFKdxvmmB6dFVk+IjkQi3qLNytHv0/lJmP9L4Zjou0Nr5V7/K+7vxcrtvcNL
 QXNw==
X-Gm-Message-State: AOJu0Yxe553w0Fd20tnVOFeNphRgoThI/151wpUXpvhHHu7PCyzikEpe
 +edt35MOlOLACJ8J6o3uStfRbFncFWeB2j2NhzSe0TyqjbfnfsYcwpd3bK0wEXL4O6AZXgvi/6L
 B0AoB0B8OrRZzx2eeT2VhCEvDh/SPqxx3MiEq/K3haka/78QU2wTcpBVz
X-Google-Smtp-Source: AGHT+IEZGp3P9u2lDAYjK8FCb7nysUeBknqQ14FfTaPI8jRZkoxBLQeYlR0WQIA323xPcgfjP3jrqU5HFyfD
X-Received: by 2002:a05:6602:60c6:b0:804:1579:182c with SMTP id
 ca18e2360f4ac-81ea357281amr311896839f.5.1721721309475; 
 Tue, 23 Jul 2024 00:55:09 -0700 (PDT)
Received: from postal.iol.unh.edu (postal.iol.unh.edu.
 [2606:4100:3880:1234::84]) by smtp-relay.gmail.com with ESMTPS id
 ca18e2360f4ac-819abcf752fsm36688239f.13.2024.07.23.00.55.09
 (version=TLS1_2 cipher=ECDHE-ECDSA-AES128-GCM-SHA256 bits=128/128);
 Tue, 23 Jul 2024 00:55:09 -0700 (PDT)
X-Relaying-Domain: iol.unh.edu
Date: Tue, 23 Jul 2024 00:55:09 -0700 (PDT)
Message-ID: <669f61dd.050a0220.72cba.2f54SMTPIN_ADDED_MISSING@mx.google.com>
Received: from [172.21.0.8] (unknown [172.18.0.240])
 by postal.iol.unh.edu (Postfix) with ESMTP id 0410260524C8;
 Tue, 23 Jul 2024 03:55:09 -0400 (EDT)
Subject: |PENDING| pw142652-142654 [PATCH] [v2,3/3] test-pmd: add more packet
From: dpdklab@iol.unh.edu
To: Test Report <test-report@dpdk.org>
Cc: dpdk-test-reports@iol.unh.edu
In-Reply-To: <20240723024537.980016-4-stephen@networkplumber.org>
References: <20240723024537.980016-4-stephen@networkplumber.org>
Content-Type: text/plain
X-BeenThere: test-report@dpdk.org
X-Mailman-Version: 2.1.29
Precedence: list
List-Id: automatic DPDK test reports <test-report.dpdk.org>
List-Unsubscribe: <https://mails.dpdk.org/options/test-report>,
 <mailto:test-report-request@dpdk.org?subject=unsubscribe>
List-Archive: <http://mails.dpdk.org/archives/test-report/>
List-Post: <mailto:test-report@dpdk.org>
List-Help: <mailto:test-report-request@dpdk.org?subject=help>
List-Subscribe: <https://mails.dpdk.org/listinfo/test-report>,
 <mailto:test-report-request@dpdk.org?subject=subscribe>
Errors-To: test-report-bounces@dpdk.org

Test-Label: iol-unit-arm64-testing
Test-Status: PENDING
http://dpdk.org/patch/142654

_Testing pending_

Submitter: Stephen Hemminger <stephen@networkplumber.org>
Date: Tuesday, July 23 2024 02:44:12 
DPDK git baseline: Repo:dpdk
  Branch: master
  CommitID:82baecc069d9247c6890677d84481c1cdff84ecb

142652-142654 --> testing pending

Upstream job id: Generic-Unit-Test-DPDK#243304

Test environment and result as below:

+-----------------------------+----------------+--------------+
|         Environment         | dpdk_unit_test | lpm_autotest |
+=============================+================+==============+
| CentOS Stream 9 (ARM)       | PASS           | SKIPPED      |
+-----------------------------+----------------+--------------+
| Debian 11 (Buster) (ARM)    | PASS           | SKIPPED      |
+-----------------------------+----------------+--------------+
| Fedora 38 (ARM Clang)       | PEND           | SKIPPED      |
+-----------------------------+----------------+--------------+
| Fedora 37 (ARM)             | PASS           | SKIPPED      |
+-----------------------------+----------------+--------------+
| Fedora 38 (ARM)             | PASS           | SKIPPED      |
+-----------------------------+----------------+--------------+
| Debian 12 (arm)             | PASS           | SKIPPED      |
+-----------------------------+----------------+--------------+
| Fedora 39 (ARM)             | PEND           | SKIPPED      |
+-----------------------------+----------------+--------------+
| Fedora 40 (ARM)             | PEND           | SKIPPED      |
+-----------------------------+----------------+--------------+
| Fedora 40 (ARM Clang)       | PEND           | SKIPPED      |
+-----------------------------+----------------+--------------+
| Fedora 39 (ARM Clang)       | PEND           | SKIPPED      |
+-----------------------------+----------------+--------------+
| 32-bit Ubuntu 20.04.4 (ARM) | PEND           | SKIPPED      |
+-----------------------------+----------------+--------------+
| Ubuntu 20.04 ARM SVE        | SKIPPED        | PEND         |
+-----------------------------+----------------+--------------+


CentOS Stream 9 (ARM)
	Kernel: Container Host Kernel
	Compiler: gcc 11.4.1

Debian 11 (Buster) (ARM)
	Kernel: Container Host Kernel
	Compiler: gcc 10.2.1

Fedora 38 (ARM Clang)
	Kernel: Depends on container host
	Compiler: clang 16.0.6

Fedora 37 (ARM)
	Kernel: Depends on container host
	Compiler: gcc 12.3.1

Fedora 38 (ARM)
	Kernel: Depends on container host
	Compiler: gcc 13.2.1

Debian 12 (arm)
	Kernel: Container Host Kernel
	Compiler: gcc 12.2.0

Fedora 39 (ARM)
	Kernel: Depends on container host
	Compiler: gcc 13.2.1

Fedora 40 (ARM)
	Kernel: Depends on container host
	Compiler: gcc 14.1.1

Fedora 40 (ARM Clang)
	Kernel: Depends on container host
	Compiler: clang 18.1.6

Fedora 39 (ARM Clang)
	Kernel: Depends on container host
	Compiler: clang 17.0.6

32-bit Ubuntu 20.04.4 (ARM)
	Kernel: 5.4.0-155-generic aarch64
	Compiler: gcc 9.4

Ubuntu 20.04 ARM SVE
	Kernel: 5.4.0-167-generic
	Compiler: gcc (Ubuntu 10.5.0-1ubuntu1~20.04) 10.5.0

To view detailed results, visit:
https://lab.dpdk.org/results/dashboard/patchsets/30585/

UNH-IOL DPDK Community Lab

To manage your email subscriptions, visit: 
https://lab.dpdk.org/results/dashboard/preferences/subscriptions/