From mboxrd@z Thu Jan  1 00:00:00 1970
Return-Path: <test-report-bounces@dpdk.org>
Received: from mails.dpdk.org (mails.dpdk.org [217.70.189.124])
	by inbox.dpdk.org (Postfix) with ESMTP id F3B2245695
	for <public@inbox.dpdk.org>; Tue, 23 Jul 2024 14:34:09 +0200 (CEST)
Received: from mails.dpdk.org (localhost [127.0.0.1])
	by mails.dpdk.org (Postfix) with ESMTP id F02274275A;
	Tue, 23 Jul 2024 14:34:09 +0200 (CEST)
Received: from mail-il1-f225.google.com (mail-il1-f225.google.com
 [209.85.166.225])
 by mails.dpdk.org (Postfix) with ESMTP id 41C434021D
 for <test-report@dpdk.org>; Tue, 23 Jul 2024 14:33:58 +0200 (CEST)
Received: by mail-il1-f225.google.com with SMTP id
 e9e14a558f8ab-396eb81a1cfso22423435ab.2
 for <test-report@dpdk.org>; Tue, 23 Jul 2024 05:33:58 -0700 (PDT)
DKIM-Signature: v=1; a=rsa-sha256; c=relaxed/relaxed;
 d=iol.unh.edu; s=unh-iol; t=1721738037; x=1722342837; darn=dpdk.org;
 h=references:in-reply-to:cc:to:from:subject:message-id:date:from:to
 :cc:subject:date:message-id:reply-to;
 bh=2sjds4W/BcdeiATXkmJRtU+yNZV0joQhqMKQAG02bc8=;
 b=da6ApOXUaM6VeRPiNr7CaQ0r4CFdTAHf9Jy4MfaX/W94JwUh1jlOLlRIqAW+uv9E2b
 suXxYuFFsJ9csj66JMbmPFqBC9HJBb2rZMH5N0w/0KJ99dp88bCAI/Fq/2Uw66mCcGwP
 HyEPzpTpjh7yVwDVeTHyDdsQR3qDSAphYZGo0=
X-Google-DKIM-Signature: v=1; a=rsa-sha256; c=relaxed/relaxed;
 d=1e100.net; s=20230601; t=1721738037; x=1722342837;
 h=references:in-reply-to:cc:to:from:subject:message-id:date
 :x-gm-message-state:from:to:cc:subject:date:message-id:reply-to;
 bh=2sjds4W/BcdeiATXkmJRtU+yNZV0joQhqMKQAG02bc8=;
 b=BpEGgX8Ofp8zeBdaaoLHGu/1fJmeZf92r0GSLnGxU7xXUt3FMTac5yRjzCm3aPspF5
 1Chscp1JDsBfxh3Q+dtFHNpFtf6l+yG912ov72yGU4xqG2iSWRESATlBvArT/yM740pi
 6cdZUnnoT9F2kAkbN4xcq+kWpRivd3nO0/92eky8dgGZ9R0OnF9Yg4af/MPgGNmH1dfl
 aDyfXS7jMQp0uMrt34he4yMxBVnqn3GEduvs7eIpMF0PO++pyAr75B3zvWDY7Tx98IS4
 ATDtINtymjwzNNvgY8y2SeC80l5OdhbPMLjjsryt06zwZ4sX+zrrh8N3NhjTDCWJjetS
 +LjQ==
X-Gm-Message-State: AOJu0Yy9fFDVscy7AEdti1TjeUGvfZPltmXWtMyHPhQz7GCZq92DwQW8
 PifpdfMiMLfGzGm/ugQRgyjuUC7wfRKuh1nrWA2Gz6JgIO0k74tMaLFxH7yWSq25JCmeqPfXdPK
 9Ta/kr9N8O+pYIY4WKY2R5WHsUeGQr++E7yWjlacq2WFYyFQtjqbepGzB
X-Google-Smtp-Source: AGHT+IExmbebXS7eMVf9Q49+OEkB5bohmSfXNQTVVKCQJUZLwqaeOEU9Q0o+edltIXdEmmfZbvKqdAl0QUrN
X-Received: by 2002:a05:6e02:12ef:b0:396:b0d:8018 with SMTP id
 e9e14a558f8ab-3993ff5bbf0mr134310635ab.6.1721738037182; 
 Tue, 23 Jul 2024 05:33:57 -0700 (PDT)
Received: from postal.iol.unh.edu (postal.iol.unh.edu.
 [2606:4100:3880:1234::84]) by smtp-relay.gmail.com with ESMTPS id
 e9e14a558f8ab-397f744cf49sm4286495ab.54.2024.07.23.05.33.57
 (version=TLS1_2 cipher=ECDHE-ECDSA-AES128-GCM-SHA256 bits=128/128);
 Tue, 23 Jul 2024 05:33:57 -0700 (PDT)
X-Relaying-Domain: iol.unh.edu
Date: Tue, 23 Jul 2024 05:33:57 -0700 (PDT)
Message-ID: <669fa335.920a0220.2ec2bd.6f9aSMTPIN_ADDED_MISSING@mx.google.com>
Received: from [172.21.0.6] (unknown [172.18.0.240])
 by postal.iol.unh.edu (Postfix) with ESMTP id B1B796052500;
 Tue, 23 Jul 2024 08:33:56 -0400 (EDT)
Subject: |SUCCESS| pw142662 [PATCH] [v2] rel_notes: announce 24.11 ipv6 api b
From: dpdklab@iol.unh.edu
To: Test Report <test-report@dpdk.org>
Cc: dpdk-test-reports@iol.unh.edu
In-Reply-To: <20240723082745.31072-2-rjarry@redhat.com>
References: <20240723082745.31072-2-rjarry@redhat.com>
Content-Type: text/plain
X-BeenThere: test-report@dpdk.org
X-Mailman-Version: 2.1.29
Precedence: list
List-Id: automatic DPDK test reports <test-report.dpdk.org>
List-Unsubscribe: <https://mails.dpdk.org/options/test-report>,
 <mailto:test-report-request@dpdk.org?subject=unsubscribe>
List-Archive: <http://mails.dpdk.org/archives/test-report/>
List-Post: <mailto:test-report@dpdk.org>
List-Help: <mailto:test-report-request@dpdk.org?subject=help>
List-Subscribe: <https://mails.dpdk.org/listinfo/test-report>,
 <mailto:test-report-request@dpdk.org?subject=subscribe>
Errors-To: test-report-bounces@dpdk.org

Test-Label: iol-abi-testing
Test-Status: SUCCESS
http://dpdk.org/patch/142662

_Testing PASS_

Submitter: Robin Jarry <rjarry@redhat.com>
Date: Tuesday, July 23 2024 08:27:46 
DPDK git baseline: Repo:dpdk
  Branch: master
  CommitID:1f47f469aac68bc88be24e530b4267d03537de12

142662 --> testing pass

Upstream job id: Generic-DPDK-Compile-ABI#99940

Test environment and result as below:

+-------------------+----------+
|    Environment    | abi_test |
+===================+==========+
| CentOS Stream 8   | PASS     |
+-------------------+----------+
| Debian Bullseye   | PASS     |
+-------------------+----------+
| CentOS Stream 9   | PASS     |
+-------------------+----------+
| Fedora 37         | PASS     |
+-------------------+----------+
| Fedora 38         | PASS     |
+-------------------+----------+
| Fedora 38 (Clang) | PASS     |
+-------------------+----------+
| Debian 12         | PASS     |
+-------------------+----------+
| Fedora 40 (Clang) | PASS     |
+-------------------+----------+
| Fedora 39         | PASS     |
+-------------------+----------+
| Fedora 40         | PASS     |
+-------------------+----------+
| openSUSE Leap 15  | PASS     |
+-------------------+----------+
| RHEL8             | PASS     |
+-------------------+----------+
| RHEL9             | PASS     |
+-------------------+----------+
| Ubuntu 22.04      | PASS     |
+-------------------+----------+
| Ubuntu 24.04      | PASS     |
+-------------------+----------+
| Fedora 39 (Clang) | PASS     |
+-------------------+----------+


CentOS Stream 8
	Kernel: 5.4.0-167-generic
	Compiler: gcc 8.5.0 20210514

Debian Bullseye
	Kernel: 5.4.0-167-generic
	Compiler: gcc 10.2.1-6

CentOS Stream 9
	Kernel: 5.4.0-167-generic
	Compiler: gcc 11.4.1 20230605

Fedora 37
	Kernel: Depends on container host system
	Compiler: gcc 12.3.1

Fedora 38
	Kernel: Depends on container host
	Compiler: gcc 13.2.1

Fedora 38 (Clang)
	Kernel: Depends on container host
	Compiler: clang 16.0.6

Debian 12
	Kernel: Container Host Kernel
	Compiler: gcc 12.2.0

Fedora 40 (Clang)
	Kernel: Depends on container host
	Compiler: clang 18.1.6

Fedora 39
	Kernel: Depends on container host
	Compiler: gcc 13.2.1

Fedora 40
	Kernel: Depends on container host
	Compiler: gcc 14.1.1

openSUSE Leap 15
	Kernel: 5.4.0-167-generic
	Compiler: gcc 7.5.0

RHEL8
	Kernel: 5.4.0-167-generic
	Compiler: gcc 8.5.0 20210514 (Red Hat 8.5.0-20)

RHEL9
	Kernel: Depends on container host
	Compiler: gcc 11.4.1

Ubuntu 22.04
	Kernel: 5.4.0-167-generic
	Compiler: gcc 11.4.0

Ubuntu 24.04
	Kernel: 5.4.0-167-generic
	Compiler: gcc 13.2.0

Fedora 39 (Clang)
	Kernel: Depends on container host
	Compiler: clang 17.0.6

To view detailed results, visit:
https://lab.dpdk.org/results/dashboard/patchsets/30590/

UNH-IOL DPDK Community Lab

To manage your email subscriptions, visit: 
https://lab.dpdk.org/results/dashboard/preferences/subscriptions/