From mboxrd@z Thu Jan  1 00:00:00 1970
Return-Path: <test-report-bounces@dpdk.org>
Received: from mails.dpdk.org (mails.dpdk.org [217.70.189.124])
	by inbox.dpdk.org (Postfix) with ESMTP id BCDCE45695
	for <public@inbox.dpdk.org>; Tue, 23 Jul 2024 15:37:25 +0200 (CEST)
Received: from mails.dpdk.org (localhost [127.0.0.1])
	by mails.dpdk.org (Postfix) with ESMTP id B893142DC5;
	Tue, 23 Jul 2024 15:37:25 +0200 (CEST)
Received: from mail-io1-f100.google.com (mail-io1-f100.google.com
 [209.85.166.100])
 by mails.dpdk.org (Postfix) with ESMTP id 53CA442DC3
 for <test-report@dpdk.org>; Tue, 23 Jul 2024 15:37:24 +0200 (CEST)
Received: by mail-io1-f100.google.com with SMTP id
 ca18e2360f4ac-8138e2f2f69so210035039f.0
 for <test-report@dpdk.org>; Tue, 23 Jul 2024 06:37:24 -0700 (PDT)
DKIM-Signature: v=1; a=rsa-sha256; c=relaxed/relaxed;
 d=iol.unh.edu; s=unh-iol; t=1721741843; x=1722346643; darn=dpdk.org;
 h=references:in-reply-to:cc:to:from:subject:message-id:date:from:to
 :cc:subject:date:message-id:reply-to;
 bh=4pX0P6UGCuamZTQXr3QSqV3HuWR6UdHVE8fXediWPEU=;
 b=IBfc+KI7zhXSDAzs3P4l1OTHKpYfgV+YOTawT7IxOjlEq8QgPiE7WzgUgrQw9Jl4j/
 XYWKO6XSF/gOmVRvfdmpFwkZUPAwUVtbmVNSPEfprmGXFp2QE0VGqH3b0FrqJjkc5hJ5
 dL2pmdFSWZwD5gr21qz9KOStvtiPr96C6p/YA=
X-Google-DKIM-Signature: v=1; a=rsa-sha256; c=relaxed/relaxed;
 d=1e100.net; s=20230601; t=1721741843; x=1722346643;
 h=references:in-reply-to:cc:to:from:subject:message-id:date
 :x-gm-message-state:from:to:cc:subject:date:message-id:reply-to;
 bh=4pX0P6UGCuamZTQXr3QSqV3HuWR6UdHVE8fXediWPEU=;
 b=C4Eepc5E5V9PP0XVKwQ8oJE6VbhfXecFFP/07suCkQejuF7t6to3oMljnsnMGF56wp
 dYjv6uGDkfEeEcgdnTP1Wj/eVeAm+cgfnFcmaQKguFzlzD5mvTqdOBcnV0COyH4xCLxE
 w+K8FN8Jhvf6sq1eK164AaSSzbxzaCgXfxGb87z04VSUHY5PIMTuLAZM/+LT3BaphkFq
 bWeazkvpZp2W5nLEkHeisZ9dIkdyr/V/WUPU+sH/LEvUU50jl9JET4hziUpQnGUblZLj
 oOGeEROpkqyonmue6kWk28QXf1er93jMPY8VXxzDBNl6sVVSuL1sVXkVIxorWgWHntil
 sxHA==
X-Gm-Message-State: AOJu0Yy1TdJYJsmpYnwzJhJH2MHFEbsM/MAtxXvmIY9i6SExmMyCqM6Z
 a73yV/nlstH6rnitnIB75xhlU7IJtCCufwmQXAtuwSm5pnPTuMY2DlJR8qJ8UDIyBRClYF4Ydo7
 UsCz7RI2lrDEnggcI0mli3+Jvz9laHDZErBObsWjW8BF2O3nyBB6XW//D
X-Google-Smtp-Source: AGHT+IH3PBlGVlOgTiyfrYsgB0rc+9KHYG4CHYpJ6WN46HzH69XvKz0G92M2ivU8GMvKwQOuV8WW6ibYmDEZ
X-Received: by 2002:a05:6602:15c8:b0:7fe:3c5a:c7bd with SMTP id
 ca18e2360f4ac-81aa5482aa2mr1659462539f.1.1721741843459; 
 Tue, 23 Jul 2024 06:37:23 -0700 (PDT)
Received: from postal.iol.unh.edu (postal.iol.unh.edu.
 [2606:4100:3880:1234::84]) by smtp-relay.gmail.com with ESMTPS id
 8926c6da1cb9f-4c286b8e8e7sm10980173.15.2024.07.23.06.37.23
 (version=TLS1_2 cipher=ECDHE-ECDSA-AES128-GCM-SHA256 bits=128/128);
 Tue, 23 Jul 2024 06:37:23 -0700 (PDT)
X-Relaying-Domain: iol.unh.edu
Date: Tue, 23 Jul 2024 06:37:23 -0700 (PDT)
Message-ID: <669fb213.050a0220.1975af.0831SMTPIN_ADDED_MISSING@mx.google.com>
Received: from [172.21.0.6] (unknown [172.18.0.240])
 by postal.iol.unh.edu (Postfix) with ESMTP id E2148605C30B;
 Tue, 23 Jul 2024 09:37:22 -0400 (EDT)
Subject: |PENDING| pw142658-142661 [PATCH] [4/4] net/mlx5: fix log error on n
From: dpdklab@iol.unh.edu
To: Test Report <test-report@dpdk.org>
Cc: dpdk-test-reports@iol.unh.edu
In-Reply-To: <20240723081522.1087433-5-bingz@nvidia.com>
References: <20240723081522.1087433-5-bingz@nvidia.com>
Content-Type: text/plain
X-BeenThere: test-report@dpdk.org
X-Mailman-Version: 2.1.29
Precedence: list
List-Id: automatic DPDK test reports <test-report.dpdk.org>
List-Unsubscribe: <https://mails.dpdk.org/options/test-report>,
 <mailto:test-report-request@dpdk.org?subject=unsubscribe>
List-Archive: <http://mails.dpdk.org/archives/test-report/>
List-Post: <mailto:test-report@dpdk.org>
List-Help: <mailto:test-report-request@dpdk.org?subject=help>
List-Subscribe: <https://mails.dpdk.org/listinfo/test-report>,
 <mailto:test-report-request@dpdk.org?subject=subscribe>
Errors-To: test-report-bounces@dpdk.org

Test-Label: iol-abi-testing
Test-Status: PENDING
http://dpdk.org/patch/142661

_Testing pending_

Submitter: Bing Zhao <bingz@nvidia.com>
Date: Tuesday, July 23 2024 08:15:22 
DPDK git baseline: Repo:dpdk
  Branch: master
  CommitID:3e11567d4e4e40c2d8010551929baf2bb81e4616

142658-142661 --> testing pending

Upstream job id: Generic-DPDK-Compile-ABI#99970

Test environment and result as below:

+-------------------+----------+
|    Environment    | abi_test |
+===================+==========+
| CentOS Stream 9   | PEND     |
+-------------------+----------+
| CentOS Stream 8   | PEND     |
+-------------------+----------+
| Debian 12         | PEND     |
+-------------------+----------+
| Fedora 37         | PASS     |
+-------------------+----------+
| Debian Bullseye   | PASS     |
+-------------------+----------+
| Fedora 38 (Clang) | PASS     |
+-------------------+----------+
| Fedora 38         | PEND     |
+-------------------+----------+
| Fedora 39         | PEND     |
+-------------------+----------+
| Fedora 39 (Clang) | PEND     |
+-------------------+----------+
| Fedora 40 (Clang) | PEND     |
+-------------------+----------+
| Fedora 40         | PASS     |
+-------------------+----------+
| openSUSE Leap 15  | PEND     |
+-------------------+----------+
| RHEL8             | PEND     |
+-------------------+----------+
| RHEL9             | PEND     |
+-------------------+----------+
| Ubuntu 22.04      | PEND     |
+-------------------+----------+
| Ubuntu 24.04      | PEND     |
+-------------------+----------+


CentOS Stream 9
	Kernel: 5.4.0-167-generic
	Compiler: gcc 11.4.1 20230605

CentOS Stream 8
	Kernel: 5.4.0-167-generic
	Compiler: gcc 8.5.0 20210514

Debian 12
	Kernel: Container Host Kernel
	Compiler: gcc 12.2.0

Fedora 37
	Kernel: Depends on container host system
	Compiler: gcc 12.3.1

Debian Bullseye
	Kernel: 5.4.0-167-generic
	Compiler: gcc 10.2.1-6

Fedora 38 (Clang)
	Kernel: Depends on container host
	Compiler: clang 16.0.6

Fedora 38
	Kernel: Depends on container host
	Compiler: gcc 13.2.1

Fedora 39
	Kernel: Depends on container host
	Compiler: gcc 13.2.1

Fedora 39 (Clang)
	Kernel: Depends on container host
	Compiler: clang 17.0.6

Fedora 40 (Clang)
	Kernel: Depends on container host
	Compiler: clang 18.1.6

Fedora 40
	Kernel: Depends on container host
	Compiler: gcc 14.1.1

openSUSE Leap 15
	Kernel: 5.4.0-167-generic
	Compiler: gcc 7.5.0

RHEL8
	Kernel: 5.4.0-167-generic
	Compiler: gcc 8.5.0 20210514 (Red Hat 8.5.0-20)

RHEL9
	Kernel: Depends on container host
	Compiler: gcc 11.4.1

Ubuntu 22.04
	Kernel: 5.4.0-167-generic
	Compiler: gcc 11.4.0

Ubuntu 24.04
	Kernel: 5.4.0-167-generic
	Compiler: gcc 13.2.0

To view detailed results, visit:
https://lab.dpdk.org/results/dashboard/patchsets/30589/

UNH-IOL DPDK Community Lab

To manage your email subscriptions, visit: 
https://lab.dpdk.org/results/dashboard/preferences/subscriptions/