From mboxrd@z Thu Jan  1 00:00:00 1970
Return-Path: <test-report-bounces@dpdk.org>
Received: from mails.dpdk.org (mails.dpdk.org [217.70.189.124])
	by inbox.dpdk.org (Postfix) with ESMTP id BBCAC45695
	for <public@inbox.dpdk.org>; Tue, 23 Jul 2024 15:57:07 +0200 (CEST)
Received: from mails.dpdk.org (localhost [127.0.0.1])
	by mails.dpdk.org (Postfix) with ESMTP id B7A0A42D7D;
	Tue, 23 Jul 2024 15:57:07 +0200 (CEST)
Received: from mail-oo1-f100.google.com (mail-oo1-f100.google.com
 [209.85.161.100])
 by mails.dpdk.org (Postfix) with ESMTP id EC64540A75
 for <test-report@dpdk.org>; Tue, 23 Jul 2024 15:57:01 +0200 (CEST)
Received: by mail-oo1-f100.google.com with SMTP id
 006d021491bc7-5d4071e9b93so3071685eaf.2
 for <test-report@dpdk.org>; Tue, 23 Jul 2024 06:57:01 -0700 (PDT)
DKIM-Signature: v=1; a=rsa-sha256; c=relaxed/relaxed;
 d=iol.unh.edu; s=unh-iol; t=1721743021; x=1722347821; darn=dpdk.org;
 h=references:in-reply-to:cc:to:from:subject:message-id:date:from:to
 :cc:subject:date:message-id:reply-to;
 bh=a/xQSgqxWhI+s6CSUdMFq5r9p0TttMPLceegNZPMIXo=;
 b=FUI881TwVVff+SBdr9OoHTTbtCGCxBGQtJUWq/kqvBCXR4Tdm5M59C+cyKCh8gP4t3
 CGwf56i2G33kIe9/UeGJymCPPT6BGjALoFK0b6ZssJ6xiYX/WTVDZb34qg+6tXoMoDtD
 7MPG0lahvkM3dH1YUyeK47j7T763tkz8aNcJw=
X-Google-DKIM-Signature: v=1; a=rsa-sha256; c=relaxed/relaxed;
 d=1e100.net; s=20230601; t=1721743021; x=1722347821;
 h=references:in-reply-to:cc:to:from:subject:message-id:date
 :x-gm-message-state:from:to:cc:subject:date:message-id:reply-to;
 bh=a/xQSgqxWhI+s6CSUdMFq5r9p0TttMPLceegNZPMIXo=;
 b=J13oQfoKzPlndal27ihD1Dp3iMGhMaLmlCFXJ2zDZiDzhwWEg/BB5GND17NpZPtz0x
 kwbMcfYV7c0qe+rIpghmbau+8uPppcijkbo3olkYF5AGHWWiGgDl6mY1Ayum+HXDgW1N
 swnlE/QTiPQtiy/pdlDAthN4ipSR3yX2UNkVDBAvIM+4qJfA0kHfXSlNaM3/Zy/Ifd44
 f8Z/KqYqDx0KUDb9EtHCdID4SqqwvwmyWDnM/4vNPGMKaHIRLrbtCo3PbHtUfv7YzF9d
 pG/M97Q7hQQDn1er9ko1BxbkIdaHeT4aofF629sLKooLhpzrZQBk/pP0UptNYA54yfyj
 H5sA==
X-Gm-Message-State: AOJu0YxejXr1wQCAR3GSY/JHAmKI8blOblKgPn8Xp30lkYq2EnPpflSz
 0PTdNi/gJW5TkPP1Jo1ruvMDs3pddTzD2zqudjYpANLpl8mAfOwsMJswT3Cpce9h25A1Oetl8D7
 lokJV7RIrvK5S9wdFn3ipYrtjtJHhNI3n/Wy4eM9z
X-Google-Smtp-Source: AGHT+IH0JhmBs5AiQCEqKAPOhcvHgHYo3OGJG70hrO+wl6njC7vwTL1C3WPT0a2dumDvDzPT6uQbl7NN/NIN
X-Received: by 2002:a05:6820:3103:b0:5c6:7519:9b58 with SMTP id
 006d021491bc7-5d58b829054mr3766981eaf.4.1721743021110; 
 Tue, 23 Jul 2024 06:57:01 -0700 (PDT)
Received: from postal.iol.unh.edu (postal.iol.unh.edu. [132.177.123.84])
 by smtp-relay.gmail.com with ESMTPS id
 006d021491bc7-5d55ab737c5sm148661eaf.18.2024.07.23.06.57.01
 (version=TLS1_2 cipher=ECDHE-ECDSA-AES128-GCM-SHA256 bits=128/128);
 Tue, 23 Jul 2024 06:57:01 -0700 (PDT)
X-Relaying-Domain: iol.unh.edu
Date: Tue, 23 Jul 2024 06:57:01 -0700 (PDT)
Message-ID: <669fb6ad.4a0a0220.d8e3e.7673SMTPIN_ADDED_MISSING@mx.google.com>
Received: from [172.21.0.7] (unknown [172.18.0.240])
 by postal.iol.unh.edu (Postfix) with ESMTP id 8CB01605C351;
 Tue, 23 Jul 2024 09:57:00 -0400 (EDT)
Subject: |PENDING| pw142662 [PATCH] [v2] rel_notes: announce 24.11 ipv6 api b
From: dpdklab@iol.unh.edu
To: Test Report <test-report@dpdk.org>
Cc: dpdk-test-reports@iol.unh.edu
In-Reply-To: <20240723082745.31072-2-rjarry@redhat.com>
References: <20240723082745.31072-2-rjarry@redhat.com>
Content-Type: text/plain
X-BeenThere: test-report@dpdk.org
X-Mailman-Version: 2.1.29
Precedence: list
List-Id: automatic DPDK test reports <test-report.dpdk.org>
List-Unsubscribe: <https://mails.dpdk.org/options/test-report>,
 <mailto:test-report-request@dpdk.org?subject=unsubscribe>
List-Archive: <http://mails.dpdk.org/archives/test-report/>
List-Post: <mailto:test-report@dpdk.org>
List-Help: <mailto:test-report-request@dpdk.org?subject=help>
List-Subscribe: <https://mails.dpdk.org/listinfo/test-report>,
 <mailto:test-report-request@dpdk.org?subject=subscribe>
Errors-To: test-report-bounces@dpdk.org

Test-Label: iol-unit-arm64-testing
Test-Status: PENDING
http://dpdk.org/patch/142662

_Testing pending_

Submitter: Robin Jarry <rjarry@redhat.com>
Date: Tuesday, July 23 2024 08:27:46 
DPDK git baseline: Repo:dpdk
  Branch: master
  CommitID:1f47f469aac68bc88be24e530b4267d03537de12

142662 --> testing pending

Upstream job id: Generic-Unit-Test-DPDK#243436

Test environment and result as below:

+-----------------------------+----------------+--------------+---------------------------+------------------------------+
|         Environment         | dpdk_unit_test | lpm_autotest | cryptodev_sw_zuc_autotest | cryptodev_sw_snow3g_autotest |
+=============================+================+==============+===========================+==============================+
| CentOS Stream 9 (ARM)       | PASS           | SKIPPED      | SKIPPED                   | SKIPPED                      |
+-----------------------------+----------------+--------------+---------------------------+------------------------------+
| Debian 12 (arm)             | PASS           | SKIPPED      | PEND                      | PEND                         |
+-----------------------------+----------------+--------------+---------------------------+------------------------------+
| Debian 11 (Buster) (ARM)    | PASS           | SKIPPED      | SKIPPED                   | SKIPPED                      |
+-----------------------------+----------------+--------------+---------------------------+------------------------------+
| Fedora 37 (ARM)             | PEND           | SKIPPED      | SKIPPED                   | SKIPPED                      |
+-----------------------------+----------------+--------------+---------------------------+------------------------------+
| Fedora 38 (ARM)             | PEND           | SKIPPED      | SKIPPED                   | SKIPPED                      |
+-----------------------------+----------------+--------------+---------------------------+------------------------------+
| Fedora 38 (ARM Clang)       | PEND           | SKIPPED      | SKIPPED                   | SKIPPED                      |
+-----------------------------+----------------+--------------+---------------------------+------------------------------+
| Fedora 39 (ARM)             | PEND           | SKIPPED      | SKIPPED                   | SKIPPED                      |
+-----------------------------+----------------+--------------+---------------------------+------------------------------+
| Fedora 39 (ARM Clang)       | PEND           | SKIPPED      | SKIPPED                   | SKIPPED                      |
+-----------------------------+----------------+--------------+---------------------------+------------------------------+
| Fedora 40 (ARM)             | PEND           | SKIPPED      | SKIPPED                   | SKIPPED                      |
+-----------------------------+----------------+--------------+---------------------------+------------------------------+
| Fedora 40 (ARM Clang)       | PEND           | SKIPPED      | SKIPPED                   | SKIPPED                      |
+-----------------------------+----------------+--------------+---------------------------+------------------------------+
| RHEL9 (ARM)                 | PEND           | SKIPPED      | SKIPPED                   | SKIPPED                      |
+-----------------------------+----------------+--------------+---------------------------+------------------------------+
| Ubuntu 24.04 (ARM)          | PEND           | SKIPPED      | SKIPPED                   | SKIPPED                      |
+-----------------------------+----------------+--------------+---------------------------+------------------------------+
| Ubuntu 20.04 (ARM)          | PEND           | SKIPPED      | SKIPPED                   | SKIPPED                      |
+-----------------------------+----------------+--------------+---------------------------+------------------------------+
| Ubuntu 22.04 (ARM)          | PEND           | SKIPPED      | SKIPPED                   | SKIPPED                      |
+-----------------------------+----------------+--------------+---------------------------+------------------------------+
| 32-bit Ubuntu 20.04.4 (ARM) | PEND           | SKIPPED      | SKIPPED                   | SKIPPED                      |
+-----------------------------+----------------+--------------+---------------------------+------------------------------+
| Ubuntu 20.04 ARM SVE        | SKIPPED        | PEND         | SKIPPED                   | SKIPPED                      |
+-----------------------------+----------------+--------------+---------------------------+------------------------------+


CentOS Stream 9 (ARM)
	Kernel: Container Host Kernel
	Compiler: gcc 11.4.1

Debian 12 (arm)
	Kernel: Container Host Kernel
	Compiler: gcc 12.2.0

Debian 11 (Buster) (ARM)
	Kernel: Container Host Kernel
	Compiler: gcc 10.2.1

Fedora 37 (ARM)
	Kernel: Depends on container host
	Compiler: gcc 12.3.1

Fedora 38 (ARM)
	Kernel: Depends on container host
	Compiler: gcc 13.2.1

Fedora 38 (ARM Clang)
	Kernel: Depends on container host
	Compiler: clang 16.0.6

Fedora 39 (ARM)
	Kernel: Depends on container host
	Compiler: gcc 13.2.1

Fedora 39 (ARM Clang)
	Kernel: Depends on container host
	Compiler: clang 17.0.6

Fedora 40 (ARM)
	Kernel: Depends on container host
	Compiler: gcc 14.1.1

Fedora 40 (ARM Clang)
	Kernel: Depends on container host
	Compiler: clang 18.1.6

RHEL9 (ARM)
	Kernel: Depends on container host
	Compiler: gcc 11.4.1

Ubuntu 24.04 (ARM)
	Kernel: 5.4.0-167-generic
	Compiler: gcc 13.2.0

Ubuntu 20.04 (ARM)
	Kernel: Container Host Kernel
	Compiler: gcc 9.4.0

Ubuntu 22.04 (ARM)
	Kernel: Container Host Kernel
	Compiler: gcc 11.4.0

32-bit Ubuntu 20.04.4 (ARM)
	Kernel: 5.4.0-155-generic aarch64
	Compiler: gcc 9.4

Ubuntu 20.04 ARM SVE
	Kernel: 5.4.0-167-generic
	Compiler: gcc (Ubuntu 10.5.0-1ubuntu1~20.04) 10.5.0

To view detailed results, visit:
https://lab.dpdk.org/results/dashboard/patchsets/30590/

UNH-IOL DPDK Community Lab

To manage your email subscriptions, visit: 
https://lab.dpdk.org/results/dashboard/preferences/subscriptions/