From mboxrd@z Thu Jan  1 00:00:00 1970
Return-Path: <test-report-bounces@dpdk.org>
Received: from mails.dpdk.org (mails.dpdk.org [217.70.189.124])
	by inbox.dpdk.org (Postfix) with ESMTP id 691CC45695
	for <public@inbox.dpdk.org>; Tue, 23 Jul 2024 17:28:12 +0200 (CEST)
Received: from mails.dpdk.org (localhost [127.0.0.1])
	by mails.dpdk.org (Postfix) with ESMTP id 5A1A442EBC;
	Tue, 23 Jul 2024 17:28:12 +0200 (CEST)
Received: from mail-io1-f99.google.com (mail-io1-f99.google.com
 [209.85.166.99]) by mails.dpdk.org (Postfix) with ESMTP id 8F2A842E4A
 for <test-report@dpdk.org>; Tue, 23 Jul 2024 17:28:06 +0200 (CEST)
Received: by mail-io1-f99.google.com with SMTP id
 ca18e2360f4ac-819c1f5348aso199657039f.0
 for <test-report@dpdk.org>; Tue, 23 Jul 2024 08:28:06 -0700 (PDT)
DKIM-Signature: v=1; a=rsa-sha256; c=relaxed/relaxed;
 d=iol.unh.edu; s=unh-iol; t=1721748486; x=1722353286; darn=dpdk.org;
 h=references:in-reply-to:cc:to:from:subject:message-id:date:from:to
 :cc:subject:date:message-id:reply-to;
 bh=2yDFYhOhQHE3ISnT0FaERoWQd2MHlce7llt7KdbqOGg=;
 b=AFikJB2PbxEJ56jftna5jcGTg67+jLogyxBpkijxsynwPZ30RpFt+nG09Rn1eYxiNN
 ME6rc0MsRkmR93uZM5XYOaoT2Q3CR9AF++0cjsgzU1+nOXePuCQ983ubnQ0QubJVb1mQ
 w9FfBs4OE58yQbLGYBHL/QYwuUOyR/kBmwRAE=
X-Google-DKIM-Signature: v=1; a=rsa-sha256; c=relaxed/relaxed;
 d=1e100.net; s=20230601; t=1721748486; x=1722353286;
 h=references:in-reply-to:cc:to:from:subject:message-id:date
 :x-gm-message-state:from:to:cc:subject:date:message-id:reply-to;
 bh=2yDFYhOhQHE3ISnT0FaERoWQd2MHlce7llt7KdbqOGg=;
 b=Lff2SvGLsM3e1Je//G90JBb1TC0aywAPKr7MMCXkuA4rQTdmoa4+OjUQ8dfqi48EBR
 lo2GFKvIhJVmTQkAnGSF8YdjIJrIyPGzLzhnpdeuMzH397O4vTUM63S8Y3XE+UBnzE6S
 NJFhIik9K6qOJESL0Ws38QVkxjotntaPqTi2VYN3caLm8PYCUL53lqm/G2gtMYDwVFwh
 3nG8A9aAuN1Ylk4ZUev3hj1oNWTwG6GrJUF0NiPC/qVGKQEzd0SjlGrVjdttiCRMu+ZJ
 ML3MtG0nEQ/fJCzfyWyCvUG96EuuQEn/SDEU1H43xNRTDTYVkVbaa+GTEMmf9YRZpc/e
 qqqg==
X-Gm-Message-State: AOJu0YxkxZY1cZonuxik+51KkwqnJlttHg8XBxjm3fATTaVS8kjny/hv
 ewWbZBWtM54fSc7nOM5XmGf78FYyiiUbZyn0W8eFtf67v24VsOSsSAI2ph29LcCKUhx0pEk/sEX
 4B7lXgKXztViLIFoO8hp8VisqKzRfCoPbZKFXYSZm
X-Google-Smtp-Source: AGHT+IGcBKZLlE3QrH5ZG9QYLxWklVC8gJFM6Xtg1Qc+olgSD6JjX5TkheVfq8eCysyVKFJruTgrFU8rOhH3
X-Received: by 2002:a05:6602:1345:b0:803:980e:5b39 with SMTP id
 ca18e2360f4ac-81ea30a222amr540753339f.4.1721748485876; 
 Tue, 23 Jul 2024 08:28:05 -0700 (PDT)
Received: from postal.iol.unh.edu (postal.iol.unh.edu. [132.177.123.84])
 by smtp-relay.gmail.com with ESMTPS id
 ca18e2360f4ac-819ab81f511sm41027439f.2.2024.07.23.08.28.05
 (version=TLS1_2 cipher=ECDHE-ECDSA-AES128-GCM-SHA256 bits=128/128);
 Tue, 23 Jul 2024 08:28:05 -0700 (PDT)
X-Relaying-Domain: iol.unh.edu
Date: Tue, 23 Jul 2024 08:28:05 -0700 (PDT)
Message-ID: <669fcc05.050a0220.a2f69.5a2fSMTPIN_ADDED_MISSING@mx.google.com>
Received: from [172.21.0.8] (unknown [172.18.0.240])
 by postal.iol.unh.edu (Postfix) with ESMTP id 5697A605C351;
 Tue, 23 Jul 2024 11:28:05 -0400 (EDT)
Subject: |PENDING| pw142662 [PATCH] [v2] rel_notes: announce 24.11 ipv6 api b
From: dpdklab@iol.unh.edu
To: Test Report <test-report@dpdk.org>
Cc: dpdk-test-reports@iol.unh.edu
In-Reply-To: <20240723082745.31072-2-rjarry@redhat.com>
References: <20240723082745.31072-2-rjarry@redhat.com>
Content-Type: text/plain
X-BeenThere: test-report@dpdk.org
X-Mailman-Version: 2.1.29
Precedence: list
List-Id: automatic DPDK test reports <test-report.dpdk.org>
List-Unsubscribe: <https://mails.dpdk.org/options/test-report>,
 <mailto:test-report-request@dpdk.org?subject=unsubscribe>
List-Archive: <http://mails.dpdk.org/archives/test-report/>
List-Post: <mailto:test-report@dpdk.org>
List-Help: <mailto:test-report-request@dpdk.org?subject=help>
List-Subscribe: <https://mails.dpdk.org/listinfo/test-report>,
 <mailto:test-report-request@dpdk.org?subject=subscribe>
Errors-To: test-report-bounces@dpdk.org

Test-Label: iol-unit-amd64-testing
Test-Status: PENDING
http://dpdk.org/patch/142662

_Testing pending_

Submitter: Robin Jarry <rjarry@redhat.com>
Date: Tuesday, July 23 2024 08:27:46 
DPDK git baseline: Repo:dpdk
  Branch: master
  CommitID:1f47f469aac68bc88be24e530b4267d03537de12

142662 --> testing pending

Upstream job id: Generic-Unit-Test-DPDK#243450

Test environment and result as below:

+---------------------+----------------+
|     Environment     | dpdk_unit_test |
+=====================+================+
| CentOS Stream 8     | PASS           |
+---------------------+----------------+
| Windows Server 2022 | PASS           |
+---------------------+----------------+
| Debian Bullseye     | PASS           |
+---------------------+----------------+
| CentOS Stream 9     | PASS           |
+---------------------+----------------+
| Debian 12           | PASS           |
+---------------------+----------------+
| Fedora 37           | PASS           |
+---------------------+----------------+
| Fedora 38           | PASS           |
+---------------------+----------------+
| Fedora 38 (Clang)   | PASS           |
+---------------------+----------------+
| Fedora 39           | PEND           |
+---------------------+----------------+
| Fedora 39 (Clang)   | PASS           |
+---------------------+----------------+
| Fedora 40           | PASS           |
+---------------------+----------------+
| Fedora 40 (Clang)   | PEND           |
+---------------------+----------------+
| openSUSE Leap 15    | PEND           |
+---------------------+----------------+
| Ubuntu 20.04        | PEND           |
+---------------------+----------------+
| RHEL8               | PEND           |
+---------------------+----------------+
| RHEL9               | PEND           |
+---------------------+----------------+
| Ubuntu 24.04        | PEND           |
+---------------------+----------------+
| Ubuntu 22.04        | PEND           |
+---------------------+----------------+
| Windows Server 2019 | PASS           |
+---------------------+----------------+


CentOS Stream 8
	Kernel: 5.4.0-167-generic
	Compiler: gcc 8.5.0 20210514

Windows Server 2022
	Kernel: 10.0.20348.2031
	Compiler: clang 15.0.7, gcc 8.1.0 (MinGW), and MSVC VS 17.9

Debian Bullseye
	Kernel: 5.4.0-167-generic
	Compiler: gcc 10.2.1-6

CentOS Stream 9
	Kernel: 5.4.0-167-generic
	Compiler: gcc 11.4.1 20230605

Debian 12
	Kernel: Container Host Kernel
	Compiler: gcc 12.2.0

Fedora 37
	Kernel: Depends on container host system
	Compiler: gcc 12.3.1

Fedora 38
	Kernel: Depends on container host
	Compiler: gcc 13.2.1

Fedora 38 (Clang)
	Kernel: Depends on container host
	Compiler: clang 16.0.6

Fedora 39
	Kernel: Depends on container host
	Compiler: gcc 13.2.1

Fedora 39 (Clang)
	Kernel: Depends on container host
	Compiler: clang 17.0.6

Fedora 40
	Kernel: Depends on container host
	Compiler: gcc 14.1.1

Fedora 40 (Clang)
	Kernel: Depends on container host
	Compiler: clang 18.1.6

openSUSE Leap 15
	Kernel: 5.4.0-167-generic
	Compiler: gcc 7.5.0

Ubuntu 20.04
	Kernel: 5.4.0-167-generic
	Compiler: gcc 9.4.0-1ubuntu1~20.04.1

RHEL8
	Kernel: 5.4.0-167-generic
	Compiler: gcc 8.5.0 20210514 (Red Hat 8.5.0-20)

RHEL9
	Kernel: Depends on container host
	Compiler: gcc 11.4.1

Ubuntu 24.04
	Kernel: 5.4.0-167-generic
	Compiler: gcc 13.2.0

Ubuntu 22.04
	Kernel: 5.4.0-167-generic
	Compiler: gcc 11.4.0

Windows Server 2019
	Kernel: 10.0.17763
	Compiler: clang 14.0 and gcc 8.1.0 (MinGW)

To view detailed results, visit:
https://lab.dpdk.org/results/dashboard/patchsets/30590/

UNH-IOL DPDK Community Lab

To manage your email subscriptions, visit: 
https://lab.dpdk.org/results/dashboard/preferences/subscriptions/