From mboxrd@z Thu Jan  1 00:00:00 1970
Return-Path: <test-report-bounces@dpdk.org>
Received: from mails.dpdk.org (mails.dpdk.org [217.70.189.124])
	by inbox.dpdk.org (Postfix) with ESMTP id 0E6F245697
	for <public@inbox.dpdk.org>; Tue, 23 Jul 2024 18:00:24 +0200 (CEST)
Received: from mails.dpdk.org (localhost [127.0.0.1])
	by mails.dpdk.org (Postfix) with ESMTP id 095BD42E90;
	Tue, 23 Jul 2024 18:00:24 +0200 (CEST)
Received: from mail-pl1-f228.google.com (mail-pl1-f228.google.com
 [209.85.214.228])
 by mails.dpdk.org (Postfix) with ESMTP id 590F942670
 for <test-report@dpdk.org>; Tue, 23 Jul 2024 18:00:23 +0200 (CEST)
Received: by mail-pl1-f228.google.com with SMTP id
 d9443c01a7336-1fc5549788eso636805ad.1
 for <test-report@dpdk.org>; Tue, 23 Jul 2024 09:00:23 -0700 (PDT)
DKIM-Signature: v=1; a=rsa-sha256; c=relaxed/relaxed;
 d=iol.unh.edu; s=unh-iol; t=1721750422; x=1722355222; darn=dpdk.org;
 h=references:in-reply-to:cc:to:from:subject:message-id:date:from:to
 :cc:subject:date:message-id:reply-to;
 bh=tbf7xszrdIOLW15zefLsKISFK8nikVFZ0SqT3SiJaWY=;
 b=AFFM0ZGKEb00SjIy9AkiFiZ90sbRDtxCQQ1J37TDgU52bKecoZXXmcwB9UNED4kvoq
 ZAn+nX97UJM37RWoXjROt5c85tquQ/SbWk6Gx/v/fJISDP79aV2SdVuatujsu1L9Iuwb
 0OG2iByZRlx1fFsPBvyjWuVGqnHOLcBmzzeG0=
X-Google-DKIM-Signature: v=1; a=rsa-sha256; c=relaxed/relaxed;
 d=1e100.net; s=20230601; t=1721750422; x=1722355222;
 h=references:in-reply-to:cc:to:from:subject:message-id:date
 :x-gm-message-state:from:to:cc:subject:date:message-id:reply-to;
 bh=tbf7xszrdIOLW15zefLsKISFK8nikVFZ0SqT3SiJaWY=;
 b=CyL2ohd6B5U/lLCTRDICtESBwTdRUJD1ovueDWYB2U9weEyOa8vVI8W5b47TZbcKRz
 C4nMQ6hbac1n/mtzu5iAWVQY8AHoMsObi2FyuHOGm1ptZcd0NBwEXXXcLgOkRsMu6dTG
 KeYfTQ6n+pd6EyQgik/EJjFQXXp8EQE3qiODRhF4ZDMbxDjEHAb4KKjLtJtLYjFSlLNf
 y9nrpVxfePCBekn0QT8OVvNbN9n3Oa70dpc/IENTZLnGryYE+/lU/A1EA56azM4pS8zq
 Q+0DdEm9nVTFos9rnWt5TjeiRQN1iZndPBnSIVyQ4wcxZQaqBCmrUn8SQl0BYC4ai9qH
 hRLA==
X-Gm-Message-State: AOJu0YzUPsYSdZm6cRHeNpdEOJBAFvlluyFn+bl7Q70gV7FxxAFKey9W
 cbZ/oiBYthkoQMut81GMG5Wri5vsTEkTFjqwutlFBzvLYEeKT/KiLSpuB5GXd1OlmGKqOXY/6kL
 GDTjhgm2jhGaegZEBt5kPLOi990KGhFFRZtmZ3t/q
X-Google-Smtp-Source: AGHT+IFF4xSWUt4VJzTFMsYyALeJgnvdKKR6roa4EV1dCGD/yKvTiOjg/A1zqdgIx/iPM0Slg9W2RYVDdu/n
X-Received: by 2002:a17:902:e80d:b0:1fb:8785:d1fa with SMTP id
 d9443c01a7336-1fd74573b58mr103362735ad.30.1721750422488; 
 Tue, 23 Jul 2024 09:00:22 -0700 (PDT)
Received: from postal.iol.unh.edu (postal.iol.unh.edu. [132.177.123.84])
 by smtp-relay.gmail.com with ESMTPS id
 d9443c01a7336-1fd6f2461e4sm3655885ad.15.2024.07.23.09.00.22
 (version=TLS1_2 cipher=ECDHE-ECDSA-AES128-GCM-SHA256 bits=128/128);
 Tue, 23 Jul 2024 09:00:22 -0700 (PDT)
X-Relaying-Domain: iol.unh.edu
Date: Tue, 23 Jul 2024 09:00:22 -0700 (PDT)
Message-ID: <669fd396.170a0220.6b32c.2d4dSMTPIN_ADDED_MISSING@mx.google.com>
Received: from [172.21.0.6] (unknown [172.18.0.240])
 by postal.iol.unh.edu (Postfix) with ESMTP id A26CB605C351;
 Tue, 23 Jul 2024 12:00:21 -0400 (EDT)
Subject: |PENDING| pw142658-142661 [PATCH] [4/4] net/mlx5: fix log error on n
From: dpdklab@iol.unh.edu
To: Test Report <test-report@dpdk.org>
Cc: dpdk-test-reports@iol.unh.edu
In-Reply-To: <20240723081522.1087433-5-bingz@nvidia.com>
References: <20240723081522.1087433-5-bingz@nvidia.com>
Content-Type: text/plain
X-BeenThere: test-report@dpdk.org
X-Mailman-Version: 2.1.29
Precedence: list
List-Id: automatic DPDK test reports <test-report.dpdk.org>
List-Unsubscribe: <https://mails.dpdk.org/options/test-report>,
 <mailto:test-report-request@dpdk.org?subject=unsubscribe>
List-Archive: <http://mails.dpdk.org/archives/test-report/>
List-Post: <mailto:test-report@dpdk.org>
List-Help: <mailto:test-report-request@dpdk.org?subject=help>
List-Subscribe: <https://mails.dpdk.org/listinfo/test-report>,
 <mailto:test-report-request@dpdk.org?subject=subscribe>
Errors-To: test-report-bounces@dpdk.org

Test-Label: iol-unit-amd64-testing
Test-Status: PENDING
http://dpdk.org/patch/142661

_Testing pending_

Submitter: Bing Zhao <bingz@nvidia.com>
Date: Tuesday, July 23 2024 08:15:22 
DPDK git baseline: Repo:dpdk
  Branch: master
  CommitID:3e11567d4e4e40c2d8010551929baf2bb81e4616

142658-142661 --> testing pending

Upstream job id: Generic-Unit-Test-DPDK#243484

Test environment and result as below:

+---------------------+----------------+
|     Environment     | dpdk_unit_test |
+=====================+================+
| Windows Server 2019 | PASS           |
+---------------------+----------------+
| Windows Server 2022 | PASS           |
+---------------------+----------------+
| CentOS Stream 8     | PASS           |
+---------------------+----------------+
| CentOS Stream 9     | PASS           |
+---------------------+----------------+
| Debian Bullseye     | PASS           |
+---------------------+----------------+
| Debian 12           | PASS           |
+---------------------+----------------+
| Fedora 37           | PASS           |
+---------------------+----------------+
| Fedora 39           | PASS           |
+---------------------+----------------+
| Fedora 38           | PEND           |
+---------------------+----------------+
| Fedora 38 (Clang)   | PEND           |
+---------------------+----------------+
| Fedora 39 (Clang)   | PEND           |
+---------------------+----------------+
| Fedora 40           | PEND           |
+---------------------+----------------+
| Fedora 40 (Clang)   | PEND           |
+---------------------+----------------+
| openSUSE Leap 15    | PEND           |
+---------------------+----------------+
| RHEL8               | PEND           |
+---------------------+----------------+
| RHEL9               | PEND           |
+---------------------+----------------+
| Ubuntu 20.04        | PEND           |
+---------------------+----------------+
| Ubuntu 22.04        | PEND           |
+---------------------+----------------+
| Ubuntu 24.04        | PEND           |
+---------------------+----------------+


Windows Server 2019
	Kernel: 10.0.17763
	Compiler: clang 14.0 and gcc 8.1.0 (MinGW)

Windows Server 2022
	Kernel: 10.0.20348.2031
	Compiler: clang 15.0.7, gcc 8.1.0 (MinGW), and MSVC VS 17.9

CentOS Stream 8
	Kernel: 5.4.0-167-generic
	Compiler: gcc 8.5.0 20210514

CentOS Stream 9
	Kernel: 5.4.0-167-generic
	Compiler: gcc 11.4.1 20230605

Debian Bullseye
	Kernel: 5.4.0-167-generic
	Compiler: gcc 10.2.1-6

Debian 12
	Kernel: Container Host Kernel
	Compiler: gcc 12.2.0

Fedora 37
	Kernel: Depends on container host system
	Compiler: gcc 12.3.1

Fedora 39
	Kernel: Depends on container host
	Compiler: gcc 13.2.1

Fedora 38
	Kernel: Depends on container host
	Compiler: gcc 13.2.1

Fedora 38 (Clang)
	Kernel: Depends on container host
	Compiler: clang 16.0.6

Fedora 39 (Clang)
	Kernel: Depends on container host
	Compiler: clang 17.0.6

Fedora 40
	Kernel: Depends on container host
	Compiler: gcc 14.1.1

Fedora 40 (Clang)
	Kernel: Depends on container host
	Compiler: clang 18.1.6

openSUSE Leap 15
	Kernel: 5.4.0-167-generic
	Compiler: gcc 7.5.0

RHEL8
	Kernel: 5.4.0-167-generic
	Compiler: gcc 8.5.0 20210514 (Red Hat 8.5.0-20)

RHEL9
	Kernel: Depends on container host
	Compiler: gcc 11.4.1

Ubuntu 20.04
	Kernel: 5.4.0-167-generic
	Compiler: gcc 9.4.0-1ubuntu1~20.04.1

Ubuntu 22.04
	Kernel: 5.4.0-167-generic
	Compiler: gcc 11.4.0

Ubuntu 24.04
	Kernel: 5.4.0-167-generic
	Compiler: gcc 13.2.0

To view detailed results, visit:
https://lab.dpdk.org/results/dashboard/patchsets/30589/

UNH-IOL DPDK Community Lab

To manage your email subscriptions, visit: 
https://lab.dpdk.org/results/dashboard/preferences/subscriptions/