From mboxrd@z Thu Jan  1 00:00:00 1970
Return-Path: <test-report-bounces@dpdk.org>
Received: from mails.dpdk.org (mails.dpdk.org [217.70.189.124])
	by inbox.dpdk.org (Postfix) with ESMTP id 7171F45697
	for <public@inbox.dpdk.org>; Tue, 23 Jul 2024 18:33:00 +0200 (CEST)
Received: from mails.dpdk.org (localhost [127.0.0.1])
	by mails.dpdk.org (Postfix) with ESMTP id 4895D427E2;
	Tue, 23 Jul 2024 18:33:00 +0200 (CEST)
Received: from mail-qt1-f228.google.com (mail-qt1-f228.google.com
 [209.85.160.228])
 by mails.dpdk.org (Postfix) with ESMTP id E2EA242670
 for <test-report@dpdk.org>; Tue, 23 Jul 2024 18:32:58 +0200 (CEST)
Received: by mail-qt1-f228.google.com with SMTP id
 d75a77b69052e-447e2d719afso147511cf.0
 for <test-report@dpdk.org>; Tue, 23 Jul 2024 09:32:58 -0700 (PDT)
DKIM-Signature: v=1; a=rsa-sha256; c=relaxed/relaxed;
 d=iol.unh.edu; s=unh-iol; t=1721752378; x=1722357178; darn=dpdk.org;
 h=references:in-reply-to:cc:to:from:subject:message-id:date:from:to
 :cc:subject:date:message-id:reply-to;
 bh=O4FmtfZYjmw6nvYgbemY3I+1YneJ0atMsXrYA8LzELs=;
 b=U/0lUnGW1DUmZ89V5LUN66Qm7bIuDuv4gIvDsvTnchBy1hAzV3/QeJqP0/UbRor+i4
 bYUFvDJxdNtGI/FlcUIRArfgeh0bDwrhmjoEa1OUMbVxdu6lLWAwUgpU2qKGbDVWYQdO
 l1+9c5OzNDZ65CE2uWgmbsVbSe1c6NnS0gA1M=
X-Google-DKIM-Signature: v=1; a=rsa-sha256; c=relaxed/relaxed;
 d=1e100.net; s=20230601; t=1721752378; x=1722357178;
 h=references:in-reply-to:cc:to:from:subject:message-id:date
 :x-gm-message-state:from:to:cc:subject:date:message-id:reply-to;
 bh=O4FmtfZYjmw6nvYgbemY3I+1YneJ0atMsXrYA8LzELs=;
 b=TUI7OgU+HOXyJDpOT85EujWg2h1404bhWEgA3Xm1i5SKj+NovqABAaYB9EnlobC7+Q
 JQLZrx7WzfpbdoZMEEXlS8ARifH4o+qrb/nBwxqoo3GZOIIlz/w7ohyorNbRRpnNrx9C
 jflAEVz7s90n8siqGBlBfYmSDh1R4our2FxjTvUIEG0StjOkUgFQvVKFhSkT6dPqossd
 WQxYPK1ebv3ArHxKeM240dt1xe52sw+N1JlrwAqE2/3xyWEQ9wSvLbo/D1Wqi76l162A
 qsNvsXoOVYFjW8BiZ6yWTmt+A6h0cd3OeyDaSyzgcp8j1mMs0NExNPY0/gxARKx4GrX4
 Xfvw==
X-Gm-Message-State: AOJu0YzkH5/J8zNlQ5WoKsINjaMVuubU5iq1D5xYnA27OEToUNn8zYAy
 /CgfFbdYpIx+sTRb96oALq6tGjShlPsT/LrxOMieRcXfxlmlwgmSS0ZoWZDpYFiTN2rHB7/wL+/
 pBDC169t3gAgok4VcHv5SZ+OMol+KNsnxLb8bJ76rDqFhHfDv5xhKQvKs
X-Google-Smtp-Source: AGHT+IH2z2Y+BFFPwP/geTkY2LXwEFTh/SlFGDXuPJtvrcmbsRN5tB6GgW9Io8cFIo6pxdF3p7SjIXdRmeRm
X-Received: by 2002:a05:622a:118b:b0:444:d42a:c522 with SMTP id
 d75a77b69052e-44fc7ea95bdmr40119391cf.4.1721752378122; 
 Tue, 23 Jul 2024 09:32:58 -0700 (PDT)
Received: from postal.iol.unh.edu (postal.iol.unh.edu.
 [2606:4100:3880:1234::84]) by smtp-relay.gmail.com with ESMTPS id
 d75a77b69052e-44f9cbec915sm4844081cf.3.2024.07.23.09.32.58
 (version=TLS1_2 cipher=ECDHE-ECDSA-AES128-GCM-SHA256 bits=128/128);
 Tue, 23 Jul 2024 09:32:58 -0700 (PDT)
X-Relaying-Domain: iol.unh.edu
Date: Tue, 23 Jul 2024 09:32:58 -0700 (PDT)
Message-ID: <669fdb3a.c80a0220.a169c.9c2aSMTPIN_ADDED_MISSING@mx.google.com>
Received: from [172.21.0.12] (unknown [172.18.0.240])
 by postal.iol.unh.edu (Postfix) with ESMTP id D02B9605C351;
 Tue, 23 Jul 2024 12:32:57 -0400 (EDT)
Subject: |PENDING| pw142658-142661 [PATCH] [4/4] net/mlx5: fix log error on n
From: dpdklab@iol.unh.edu
To: Test Report <test-report@dpdk.org>
Cc: dpdk-test-reports@iol.unh.edu
In-Reply-To: <20240723081522.1087433-5-bingz@nvidia.com>
References: <20240723081522.1087433-5-bingz@nvidia.com>
Content-Type: text/plain
X-BeenThere: test-report@dpdk.org
X-Mailman-Version: 2.1.29
Precedence: list
List-Id: automatic DPDK test reports <test-report.dpdk.org>
List-Unsubscribe: <https://mails.dpdk.org/options/test-report>,
 <mailto:test-report-request@dpdk.org?subject=unsubscribe>
List-Archive: <http://mails.dpdk.org/archives/test-report/>
List-Post: <mailto:test-report@dpdk.org>
List-Help: <mailto:test-report-request@dpdk.org?subject=help>
List-Subscribe: <https://mails.dpdk.org/listinfo/test-report>,
 <mailto:test-report-request@dpdk.org?subject=subscribe>
Errors-To: test-report-bounces@dpdk.org

Test-Label: iol-unit-amd64-testing
Test-Status: PENDING
http://dpdk.org/patch/142661

_Testing pending_

Submitter: Bing Zhao <bingz@nvidia.com>
Date: Tuesday, July 23 2024 08:15:22 
DPDK git baseline: Repo:dpdk
  Branch: master
  CommitID:3e11567d4e4e40c2d8010551929baf2bb81e4616

142658-142661 --> testing pending

Upstream job id: Generic-Unit-Test-DPDK#243492

Test environment and result as below:

+---------------------+----------------+
|     Environment     | dpdk_unit_test |
+=====================+================+
| Windows Server 2019 | PASS           |
+---------------------+----------------+
| Windows Server 2022 | PASS           |
+---------------------+----------------+
| CentOS Stream 8     | PASS           |
+---------------------+----------------+
| CentOS Stream 9     | PASS           |
+---------------------+----------------+
| Debian Bullseye     | PASS           |
+---------------------+----------------+
| Debian 12           | PASS           |
+---------------------+----------------+
| Fedora 37           | PASS           |
+---------------------+----------------+
| Fedora 39           | PASS           |
+---------------------+----------------+
| Fedora 38           | PASS           |
+---------------------+----------------+
| Fedora 38 (Clang)   | PASS           |
+---------------------+----------------+
| Fedora 39 (Clang)   | PASS           |
+---------------------+----------------+
| Fedora 40           | PASS           |
+---------------------+----------------+
| Fedora 40 (Clang)   | PEND           |
+---------------------+----------------+
| openSUSE Leap 15    | PASS           |
+---------------------+----------------+
| RHEL8               | PASS           |
+---------------------+----------------+
| RHEL9               | PASS           |
+---------------------+----------------+
| Ubuntu 20.04        | PEND           |
+---------------------+----------------+
| Ubuntu 22.04        | PEND           |
+---------------------+----------------+
| Ubuntu 24.04        | PEND           |
+---------------------+----------------+


Windows Server 2019
	Kernel: 10.0.17763
	Compiler: clang 14.0 and gcc 8.1.0 (MinGW)

Windows Server 2022
	Kernel: 10.0.20348.2031
	Compiler: clang 15.0.7, gcc 8.1.0 (MinGW), and MSVC VS 17.9

CentOS Stream 8
	Kernel: 5.4.0-167-generic
	Compiler: gcc 8.5.0 20210514

CentOS Stream 9
	Kernel: 5.4.0-167-generic
	Compiler: gcc 11.4.1 20230605

Debian Bullseye
	Kernel: 5.4.0-167-generic
	Compiler: gcc 10.2.1-6

Debian 12
	Kernel: Container Host Kernel
	Compiler: gcc 12.2.0

Fedora 37
	Kernel: Depends on container host system
	Compiler: gcc 12.3.1

Fedora 39
	Kernel: Depends on container host
	Compiler: gcc 13.2.1

Fedora 38
	Kernel: Depends on container host
	Compiler: gcc 13.2.1

Fedora 38 (Clang)
	Kernel: Depends on container host
	Compiler: clang 16.0.6

Fedora 39 (Clang)
	Kernel: Depends on container host
	Compiler: clang 17.0.6

Fedora 40
	Kernel: Depends on container host
	Compiler: gcc 14.1.1

Fedora 40 (Clang)
	Kernel: Depends on container host
	Compiler: clang 18.1.6

openSUSE Leap 15
	Kernel: 5.4.0-167-generic
	Compiler: gcc 7.5.0

RHEL8
	Kernel: 5.4.0-167-generic
	Compiler: gcc 8.5.0 20210514 (Red Hat 8.5.0-20)

RHEL9
	Kernel: Depends on container host
	Compiler: gcc 11.4.1

Ubuntu 20.04
	Kernel: 5.4.0-167-generic
	Compiler: gcc 9.4.0-1ubuntu1~20.04.1

Ubuntu 22.04
	Kernel: 5.4.0-167-generic
	Compiler: gcc 11.4.0

Ubuntu 24.04
	Kernel: 5.4.0-167-generic
	Compiler: gcc 13.2.0

To view detailed results, visit:
https://lab.dpdk.org/results/dashboard/patchsets/30589/

UNH-IOL DPDK Community Lab

To manage your email subscriptions, visit: 
https://lab.dpdk.org/results/dashboard/preferences/subscriptions/