From mboxrd@z Thu Jan  1 00:00:00 1970
Return-Path: <test-report-bounces@dpdk.org>
Received: from mails.dpdk.org (mails.dpdk.org [217.70.189.124])
	by inbox.dpdk.org (Postfix) with ESMTP id 6C23145699
	for <public@inbox.dpdk.org>; Tue, 23 Jul 2024 19:34:31 +0200 (CEST)
Received: from mails.dpdk.org (localhost [127.0.0.1])
	by mails.dpdk.org (Postfix) with ESMTP id 6903B40A77;
	Tue, 23 Jul 2024 19:34:31 +0200 (CEST)
Received: from mail-yw1-f226.google.com (mail-yw1-f226.google.com
 [209.85.128.226])
 by mails.dpdk.org (Postfix) with ESMTP id 7F382402E7
 for <test-report@dpdk.org>; Tue, 23 Jul 2024 19:34:28 +0200 (CEST)
Received: by mail-yw1-f226.google.com with SMTP id
 00721157ae682-6510c0c8e29so55344647b3.0
 for <test-report@dpdk.org>; Tue, 23 Jul 2024 10:34:28 -0700 (PDT)
DKIM-Signature: v=1; a=rsa-sha256; c=relaxed/relaxed;
 d=iol.unh.edu; s=unh-iol; t=1721756068; x=1722360868; darn=dpdk.org;
 h=references:in-reply-to:cc:to:from:subject:message-id:date:from:to
 :cc:subject:date:message-id:reply-to;
 bh=eCXjQck+OhvWhKrPCGwuga5FHludyCWqNuRiqmyHLwU=;
 b=ZZgfz6iclhkNuURkT6KP0+bV3VFJftXVub+6Q0UJxaHy9Mj9E+whDHlGVh3iCWXduQ
 rukGfo+grCJHaKQjUM+EfMTQ29mH20LYDqw7gHVTGUxH6w6lpkgIDBko9QpiKfE7tSUG
 0lLome5mxJsvCKh1QNEZ+hrMMV2z+HKl5Q7jw=
X-Google-DKIM-Signature: v=1; a=rsa-sha256; c=relaxed/relaxed;
 d=1e100.net; s=20230601; t=1721756068; x=1722360868;
 h=references:in-reply-to:cc:to:from:subject:message-id:date
 :x-gm-message-state:from:to:cc:subject:date:message-id:reply-to;
 bh=eCXjQck+OhvWhKrPCGwuga5FHludyCWqNuRiqmyHLwU=;
 b=ZHzLEX+l4t6/xjsjQmm8zI9+0t5K6qgqEGn8RAISm6RQhjBbZuA6vcCcN90WoyoyFE
 EN2ClKwH/PYM1iM0msbuhDQIsVfZvxXuFpnv/8rZ/hjMt5w9kbOBMfGBIRknYCi6+TnL
 94baOMEe05wrX+tqSyDo4eh68vpm2jZhLTKOnGPfMm61JOMMCR6nlDrLUVI40ahstK8w
 ehx5INFjD7QwmxWMNApR9e8+C/nHM18b+RBXYAnkE8sxw8XLp1dEBT6/02SSkTpvESDm
 tN2Fy901TJIZnkIMts5dyjZZvWxZPnsB3CHcZkDWxywMXre7oaB1Xb4KyuZ3rgX/BCCo
 rUqw==
X-Gm-Message-State: AOJu0YxPAQjE7d1r/r5fyVFpBqN/GBuoqdKNhkAhjKSAF09bKujYWA4t
 BUqFBtbZkPtI+XoHfPv9C2dgrxEVwBtYdpY/nGCXNft9m+cK+Oun7gW1uA60d59yuekJ0ikaADN
 eAuCt9s3VZYNNXong4gkYRBiso7jM6Mx06jzGfNGt
X-Google-Smtp-Source: AGHT+IHhREx+tENZdgo9hswg2UoH2ptqGsMsdORWibEbJrO+TVU3JJgRI5nnZDSASJ+8ZRAv1tNrZ+792oLx
X-Received: by 2002:a81:e403:0:b0:64a:791b:60ce with SMTP id
 00721157ae682-66e4d8f4eecmr39133877b3.30.1721756067929; 
 Tue, 23 Jul 2024 10:34:27 -0700 (PDT)
Received: from postal.iol.unh.edu (postal.iol.unh.edu. [132.177.123.84])
 by smtp-relay.gmail.com with ESMTPS id
 00721157ae682-66953ec6edfsm6633387b3.68.2024.07.23.10.34.27
 (version=TLS1_2 cipher=ECDHE-ECDSA-AES128-GCM-SHA256 bits=128/128);
 Tue, 23 Jul 2024 10:34:27 -0700 (PDT)
X-Relaying-Domain: iol.unh.edu
Date: Tue, 23 Jul 2024 10:34:27 -0700 (PDT)
Message-ID: <669fe9a3.810a0220.182185.5a77SMTPIN_ADDED_MISSING@mx.google.com>
Received: from [172.21.0.18] (unknown [172.18.0.240])
 by postal.iol.unh.edu (Postfix) with ESMTP id 92486605C351;
 Tue, 23 Jul 2024 13:34:27 -0400 (EDT)
Subject: |SUCCESS| pw142658-142661 [PATCH] [4/4] net/mlx5: fix log error on n
From: dpdklab@iol.unh.edu
To: Test Report <test-report@dpdk.org>
Cc: dpdk-test-reports@iol.unh.edu
In-Reply-To: <20240723081522.1087433-5-bingz@nvidia.com>
References: <20240723081522.1087433-5-bingz@nvidia.com>
Content-Type: text/plain
X-BeenThere: test-report@dpdk.org
X-Mailman-Version: 2.1.29
Precedence: list
List-Id: automatic DPDK test reports <test-report.dpdk.org>
List-Unsubscribe: <https://mails.dpdk.org/options/test-report>,
 <mailto:test-report-request@dpdk.org?subject=unsubscribe>
List-Archive: <http://mails.dpdk.org/archives/test-report/>
List-Post: <mailto:test-report@dpdk.org>
List-Help: <mailto:test-report-request@dpdk.org?subject=help>
List-Subscribe: <https://mails.dpdk.org/listinfo/test-report>,
 <mailto:test-report-request@dpdk.org?subject=subscribe>
Errors-To: test-report-bounces@dpdk.org

Test-Label: iol-compile-arm64-testing
Test-Status: SUCCESS
http://dpdk.org/patch/142661

_Testing PASS_

Submitter: Bing Zhao <bingz@nvidia.com>
Date: Tuesday, July 23 2024 08:15:22 
DPDK git baseline: Repo:dpdk
  Branch: master
  CommitID:3e11567d4e4e40c2d8010551929baf2bb81e4616

142658-142661 --> testing pass

Upstream job id: Generic-DPDK-Compile-Meson#278391

Test environment and result as below:

+----------------------------------------+--------------------+
|              Environment               | dpdk_meson_compile |
+========================================+====================+
| RHEL9 (ARM)                            | PASS               |
+----------------------------------------+--------------------+
| Ubuntu 20.04 ARM GCC Cross Compile     | PASS               |
+----------------------------------------+--------------------+
| Ubuntu 20.04 ARM SVE                   | PASS               |
+----------------------------------------+--------------------+
| Debian 12 with MUSDK                   | PASS               |
+----------------------------------------+--------------------+
| Fedora 37 (ARM)                        | PASS               |
+----------------------------------------+--------------------+
| Fedora 38 (ARM)                        | PASS               |
+----------------------------------------+--------------------+
| Fedora 38 (ARM Clang)                  | PASS               |
+----------------------------------------+--------------------+
| Fedora 39 (ARM)                        | PASS               |
+----------------------------------------+--------------------+
| Fedora 39 (ARM Clang)                  | PASS               |
+----------------------------------------+--------------------+
| Fedora 40 (ARM)                        | PASS               |
+----------------------------------------+--------------------+
| Fedora 40 (ARM Clang)                  | PASS               |
+----------------------------------------+--------------------+
| Ubuntu 22.04 (ARM)                     | PASS               |
+----------------------------------------+--------------------+
| Ubuntu 24.04 (ARM)                     | PASS               |
+----------------------------------------+--------------------+
| CentOS Stream 9 (ARM)                  | PASS               |
+----------------------------------------+--------------------+
| Debian 11 (Buster) (ARM)               | PASS               |
+----------------------------------------+--------------------+
| Debian 12 (arm)                        | PASS               |
+----------------------------------------+--------------------+
| Ubuntu 20.04 ARM Clang Cross Compile   | PASS               |
+----------------------------------------+--------------------+
| Ubuntu 20.04 aarch32 GCC Cross Compile | PASS               |
+----------------------------------------+--------------------+
| Ubuntu 20.04 (ARM)                     | PASS               |
+----------------------------------------+--------------------+


RHEL9 (ARM)
	Kernel: Depends on container host
	Compiler: gcc 11.4.1

Ubuntu 20.04 ARM GCC Cross Compile
	Kernel: 5.4.0-167-generic
	Compiler: aarch64-linux-gnu-gcc (Ubuntu 9.4.0-1ubuntu1~20.04.2) 9.4.0

Ubuntu 20.04 ARM SVE
	Kernel: 5.4.0-167-generic
	Compiler: gcc (Ubuntu 10.5.0-1ubuntu1~20.04) 10.5.0

Debian 12 with MUSDK
	Kernel: Container Host Kernel
	Compiler: gcc 12.2.0

Fedora 37 (ARM)
	Kernel: Depends on container host
	Compiler: gcc 12.3.1

Fedora 38 (ARM)
	Kernel: Depends on container host
	Compiler: gcc 13.2.1

Fedora 38 (ARM Clang)
	Kernel: Depends on container host
	Compiler: clang 16.0.6

Fedora 39 (ARM)
	Kernel: Depends on container host
	Compiler: gcc 13.2.1

Fedora 39 (ARM Clang)
	Kernel: Depends on container host
	Compiler: clang 17.0.6

Fedora 40 (ARM)
	Kernel: Depends on container host
	Compiler: gcc 14.1.1

Fedora 40 (ARM Clang)
	Kernel: Depends on container host
	Compiler: clang 18.1.6

Ubuntu 22.04 (ARM)
	Kernel: Container Host Kernel
	Compiler: gcc 11.4.0

Ubuntu 24.04 (ARM)
	Kernel: 5.4.0-167-generic
	Compiler: gcc 13.2.0

CentOS Stream 9 (ARM)
	Kernel: Container Host Kernel
	Compiler: gcc 11.4.1

Debian 11 (Buster) (ARM)
	Kernel: Container Host Kernel
	Compiler: gcc 10.2.1

Debian 12 (arm)
	Kernel: Container Host Kernel
	Compiler: gcc 12.2.0

Ubuntu 20.04 ARM Clang Cross Compile
	Kernel: 5.4.0-72-generic
	Compiler: clang 10.0.0-4ubuntu1

Ubuntu 20.04 aarch32 GCC Cross Compile
	Kernel: 5.4.0-167-generic
	Compiler: gcc 9.4.0

Ubuntu 20.04 (ARM)
	Kernel: Container Host Kernel
	Compiler: gcc 9.4.0

To view detailed results, visit:
https://lab.dpdk.org/results/dashboard/patchsets/30589/

UNH-IOL DPDK Community Lab

To manage your email subscriptions, visit: 
https://lab.dpdk.org/results/dashboard/preferences/subscriptions/