From mboxrd@z Thu Jan  1 00:00:00 1970
Return-Path: <test-report-bounces@dpdk.org>
Received: from mails.dpdk.org (mails.dpdk.org [217.70.189.124])
	by inbox.dpdk.org (Postfix) with ESMTP id 83FE24569A
	for <public@inbox.dpdk.org>; Tue, 23 Jul 2024 20:25:26 +0200 (CEST)
Received: from mails.dpdk.org (localhost [127.0.0.1])
	by mails.dpdk.org (Postfix) with ESMTP id 747E742ED5;
	Tue, 23 Jul 2024 20:25:26 +0200 (CEST)
Received: from mail-il1-f226.google.com (mail-il1-f226.google.com
 [209.85.166.226])
 by mails.dpdk.org (Postfix) with ESMTP id 89891402E7
 for <test-report@dpdk.org>; Tue, 23 Jul 2024 20:25:23 +0200 (CEST)
Received: by mail-il1-f226.google.com with SMTP id
 e9e14a558f8ab-397052a7b63so23607715ab.1
 for <test-report@dpdk.org>; Tue, 23 Jul 2024 11:25:23 -0700 (PDT)
DKIM-Signature: v=1; a=rsa-sha256; c=relaxed/relaxed;
 d=iol.unh.edu; s=unh-iol; t=1721759123; x=1722363923; darn=dpdk.org;
 h=references:in-reply-to:cc:to:from:subject:message-id:date:from:to
 :cc:subject:date:message-id:reply-to;
 bh=wQbJjmU7I+4vlTwtg7nHr6r3rZzD+5wNUR/su7TKw2Y=;
 b=WSdEuEAQiVvsdzAwaLGuoegQ9+5s/5+5Ut6+5hsaiy90EsY3owUc8PzpzNfdPyglAY
 iM9+LeTE5dJVtnMZJ2wr5wHm6U0Pg16vkZFZpoLbe4q8Y6WVaOdZPMJyA/1ckr+fzmmK
 aO7eC9VpPJZ/wIjtWcZsYf+r1ceW98tMPsuhk=
X-Google-DKIM-Signature: v=1; a=rsa-sha256; c=relaxed/relaxed;
 d=1e100.net; s=20230601; t=1721759123; x=1722363923;
 h=references:in-reply-to:cc:to:from:subject:message-id:date
 :x-gm-message-state:from:to:cc:subject:date:message-id:reply-to;
 bh=wQbJjmU7I+4vlTwtg7nHr6r3rZzD+5wNUR/su7TKw2Y=;
 b=vJLC92tNkWNxNJpS0MxOVQgO9yTDCJuMtzQGD73RiyOLDBrnaL4B2kzOeyNBvW+GBU
 lO815XXvDVd3K9p5GBSiaEFXqcAgHLcfSmFzRMQsKiXzKIpqjLe01OE+qfZ9yNM/qYUe
 1DcjtxCP8gCS29HxmlbayjoNHsJ4NVKU/Bfpz/UUFsv35ZUkjNXEBwWpc+VmxGA4SbYD
 BcDG1jfuOnlixbB/vY1wwLq2BDjVRvM59OU2L7o2nVF0k6tsLZzr60pNIK6ZJEBydxj+
 n0antJjcF8wamEsfG4f1/T2B4cmfHd9VmsBtg2SqMiZ42qXStrS32wXx1706IA1bbKeZ
 lrNw==
X-Gm-Message-State: AOJu0Yyj1cc6xA9ft6HJ8tCYRcfKbLehn8RMWjls38eaZ4y8ooPHVUBU
 udtqrem9I4MqPb9FxSgH3/MkBiMRQ9/PGcg+jMgO3qXpnIGKha+8Y5XvdyEhVtvzj+wUTfcB20Q
 7CKQJTiKQgrbbdf3kqqqJYU58z+Ylels7RJ9D1U3I
X-Google-Smtp-Source: AGHT+IFNyjnBolnm0tqR1luXXwCZ1Hj48vHb4ZuTMOiRwiN0Nxu/FZ0qwi10wj/Ko26R+XqmQ2LYCGsVd3hx
X-Received: by 2002:a05:6e02:188b:b0:382:7825:fe4e with SMTP id
 e9e14a558f8ab-398e9137caamr153984715ab.16.1721759122868; 
 Tue, 23 Jul 2024 11:25:22 -0700 (PDT)
Received: from postal.iol.unh.edu (postal.iol.unh.edu. [132.177.123.84])
 by smtp-relay.gmail.com with ESMTPS id
 e9e14a558f8ab-39a1859dba7sm18235ab.5.2024.07.23.11.25.22
 (version=TLS1_2 cipher=ECDHE-ECDSA-AES128-GCM-SHA256 bits=128/128);
 Tue, 23 Jul 2024 11:25:22 -0700 (PDT)
X-Relaying-Domain: iol.unh.edu
Date: Tue, 23 Jul 2024 11:25:22 -0700 (PDT)
Message-ID: <669ff592.050a0220.275460.01dfSMTPIN_ADDED_MISSING@mx.google.com>
Received: from [172.21.0.18] (unknown [172.18.0.240])
 by postal.iol.unh.edu (Postfix) with ESMTP id 66FFC605C351;
 Tue, 23 Jul 2024 14:25:22 -0400 (EDT)
Subject: |PENDING| pw142667 [PATCH] [v1,1/1] net/ice: fix E830 PTP phy model
From: dpdklab@iol.unh.edu
To: Test Report <test-report@dpdk.org>
Cc: dpdk-test-reports@iol.unh.edu
In-Reply-To: <1f6ca9415c22415fc73d7bd72f220e09b5f79025.1721740015.git.anatoly.burakov@intel.com>
References: <1f6ca9415c22415fc73d7bd72f220e09b5f79025.1721740015.git.anatoly.burakov@intel.com>
Content-Type: text/plain
X-BeenThere: test-report@dpdk.org
X-Mailman-Version: 2.1.29
Precedence: list
List-Id: automatic DPDK test reports <test-report.dpdk.org>
List-Unsubscribe: <https://mails.dpdk.org/options/test-report>,
 <mailto:test-report-request@dpdk.org?subject=unsubscribe>
List-Archive: <http://mails.dpdk.org/archives/test-report/>
List-Post: <mailto:test-report@dpdk.org>
List-Help: <mailto:test-report-request@dpdk.org?subject=help>
List-Subscribe: <https://mails.dpdk.org/listinfo/test-report>,
 <mailto:test-report-request@dpdk.org?subject=subscribe>
Errors-To: test-report-bounces@dpdk.org

Test-Label: iol-abi-testing
Test-Status: PENDING
http://dpdk.org/patch/142667

_Testing pending_

Submitter: Anatoly Burakov <anatoly.burakov@intel.com>
Date: Tuesday, July 23 2024 13:10:56 
DPDK git baseline: Repo:dpdk
  Branch: master
  CommitID:b819d95217cd7ee707c7d059f2b5279d94a57514

142667 --> testing pending

Upstream job id: Generic-DPDK-Compile-ABI#99999

Test environment and result as below:

+-------------------+----------+
|    Environment    | abi_test |
+===================+==========+
| CentOS Stream 8   | PASS     |
+-------------------+----------+
| CentOS Stream 9   | PEND     |
+-------------------+----------+
| Debian Bullseye   | PASS     |
+-------------------+----------+
| Fedora 38         | PASS     |
+-------------------+----------+
| Debian 12         | PASS     |
+-------------------+----------+
| Fedora 39         | PEND     |
+-------------------+----------+
| Fedora 38 (Clang) | PEND     |
+-------------------+----------+
| Fedora 39 (Clang) | PEND     |
+-------------------+----------+
| Fedora 37         | PASS     |
+-------------------+----------+
| Fedora 40 (Clang) | PEND     |
+-------------------+----------+
| RHEL8             | PEND     |
+-------------------+----------+
| Fedora 40         | PEND     |
+-------------------+----------+
| Ubuntu 24.04      | PEND     |
+-------------------+----------+
| Ubuntu 22.04      | PEND     |
+-------------------+----------+
| openSUSE Leap 15  | PEND     |
+-------------------+----------+
| RHEL9             | PEND     |
+-------------------+----------+


CentOS Stream 8
	Kernel: 5.4.0-167-generic
	Compiler: gcc 8.5.0 20210514

CentOS Stream 9
	Kernel: 5.4.0-167-generic
	Compiler: gcc 11.4.1 20230605

Debian Bullseye
	Kernel: 5.4.0-167-generic
	Compiler: gcc 10.2.1-6

Fedora 38
	Kernel: Depends on container host
	Compiler: gcc 13.2.1

Debian 12
	Kernel: Container Host Kernel
	Compiler: gcc 12.2.0

Fedora 39
	Kernel: Depends on container host
	Compiler: gcc 13.2.1

Fedora 38 (Clang)
	Kernel: Depends on container host
	Compiler: clang 16.0.6

Fedora 39 (Clang)
	Kernel: Depends on container host
	Compiler: clang 17.0.6

Fedora 37
	Kernel: Depends on container host system
	Compiler: gcc 12.3.1

Fedora 40 (Clang)
	Kernel: Depends on container host
	Compiler: clang 18.1.6

RHEL8
	Kernel: 5.4.0-167-generic
	Compiler: gcc 8.5.0 20210514 (Red Hat 8.5.0-20)

Fedora 40
	Kernel: Depends on container host
	Compiler: gcc 14.1.1

Ubuntu 24.04
	Kernel: 5.4.0-167-generic
	Compiler: gcc 13.2.0

Ubuntu 22.04
	Kernel: 5.4.0-167-generic
	Compiler: gcc 11.4.0

openSUSE Leap 15
	Kernel: 5.4.0-167-generic
	Compiler: gcc 7.5.0

RHEL9
	Kernel: Depends on container host
	Compiler: gcc 11.4.1

To view detailed results, visit:
https://lab.dpdk.org/results/dashboard/patchsets/30595/

UNH-IOL DPDK Community Lab

To manage your email subscriptions, visit: 
https://lab.dpdk.org/results/dashboard/preferences/subscriptions/