From mboxrd@z Thu Jan  1 00:00:00 1970
Return-Path: <test-report-bounces@dpdk.org>
Received: from mails.dpdk.org (mails.dpdk.org [217.70.189.124])
	by inbox.dpdk.org (Postfix) with ESMTP id EC3B04569A
	for <public@inbox.dpdk.org>; Tue, 23 Jul 2024 21:11:25 +0200 (CEST)
Received: from mails.dpdk.org (localhost [127.0.0.1])
	by mails.dpdk.org (Postfix) with ESMTP id E8EB1410FB;
	Tue, 23 Jul 2024 21:11:25 +0200 (CEST)
Received: from mail-pl1-f226.google.com (mail-pl1-f226.google.com
 [209.85.214.226])
 by mails.dpdk.org (Postfix) with ESMTP id 381FE40A77
 for <test-report@dpdk.org>; Tue, 23 Jul 2024 21:11:24 +0200 (CEST)
Received: by mail-pl1-f226.google.com with SMTP id
 d9443c01a7336-1fc5296e214so2589705ad.0
 for <test-report@dpdk.org>; Tue, 23 Jul 2024 12:11:24 -0700 (PDT)
DKIM-Signature: v=1; a=rsa-sha256; c=relaxed/relaxed;
 d=iol.unh.edu; s=unh-iol; t=1721761883; x=1722366683; darn=dpdk.org;
 h=references:in-reply-to:cc:to:from:subject:message-id:date:from:to
 :cc:subject:date:message-id:reply-to;
 bh=wyDmjPCwaW70FCDXWYx6ik/HcIBROBJqLapw3yMWB8A=;
 b=Co4J80nLIrw2w2XsNAEcIBMtldrRbWeYN3Y/1/JN1GX6zaFTBnzdWhC4ojUVauS37r
 x1RSFpKrNQUIZ3kC2hh91VC0IMZQUB5ZtMndRDvnrHVb+D81dJDE72sUutwP3XPH4P8j
 y1yBVoQ7TJlZO/xMvGi741dIFx8kjfgSMUcJY=
X-Google-DKIM-Signature: v=1; a=rsa-sha256; c=relaxed/relaxed;
 d=1e100.net; s=20230601; t=1721761883; x=1722366683;
 h=references:in-reply-to:cc:to:from:subject:message-id:date
 :x-gm-message-state:from:to:cc:subject:date:message-id:reply-to;
 bh=wyDmjPCwaW70FCDXWYx6ik/HcIBROBJqLapw3yMWB8A=;
 b=B4ZCFW6W56PDrVfz2S7HYjzGe47hZxC3Eb+2TuKGe21Thyv4yioyABKBfQust178BB
 s92kK0uo9Hsy78yU+l9qdfWK53Se/f8Nei1fY+1AUyv7GGE7tFooa6O61pHcC1V37tkS
 y3HIdKggG1ff/Mi1HsuXwmMKPx4jRyiNAnBpgydcYZvPRMslfF0nCgKWe8wJnt+vR5zM
 NzFPukv8F0U5jrNHmQzi4CZC6to+rbU+VoZdS9H00iSpwZcccl+4cTVvbVD6TCz8TZKb
 ++GWa9RN2BYjuL3kHpzJKijNwVAo0n7PwR+3Swhx26HMp7V0zblpOJfv6jzmoHy+1CPo
 gaFg==
X-Gm-Message-State: AOJu0YxMPV6gtUxgP9TXWH1DJW7sN1uvtqwvatM+ULjKVLLNQWfslT7X
 Cz1iPs2uG/znDgdHaCD/Ca2gAITb6hWB4tz+K7bm9xKXlYBee7Usldl1DCMmZ7bNGBoNpAa60XH
 548DqOZbB6Hp1ro4cQcIMOBHrPrgSU2P++wtFtdj2OCoV4wDBPvYSBwt+
X-Google-Smtp-Source: AGHT+IHPwIVkJUXPUbHUJ753dzr/7IUN/KavRjupAMm2N6HlLHOa/a2QwScl1ORrdx7nvI/hABexJmIQOHmj
X-Received: by 2002:a17:902:e74e:b0:1fc:7309:9125 with SMTP id
 d9443c01a7336-1fd745875d1mr108413375ad.34.1721761883194; 
 Tue, 23 Jul 2024 12:11:23 -0700 (PDT)
Received: from postal.iol.unh.edu (postal.iol.unh.edu.
 [2606:4100:3880:1234::84]) by smtp-relay.gmail.com with ESMTPS id
 d9443c01a7336-1fd6f2f2984sm3863675ad.76.2024.07.23.12.11.23
 (version=TLS1_2 cipher=ECDHE-ECDSA-AES128-GCM-SHA256 bits=128/128);
 Tue, 23 Jul 2024 12:11:23 -0700 (PDT)
X-Relaying-Domain: iol.unh.edu
Date: Tue, 23 Jul 2024 12:11:23 -0700 (PDT)
Message-ID: <66a0005b.170a0220.1ffe6.3ae3SMTPIN_ADDED_MISSING@mx.google.com>
Received: from [172.21.0.9] (unknown [172.18.0.240])
 by postal.iol.unh.edu (Postfix) with ESMTP id 90B18605C351;
 Tue, 23 Jul 2024 15:11:22 -0400 (EDT)
Subject: |PENDING| pw142665 [PATCH] doc: announce rte_ipsec API changes
From: dpdklab@iol.unh.edu
To: Test Report <test-report@dpdk.org>
Cc: dpdk-test-reports@iol.unh.edu
In-Reply-To: <20240723130254.2128028-1-asasidharan@marvell.com>
References: <20240723130254.2128028-1-asasidharan@marvell.com>
Content-Type: text/plain
X-BeenThere: test-report@dpdk.org
X-Mailman-Version: 2.1.29
Precedence: list
List-Id: automatic DPDK test reports <test-report.dpdk.org>
List-Unsubscribe: <https://mails.dpdk.org/options/test-report>,
 <mailto:test-report-request@dpdk.org?subject=unsubscribe>
List-Archive: <http://mails.dpdk.org/archives/test-report/>
List-Post: <mailto:test-report@dpdk.org>
List-Help: <mailto:test-report-request@dpdk.org?subject=help>
List-Subscribe: <https://mails.dpdk.org/listinfo/test-report>,
 <mailto:test-report-request@dpdk.org?subject=subscribe>
Errors-To: test-report-bounces@dpdk.org

Test-Label: iol-abi-testing
Test-Status: PENDING
http://dpdk.org/patch/142665

_Testing pending_

Submitter: Aakash Sasidharan <asasidharan@marvell.com>
Date: Tuesday, July 23 2024 13:02:54 
DPDK git baseline: Repo:dpdk
  Branch: master
  CommitID:7d8c608faa7fb65345b0029a80251ecaa1a7c556

142665 --> testing pending

Upstream job id: Generic-DPDK-Compile-ABI#100015

Test environment and result as below:

+-------------------+----------+
|    Environment    | abi_test |
+===================+==========+
| CentOS Stream 8   | PASS     |
+-------------------+----------+
| CentOS Stream 9   | PASS     |
+-------------------+----------+
| Fedora 38         | PASS     |
+-------------------+----------+
| Debian 12         | PASS     |
+-------------------+----------+
| Debian Bullseye   | PASS     |
+-------------------+----------+
| Fedora 37         | PASS     |
+-------------------+----------+
| Fedora 38 (Clang) | PEND     |
+-------------------+----------+
| Fedora 40 (Clang) | PEND     |
+-------------------+----------+
| Fedora 39         | PEND     |
+-------------------+----------+
| Fedora 39 (Clang) | PEND     |
+-------------------+----------+
| Ubuntu 24.04      | PASS     |
+-------------------+----------+
| RHEL9             | PEND     |
+-------------------+----------+
| RHEL8             | PEND     |
+-------------------+----------+
| Ubuntu 22.04      | PEND     |
+-------------------+----------+
| Fedora 40         | PEND     |
+-------------------+----------+
| openSUSE Leap 15  | PEND     |
+-------------------+----------+


CentOS Stream 8
	Kernel: 5.4.0-167-generic
	Compiler: gcc 8.5.0 20210514

CentOS Stream 9
	Kernel: 5.4.0-167-generic
	Compiler: gcc 11.4.1 20230605

Fedora 38
	Kernel: Depends on container host
	Compiler: gcc 13.2.1

Debian 12
	Kernel: Container Host Kernel
	Compiler: gcc 12.2.0

Debian Bullseye
	Kernel: 5.4.0-167-generic
	Compiler: gcc 10.2.1-6

Fedora 37
	Kernel: Depends on container host system
	Compiler: gcc 12.3.1

Fedora 38 (Clang)
	Kernel: Depends on container host
	Compiler: clang 16.0.6

Fedora 40 (Clang)
	Kernel: Depends on container host
	Compiler: clang 18.1.6

Fedora 39
	Kernel: Depends on container host
	Compiler: gcc 13.2.1

Fedora 39 (Clang)
	Kernel: Depends on container host
	Compiler: clang 17.0.6

Ubuntu 24.04
	Kernel: 5.4.0-167-generic
	Compiler: gcc 13.2.0

RHEL9
	Kernel: Depends on container host
	Compiler: gcc 11.4.1

RHEL8
	Kernel: 5.4.0-167-generic
	Compiler: gcc 8.5.0 20210514 (Red Hat 8.5.0-20)

Ubuntu 22.04
	Kernel: 5.4.0-167-generic
	Compiler: gcc 11.4.0

Fedora 40
	Kernel: Depends on container host
	Compiler: gcc 14.1.1

openSUSE Leap 15
	Kernel: 5.4.0-167-generic
	Compiler: gcc 7.5.0

To view detailed results, visit:
https://lab.dpdk.org/results/dashboard/patchsets/30593/

UNH-IOL DPDK Community Lab

To manage your email subscriptions, visit: 
https://lab.dpdk.org/results/dashboard/preferences/subscriptions/