From mboxrd@z Thu Jan  1 00:00:00 1970
Return-Path: <test-report-bounces@dpdk.org>
Received: from mails.dpdk.org (mails.dpdk.org [217.70.189.124])
	by inbox.dpdk.org (Postfix) with ESMTP id A05164569A
	for <public@inbox.dpdk.org>; Tue, 23 Jul 2024 21:40:45 +0200 (CEST)
Received: from mails.dpdk.org (localhost [127.0.0.1])
	by mails.dpdk.org (Postfix) with ESMTP id 9C304427B1;
	Tue, 23 Jul 2024 21:40:45 +0200 (CEST)
Received: from mail-oi1-f227.google.com (mail-oi1-f227.google.com
 [209.85.167.227])
 by mails.dpdk.org (Postfix) with ESMTP id 2FE7D40A75
 for <test-report@dpdk.org>; Tue, 23 Jul 2024 21:40:19 +0200 (CEST)
Received: by mail-oi1-f227.google.com with SMTP id
 5614622812f47-3dae221e42dso2527482b6e.0
 for <test-report@dpdk.org>; Tue, 23 Jul 2024 12:40:19 -0700 (PDT)
DKIM-Signature: v=1; a=rsa-sha256; c=relaxed/relaxed;
 d=iol.unh.edu; s=unh-iol; t=1721763618; x=1722368418; darn=dpdk.org;
 h=references:in-reply-to:cc:to:from:subject:message-id:date:from:to
 :cc:subject:date:message-id:reply-to;
 bh=caz44lBJsPBFDwQ87WxCTBnt0GBsawCJY9wsLDyj+Zo=;
 b=dLJdcG9kWpeqC1zmf4EZQA2Qmq+kA9OqfqYab1QWnWVzV4aCoMX2z245ta+/VDGh5V
 PoQJCXgpP2ScAN8pf80XQf6V5btChRBEyKKt3fKfsURmpoVy5ixXuotdJRA0D3TDJCC+
 h8rMTsgjiEF3mlGV+0godOn+cPFj5Zy+n1m3s=
X-Google-DKIM-Signature: v=1; a=rsa-sha256; c=relaxed/relaxed;
 d=1e100.net; s=20230601; t=1721763618; x=1722368418;
 h=references:in-reply-to:cc:to:from:subject:message-id:date
 :x-gm-message-state:from:to:cc:subject:date:message-id:reply-to;
 bh=caz44lBJsPBFDwQ87WxCTBnt0GBsawCJY9wsLDyj+Zo=;
 b=dGJtUf02MoWkh6hFt+kHqbSsiGK+mr/yDIoEXThbn5eynd/DZoFha2JfPawen95fji
 bHkHE9eP6zHHnDH0mD2K6jSXJG6K90OqpBoiVDzB/xqWNGOVbY0U7xesA7qfAbZDsIUW
 8jbH9C9qm8bDu4cZb9Kai/n4VMQBkbtJ3EJ7DehgBf2vitSwclP/gIsB6fIshqtFRv2Y
 4C+yBSBgOyxY+gvyFhP7NmVMMwkFCWcjcZRg5GxgK2EF0hA2qNUOAr0b00oAEcMj6QYl
 s6UfYKwFUDITSDceRm1mArBRNbdZ384I9sSHeZzNAy2vcQKY8z63CeJ2uQvMRO2ZJfnK
 Tu2g==
X-Gm-Message-State: AOJu0YywAFUdVTDvGGP74/cFNwqnTXBEsnEwuVr/76JkZSyegr2RC/2N
 ffQAQk8CGbQQpykxidv/hzF2JMznbzeGyEe65O9H4cEmpIwnJDlx7kZkgmf50rcw7I27z5hQn9R
 AKT7bkMMcFtrI2qbd98Thqi7f2hi3eHu7nEk7Xx+3
X-Google-Smtp-Source: AGHT+IGoG7stubDpT1gnai68thMj6iGj8bVFPN5qehn6IEPJUwWxsaDeSxdRGZObMuZCz9O+fOcwXGvnBbIX
X-Received: by 2002:a05:6808:1412:b0:3d6:317b:a95c with SMTP id
 5614622812f47-3db06e062damr1182487b6e.38.1721763618614; 
 Tue, 23 Jul 2024 12:40:18 -0700 (PDT)
Received: from postal.iol.unh.edu (postal.iol.unh.edu. [132.177.123.84])
 by smtp-relay.gmail.com with ESMTPS id
 d2e1a72fcca58-70d14491f6dsm469131b3a.0.2024.07.23.12.40.18
 (version=TLS1_2 cipher=ECDHE-ECDSA-AES128-GCM-SHA256 bits=128/128);
 Tue, 23 Jul 2024 12:40:18 -0700 (PDT)
X-Relaying-Domain: iol.unh.edu
Date: Tue, 23 Jul 2024 12:40:18 -0700 (PDT)
Message-ID: <66a00722.050a0220.5f9c.765eSMTPIN_ADDED_MISSING@mx.google.com>
Received: from [172.21.0.9] (unknown [172.18.0.240])
 by postal.iol.unh.edu (Postfix) with ESMTP id 7DF17605C351;
 Tue, 23 Jul 2024 15:40:17 -0400 (EDT)
Subject: |PENDING| pw142665 [PATCH] doc: announce rte_ipsec API changes
From: dpdklab@iol.unh.edu
To: Test Report <test-report@dpdk.org>
Cc: dpdk-test-reports@iol.unh.edu
In-Reply-To: <20240723130254.2128028-1-asasidharan@marvell.com>
References: <20240723130254.2128028-1-asasidharan@marvell.com>
Content-Type: text/plain
X-BeenThere: test-report@dpdk.org
X-Mailman-Version: 2.1.29
Precedence: list
List-Id: automatic DPDK test reports <test-report.dpdk.org>
List-Unsubscribe: <https://mails.dpdk.org/options/test-report>,
 <mailto:test-report-request@dpdk.org?subject=unsubscribe>
List-Archive: <http://mails.dpdk.org/archives/test-report/>
List-Post: <mailto:test-report@dpdk.org>
List-Help: <mailto:test-report-request@dpdk.org?subject=help>
List-Subscribe: <https://mails.dpdk.org/listinfo/test-report>,
 <mailto:test-report-request@dpdk.org?subject=subscribe>
Errors-To: test-report-bounces@dpdk.org

Test-Label: iol-compile-arm64-testing
Test-Status: PENDING
http://dpdk.org/patch/142665

_Testing pending_

Submitter: Aakash Sasidharan <asasidharan@marvell.com>
Date: Tuesday, July 23 2024 13:02:54 
DPDK git baseline: Repo:dpdk
  Branch: master
  CommitID:7d8c608faa7fb65345b0029a80251ecaa1a7c556

142665 --> testing pending

Upstream job id: Generic-DPDK-Compile-Meson#278575

Test environment and result as below:

+----------------------------------------+--------------------+
|              Environment               | dpdk_meson_compile |
+========================================+====================+
| RHEL9 (ARM)                            | PASS               |
+----------------------------------------+--------------------+
| Ubuntu 20.04 ARM GCC Cross Compile     | PEND               |
+----------------------------------------+--------------------+
| Ubuntu 20.04 ARM SVE                   | PASS               |
+----------------------------------------+--------------------+
| Debian 12 with MUSDK                   | PASS               |
+----------------------------------------+--------------------+
| Fedora 37 (ARM)                        | PEND               |
+----------------------------------------+--------------------+
| Fedora 38 (ARM)                        | PEND               |
+----------------------------------------+--------------------+
| Fedora 38 (ARM Clang)                  | PEND               |
+----------------------------------------+--------------------+
| Fedora 39 (ARM)                        | PEND               |
+----------------------------------------+--------------------+
| Fedora 39 (ARM Clang)                  | PEND               |
+----------------------------------------+--------------------+
| Fedora 40 (ARM)                        | PEND               |
+----------------------------------------+--------------------+
| Fedora 40 (ARM Clang)                  | PEND               |
+----------------------------------------+--------------------+
| Ubuntu 20.04 (ARM)                     | PEND               |
+----------------------------------------+--------------------+
| Ubuntu 22.04 (ARM)                     | PEND               |
+----------------------------------------+--------------------+
| Ubuntu 24.04 (ARM)                     | PEND               |
+----------------------------------------+--------------------+
| CentOS Stream 9 (ARM)                  | PEND               |
+----------------------------------------+--------------------+
| Debian 11 (Buster) (ARM)               | PEND               |
+----------------------------------------+--------------------+
| Debian 12 (arm)                        | PEND               |
+----------------------------------------+--------------------+
| Ubuntu 20.04 ARM Clang Cross Compile   | PEND               |
+----------------------------------------+--------------------+
| Ubuntu 20.04 aarch32 GCC Cross Compile | PEND               |
+----------------------------------------+--------------------+


RHEL9 (ARM)
	Kernel: Depends on container host
	Compiler: gcc 11.4.1

Ubuntu 20.04 ARM GCC Cross Compile
	Kernel: 5.4.0-167-generic
	Compiler: aarch64-linux-gnu-gcc (Ubuntu 9.4.0-1ubuntu1~20.04.2) 9.4.0

Ubuntu 20.04 ARM SVE
	Kernel: 5.4.0-167-generic
	Compiler: gcc (Ubuntu 10.5.0-1ubuntu1~20.04) 10.5.0

Debian 12 with MUSDK
	Kernel: Container Host Kernel
	Compiler: gcc 12.2.0

Fedora 37 (ARM)
	Kernel: Depends on container host
	Compiler: gcc 12.3.1

Fedora 38 (ARM)
	Kernel: Depends on container host
	Compiler: gcc 13.2.1

Fedora 38 (ARM Clang)
	Kernel: Depends on container host
	Compiler: clang 16.0.6

Fedora 39 (ARM)
	Kernel: Depends on container host
	Compiler: gcc 13.2.1

Fedora 39 (ARM Clang)
	Kernel: Depends on container host
	Compiler: clang 17.0.6

Fedora 40 (ARM)
	Kernel: Depends on container host
	Compiler: gcc 14.1.1

Fedora 40 (ARM Clang)
	Kernel: Depends on container host
	Compiler: clang 18.1.6

Ubuntu 20.04 (ARM)
	Kernel: Container Host Kernel
	Compiler: gcc 9.4.0

Ubuntu 22.04 (ARM)
	Kernel: Container Host Kernel
	Compiler: gcc 11.4.0

Ubuntu 24.04 (ARM)
	Kernel: 5.4.0-167-generic
	Compiler: gcc 13.2.0

CentOS Stream 9 (ARM)
	Kernel: Container Host Kernel
	Compiler: gcc 11.4.1

Debian 11 (Buster) (ARM)
	Kernel: Container Host Kernel
	Compiler: gcc 10.2.1

Debian 12 (arm)
	Kernel: Container Host Kernel
	Compiler: gcc 12.2.0

Ubuntu 20.04 ARM Clang Cross Compile
	Kernel: 5.4.0-72-generic
	Compiler: clang 10.0.0-4ubuntu1

Ubuntu 20.04 aarch32 GCC Cross Compile
	Kernel: 5.4.0-167-generic
	Compiler: gcc 9.4.0

To view detailed results, visit:
https://lab.dpdk.org/results/dashboard/patchsets/30593/

UNH-IOL DPDK Community Lab

To manage your email subscriptions, visit: 
https://lab.dpdk.org/results/dashboard/preferences/subscriptions/