From mboxrd@z Thu Jan  1 00:00:00 1970
Return-Path: <test-report-bounces@dpdk.org>
Received: from mails.dpdk.org (mails.dpdk.org [217.70.189.124])
	by inbox.dpdk.org (Postfix) with ESMTP id 0FF2E4569A
	for <public@inbox.dpdk.org>; Tue, 23 Jul 2024 21:46:46 +0200 (CEST)
Received: from mails.dpdk.org (localhost [127.0.0.1])
	by mails.dpdk.org (Postfix) with ESMTP id 09CA642F65;
	Tue, 23 Jul 2024 21:46:46 +0200 (CEST)
Received: from mail-il1-f228.google.com (mail-il1-f228.google.com
 [209.85.166.228])
 by mails.dpdk.org (Postfix) with ESMTP id 2DEE740A75
 for <test-report@dpdk.org>; Tue, 23 Jul 2024 21:46:26 +0200 (CEST)
Received: by mail-il1-f228.google.com with SMTP id
 e9e14a558f8ab-398039f8b7bso20420205ab.3
 for <test-report@dpdk.org>; Tue, 23 Jul 2024 12:46:26 -0700 (PDT)
DKIM-Signature: v=1; a=rsa-sha256; c=relaxed/relaxed;
 d=iol.unh.edu; s=unh-iol; t=1721763985; x=1722368785; darn=dpdk.org;
 h=references:in-reply-to:cc:to:from:subject:message-id:date:from:to
 :cc:subject:date:message-id:reply-to;
 bh=034xqITIlthktwK28APteew158x1hZDdgt3BkpCO0iw=;
 b=bX0U/1+LB3atmynES+gSMBnJIvn1ldesNbcOzHWZzeEzWKAcNLsAQ7xe7BERebP0AD
 COAT+taCR53WNOU6y8rol0Vq6oIAP5S/5JP2OYaOHVBIMeb+/ND/cGRrw1VykgLS06Rk
 vXF47xGbI0ZasnLTKOiGlVHHeGeImrpb+ZEZA=
X-Google-DKIM-Signature: v=1; a=rsa-sha256; c=relaxed/relaxed;
 d=1e100.net; s=20230601; t=1721763985; x=1722368785;
 h=references:in-reply-to:cc:to:from:subject:message-id:date
 :x-gm-message-state:from:to:cc:subject:date:message-id:reply-to;
 bh=034xqITIlthktwK28APteew158x1hZDdgt3BkpCO0iw=;
 b=sMLVtzyLPxtilkHTE1oHN8g8tmAI681rww93tZ3T1FaI6BF8FciZJZiCN3BZtglmiC
 4Qw7WV0vUstFwn8TPcBR990AMs56YIilZIshAmFYNCOJfKV2NWgezOZ/0nkdzbmpDI8o
 IFpP2QvQPJBW6I6jKrdpSN3eosFEfk7uVef4yuZhicmD0ThyoUlgT/Go5HjBA6e3qFC+
 RcLqK3uw0aA9AjQdq7lafTqKobbaPgjGkWBNbhU0YGTx/Lck1cH91EkbEeDRhu2NzlpV
 XNTnnYR+RgJHW0YASBKizgrItUkMOu3mSuZYELyEtE3LJqVXN3uTEKishfAe3vtPxqm3
 r8qw==
X-Gm-Message-State: AOJu0Yy9/9On8qkXIEMKKHsRURUnGzjqCAp1xqEpuIw/eAGlhSqxlB/8
 LfTpnDuJTmGxfJT4D306G0TclMVkAdWaKJpqGrWgjmzrJjsCuShT2Nyhg5I1kIr4rhJR9jNmW74
 VcycxuEciwSpdDD32RtIKUVGjY+FfsthWqJT6/gRd
X-Google-Smtp-Source: AGHT+IF9EUDZ68IvGveH3s5pnRYwwZttj9BedbE4pM24r9jFl8sA5d97enC1PsfZDAfkoHXDpmvatQn4IWut
X-Received: by 2002:a05:6e02:1d9b:b0:399:2c60:9951 with SMTP id
 e9e14a558f8ab-3993ffd58eamr141793365ab.20.1721763985544; 
 Tue, 23 Jul 2024 12:46:25 -0700 (PDT)
Received: from postal.iol.unh.edu (postal.iol.unh.edu. [132.177.123.84])
 by smtp-relay.gmail.com with ESMTPS id
 d2e1a72fcca58-70d16567d47sm484243b3a.18.2024.07.23.12.46.25
 (version=TLS1_2 cipher=ECDHE-ECDSA-AES128-GCM-SHA256 bits=128/128);
 Tue, 23 Jul 2024 12:46:25 -0700 (PDT)
X-Relaying-Domain: iol.unh.edu
Date: Tue, 23 Jul 2024 12:46:25 -0700 (PDT)
Message-ID: <66a00891.050a0220.5df28.8a14SMTPIN_ADDED_MISSING@mx.google.com>
Received: from [172.21.0.8] (unknown [172.18.0.240])
 by postal.iol.unh.edu (Postfix) with ESMTP id A0FD9605C352;
 Tue, 23 Jul 2024 15:46:24 -0400 (EDT)
Subject: |PENDING| pw142665 [PATCH] doc: announce rte_ipsec API changes
From: dpdklab@iol.unh.edu
To: Test Report <test-report@dpdk.org>
Cc: dpdk-test-reports@iol.unh.edu
In-Reply-To: <20240723130254.2128028-1-asasidharan@marvell.com>
References: <20240723130254.2128028-1-asasidharan@marvell.com>
Content-Type: text/plain
X-BeenThere: test-report@dpdk.org
X-Mailman-Version: 2.1.29
Precedence: list
List-Id: automatic DPDK test reports <test-report.dpdk.org>
List-Unsubscribe: <https://mails.dpdk.org/options/test-report>,
 <mailto:test-report-request@dpdk.org?subject=unsubscribe>
List-Archive: <http://mails.dpdk.org/archives/test-report/>
List-Post: <mailto:test-report@dpdk.org>
List-Help: <mailto:test-report-request@dpdk.org?subject=help>
List-Subscribe: <https://mails.dpdk.org/listinfo/test-report>,
 <mailto:test-report-request@dpdk.org?subject=subscribe>
Errors-To: test-report-bounces@dpdk.org

Test-Label: iol-compile-arm64-testing
Test-Status: PENDING
http://dpdk.org/patch/142665

_Testing pending_

Submitter: Aakash Sasidharan <asasidharan@marvell.com>
Date: Tuesday, July 23 2024 13:02:54 
DPDK git baseline: Repo:dpdk
  Branch: master
  CommitID:7d8c608faa7fb65345b0029a80251ecaa1a7c556

142665 --> testing pending

Upstream job id: Generic-DPDK-Compile-Meson#278582

Test environment and result as below:

+----------------------------------------+--------------------+
|              Environment               | dpdk_meson_compile |
+========================================+====================+
| RHEL9 (ARM)                            | PASS               |
+----------------------------------------+--------------------+
| Ubuntu 20.04 ARM GCC Cross Compile     | PEND               |
+----------------------------------------+--------------------+
| Ubuntu 20.04 ARM SVE                   | PASS               |
+----------------------------------------+--------------------+
| Debian 12 with MUSDK                   | PASS               |
+----------------------------------------+--------------------+
| Fedora 37 (ARM)                        | PASS               |
+----------------------------------------+--------------------+
| Fedora 38 (ARM)                        | PASS               |
+----------------------------------------+--------------------+
| Fedora 38 (ARM Clang)                  | PEND               |
+----------------------------------------+--------------------+
| Fedora 39 (ARM)                        | PASS               |
+----------------------------------------+--------------------+
| Fedora 39 (ARM Clang)                  | PEND               |
+----------------------------------------+--------------------+
| Fedora 40 (ARM)                        | PASS               |
+----------------------------------------+--------------------+
| Fedora 40 (ARM Clang)                  | PEND               |
+----------------------------------------+--------------------+
| Ubuntu 20.04 (ARM)                     | PEND               |
+----------------------------------------+--------------------+
| Ubuntu 22.04 (ARM)                     | PEND               |
+----------------------------------------+--------------------+
| Ubuntu 24.04 (ARM)                     | PEND               |
+----------------------------------------+--------------------+
| CentOS Stream 9 (ARM)                  | PEND               |
+----------------------------------------+--------------------+
| Debian 11 (Buster) (ARM)               | PEND               |
+----------------------------------------+--------------------+
| Debian 12 (arm)                        | PEND               |
+----------------------------------------+--------------------+
| Ubuntu 20.04 ARM Clang Cross Compile   | PEND               |
+----------------------------------------+--------------------+
| Ubuntu 20.04 aarch32 GCC Cross Compile | PEND               |
+----------------------------------------+--------------------+


RHEL9 (ARM)
	Kernel: Depends on container host
	Compiler: gcc 11.4.1

Ubuntu 20.04 ARM GCC Cross Compile
	Kernel: 5.4.0-167-generic
	Compiler: aarch64-linux-gnu-gcc (Ubuntu 9.4.0-1ubuntu1~20.04.2) 9.4.0

Ubuntu 20.04 ARM SVE
	Kernel: 5.4.0-167-generic
	Compiler: gcc (Ubuntu 10.5.0-1ubuntu1~20.04) 10.5.0

Debian 12 with MUSDK
	Kernel: Container Host Kernel
	Compiler: gcc 12.2.0

Fedora 37 (ARM)
	Kernel: Depends on container host
	Compiler: gcc 12.3.1

Fedora 38 (ARM)
	Kernel: Depends on container host
	Compiler: gcc 13.2.1

Fedora 38 (ARM Clang)
	Kernel: Depends on container host
	Compiler: clang 16.0.6

Fedora 39 (ARM)
	Kernel: Depends on container host
	Compiler: gcc 13.2.1

Fedora 39 (ARM Clang)
	Kernel: Depends on container host
	Compiler: clang 17.0.6

Fedora 40 (ARM)
	Kernel: Depends on container host
	Compiler: gcc 14.1.1

Fedora 40 (ARM Clang)
	Kernel: Depends on container host
	Compiler: clang 18.1.6

Ubuntu 20.04 (ARM)
	Kernel: Container Host Kernel
	Compiler: gcc 9.4.0

Ubuntu 22.04 (ARM)
	Kernel: Container Host Kernel
	Compiler: gcc 11.4.0

Ubuntu 24.04 (ARM)
	Kernel: 5.4.0-167-generic
	Compiler: gcc 13.2.0

CentOS Stream 9 (ARM)
	Kernel: Container Host Kernel
	Compiler: gcc 11.4.1

Debian 11 (Buster) (ARM)
	Kernel: Container Host Kernel
	Compiler: gcc 10.2.1

Debian 12 (arm)
	Kernel: Container Host Kernel
	Compiler: gcc 12.2.0

Ubuntu 20.04 ARM Clang Cross Compile
	Kernel: 5.4.0-72-generic
	Compiler: clang 10.0.0-4ubuntu1

Ubuntu 20.04 aarch32 GCC Cross Compile
	Kernel: 5.4.0-167-generic
	Compiler: gcc 9.4.0

To view detailed results, visit:
https://lab.dpdk.org/results/dashboard/patchsets/30593/

UNH-IOL DPDK Community Lab

To manage your email subscriptions, visit: 
https://lab.dpdk.org/results/dashboard/preferences/subscriptions/