From mboxrd@z Thu Jan  1 00:00:00 1970
Return-Path: <test-report-bounces@dpdk.org>
Received: from mails.dpdk.org (mails.dpdk.org [217.70.189.124])
	by inbox.dpdk.org (Postfix) with ESMTP id 63FEB4569B
	for <public@inbox.dpdk.org>; Tue, 23 Jul 2024 22:11:34 +0200 (CEST)
Received: from mails.dpdk.org (localhost [127.0.0.1])
	by mails.dpdk.org (Postfix) with ESMTP id 60C9240E12;
	Tue, 23 Jul 2024 22:11:34 +0200 (CEST)
Received: from mail-il1-f226.google.com (mail-il1-f226.google.com
 [209.85.166.226])
 by mails.dpdk.org (Postfix) with ESMTP id B813B40A75
 for <test-report@dpdk.org>; Tue, 23 Jul 2024 22:11:32 +0200 (CEST)
Received: by mail-il1-f226.google.com with SMTP id
 e9e14a558f8ab-3960e73653fso26345135ab.0
 for <test-report@dpdk.org>; Tue, 23 Jul 2024 13:11:32 -0700 (PDT)
DKIM-Signature: v=1; a=rsa-sha256; c=relaxed/relaxed;
 d=iol.unh.edu; s=unh-iol; t=1721765492; x=1722370292; darn=dpdk.org;
 h=references:in-reply-to:cc:to:from:subject:message-id:date:from:to
 :cc:subject:date:message-id:reply-to;
 bh=aPO4JzWGdCu7g9YgcBHuHkMIr6aPjV6ojaIobad6sLE=;
 b=DNtWSj7jdLZDzZVdu98vFopDqroJYiyRUl8Y+FY2dnOZurMiW8ZekBcWTDnJ34TJ17
 D780LibZpr9XyugX5hb+8laD7ATgVSd1ZmOnK2Y3Fh4XxCNrsqX6N7CJW93s3SipzIIs
 xpT9ZI21lCbowQgVQ46GA+3TLAkGgtZiD04ns=
X-Google-DKIM-Signature: v=1; a=rsa-sha256; c=relaxed/relaxed;
 d=1e100.net; s=20230601; t=1721765492; x=1722370292;
 h=references:in-reply-to:cc:to:from:subject:message-id:date
 :x-gm-message-state:from:to:cc:subject:date:message-id:reply-to;
 bh=aPO4JzWGdCu7g9YgcBHuHkMIr6aPjV6ojaIobad6sLE=;
 b=ni6JjmirQBD4WF3S7PVfSyj2xavKyeHn3SDYVlVEdWw5yaLafgD27N1DvoCBwFrlvz
 7ucwQNeXCbWQJmDIjDyho5YyPNFvuni0LGY7Hf6ljIsIK7NvnjE5GEA1Te/n6OqBTzXK
 KOCxVtgOrJOU/ezHdvKunOoyeA7jpBAIlcM/UwAxknIiqjJvTRwhOZfbz8NeEcEYaGd3
 orItpnjaMO0IG2dhtFE7kQ938BiWPQVw6ucGoKx/F2C4VaNC2XuX8j29/akNw9h7xizN
 TA/PrDg4YsG8N2Cbmvw2LVnxscDyUKlC17QB4SjHa8hEjlKkAXz3AE8lTd/9fF2mzUCy
 CYNQ==
X-Gm-Message-State: AOJu0Yx3qNwmniQB/RZXucFQQTw4MDgmD0Zi+llod/mvGPPL54YiWsNL
 myyJ6r8EKyjdpD6Ujy0KoUab4I36Isz1E0RETPTadbjE5h0qmgh4FPjRKAkt2F1xn/CLuPnFeW5
 0KJu6v64Ba3UhfqQQGpreR5Fh2Ge/864fGGvgVmi+RaKpKrZeSXzVnFgg
X-Google-Smtp-Source: AGHT+IEOwK4Jrf5mm0L3YphEXgQxO/5LC61IHMUN2PI7pAm9+xUsf5BRQVGj7qGyVcVN5xORqmO20b477y6c
X-Received: by 2002:a05:6e02:1e07:b0:37a:9ab7:ce34 with SMTP id
 e9e14a558f8ab-39a16d2d88dmr13797345ab.19.1721765491825; 
 Tue, 23 Jul 2024 13:11:31 -0700 (PDT)
Received: from postal.iol.unh.edu (postal.iol.unh.edu.
 [2606:4100:3880:1234::84]) by smtp-relay.gmail.com with ESMTPS id
 e9e14a558f8ab-39a1859dc2asm108215ab.15.2024.07.23.13.11.31
 (version=TLS1_2 cipher=ECDHE-ECDSA-AES128-GCM-SHA256 bits=128/128);
 Tue, 23 Jul 2024 13:11:31 -0700 (PDT)
X-Relaying-Domain: iol.unh.edu
Date: Tue, 23 Jul 2024 13:11:31 -0700 (PDT)
Message-ID: <66a00e73.050a0220.37b234.0b21SMTPIN_ADDED_MISSING@mx.google.com>
Received: from [172.21.0.7] (unknown [172.18.0.240])
 by postal.iol.unh.edu (Postfix) with ESMTP id 576E9605C351;
 Tue, 23 Jul 2024 16:11:31 -0400 (EDT)
Subject: |PENDING| pw142667 [PATCH] [v1,1/1] net/ice: fix E830 PTP phy model
From: dpdklab@iol.unh.edu
To: Test Report <test-report@dpdk.org>
Cc: dpdk-test-reports@iol.unh.edu
In-Reply-To: <1f6ca9415c22415fc73d7bd72f220e09b5f79025.1721740015.git.anatoly.burakov@intel.com>
References: <1f6ca9415c22415fc73d7bd72f220e09b5f79025.1721740015.git.anatoly.burakov@intel.com>
Content-Type: text/plain
X-BeenThere: test-report@dpdk.org
X-Mailman-Version: 2.1.29
Precedence: list
List-Id: automatic DPDK test reports <test-report.dpdk.org>
List-Unsubscribe: <https://mails.dpdk.org/options/test-report>,
 <mailto:test-report-request@dpdk.org?subject=unsubscribe>
List-Archive: <http://mails.dpdk.org/archives/test-report/>
List-Post: <mailto:test-report@dpdk.org>
List-Help: <mailto:test-report-request@dpdk.org?subject=help>
List-Subscribe: <https://mails.dpdk.org/listinfo/test-report>,
 <mailto:test-report-request@dpdk.org?subject=subscribe>
Errors-To: test-report-bounces@dpdk.org

Test-Label: iol-unit-amd64-testing
Test-Status: PENDING
http://dpdk.org/patch/142667

_Testing pending_

Submitter: Anatoly Burakov <anatoly.burakov@intel.com>
Date: Tuesday, July 23 2024 13:10:56 
DPDK git baseline: Repo:dpdk
  Branch: master
  CommitID:b819d95217cd7ee707c7d059f2b5279d94a57514

142667 --> testing pending

Upstream job id: Generic-Unit-Test-DPDK#243628

Test environment and result as below:

+---------------------+----------------+
|     Environment     | dpdk_unit_test |
+=====================+================+
| CentOS Stream 9     | PASS           |
+---------------------+----------------+
| CentOS Stream 8     | PASS           |
+---------------------+----------------+
| Debian Bullseye     | PASS           |
+---------------------+----------------+
| Fedora 37           | PASS           |
+---------------------+----------------+
| Debian 12           | PASS           |
+---------------------+----------------+
| Fedora 38 (Clang)   | PASS           |
+---------------------+----------------+
| Fedora 38           | PASS           |
+---------------------+----------------+
| Fedora 39 (Clang)   | PASS           |
+---------------------+----------------+
| Fedora 39           | PASS           |
+---------------------+----------------+
| Fedora 40           | PASS           |
+---------------------+----------------+
| Windows Server 2022 | PASS           |
+---------------------+----------------+
| Fedora 40 (Clang)   | PEND           |
+---------------------+----------------+
| RHEL8               | PASS           |
+---------------------+----------------+
| openSUSE Leap 15    | PEND           |
+---------------------+----------------+
| RHEL9               | PEND           |
+---------------------+----------------+
| Ubuntu 20.04        | PEND           |
+---------------------+----------------+
| Ubuntu 22.04        | PEND           |
+---------------------+----------------+
| Ubuntu 24.04        | PEND           |
+---------------------+----------------+
| Windows Server 2019 | PASS           |
+---------------------+----------------+


CentOS Stream 9
	Kernel: 5.4.0-167-generic
	Compiler: gcc 11.4.1 20230605

CentOS Stream 8
	Kernel: 5.4.0-167-generic
	Compiler: gcc 8.5.0 20210514

Debian Bullseye
	Kernel: 5.4.0-167-generic
	Compiler: gcc 10.2.1-6

Fedora 37
	Kernel: Depends on container host system
	Compiler: gcc 12.3.1

Debian 12
	Kernel: Container Host Kernel
	Compiler: gcc 12.2.0

Fedora 38 (Clang)
	Kernel: Depends on container host
	Compiler: clang 16.0.6

Fedora 38
	Kernel: Depends on container host
	Compiler: gcc 13.2.1

Fedora 39 (Clang)
	Kernel: Depends on container host
	Compiler: clang 17.0.6

Fedora 39
	Kernel: Depends on container host
	Compiler: gcc 13.2.1

Fedora 40
	Kernel: Depends on container host
	Compiler: gcc 14.1.1

Windows Server 2022
	Kernel: 10.0.20348.2031
	Compiler: clang 15.0.7, gcc 8.1.0 (MinGW), and MSVC VS 17.9

Fedora 40 (Clang)
	Kernel: Depends on container host
	Compiler: clang 18.1.6

RHEL8
	Kernel: 5.4.0-167-generic
	Compiler: gcc 8.5.0 20210514 (Red Hat 8.5.0-20)

openSUSE Leap 15
	Kernel: 5.4.0-167-generic
	Compiler: gcc 7.5.0

RHEL9
	Kernel: Depends on container host
	Compiler: gcc 11.4.1

Ubuntu 20.04
	Kernel: 5.4.0-167-generic
	Compiler: gcc 9.4.0-1ubuntu1~20.04.1

Ubuntu 22.04
	Kernel: 5.4.0-167-generic
	Compiler: gcc 11.4.0

Ubuntu 24.04
	Kernel: 5.4.0-167-generic
	Compiler: gcc 13.2.0

Windows Server 2019
	Kernel: 10.0.17763
	Compiler: clang 14.0 and gcc 8.1.0 (MinGW)

To view detailed results, visit:
https://lab.dpdk.org/results/dashboard/patchsets/30595/

UNH-IOL DPDK Community Lab

To manage your email subscriptions, visit: 
https://lab.dpdk.org/results/dashboard/preferences/subscriptions/