From mboxrd@z Thu Jan  1 00:00:00 1970
Return-Path: <test-report-bounces@dpdk.org>
Received: from mails.dpdk.org (mails.dpdk.org [217.70.189.124])
	by inbox.dpdk.org (Postfix) with ESMTP id F0AD94569B
	for <public@inbox.dpdk.org>; Tue, 23 Jul 2024 22:18:00 +0200 (CEST)
Received: from mails.dpdk.org (localhost [127.0.0.1])
	by mails.dpdk.org (Postfix) with ESMTP id EDECB40A75;
	Tue, 23 Jul 2024 22:18:00 +0200 (CEST)
Received: from mail-pf1-f228.google.com (mail-pf1-f228.google.com
 [209.85.210.228])
 by mails.dpdk.org (Postfix) with ESMTP id F000940280
 for <test-report@dpdk.org>; Tue, 23 Jul 2024 22:17:58 +0200 (CEST)
Received: by mail-pf1-f228.google.com with SMTP id
 d2e1a72fcca58-70d18d4b94cso1876489b3a.2
 for <test-report@dpdk.org>; Tue, 23 Jul 2024 13:17:58 -0700 (PDT)
DKIM-Signature: v=1; a=rsa-sha256; c=relaxed/relaxed;
 d=iol.unh.edu; s=unh-iol; t=1721765878; x=1722370678; darn=dpdk.org;
 h=references:in-reply-to:cc:to:from:subject:message-id:date:from:to
 :cc:subject:date:message-id:reply-to;
 bh=c35biHuGApz3ywE5NVmVjgMuWgLZp0WFqP2FGbUwdXY=;
 b=GnCucPyndZg/YxVt2YDAABaYkulSnTvYtZxEF2Fgjkp+WUm/tCaacMRXQHDw9+QV4/
 m+6wUJfpU+3344shn3XCsSUF0bcjHtHRzDUE/8LjvfW25ri7upNbeNKWgfEVrab/wQFQ
 lGUqMBb+jHIDAkhGOvXZZwvKLRhOAUuIRfHus=
X-Google-DKIM-Signature: v=1; a=rsa-sha256; c=relaxed/relaxed;
 d=1e100.net; s=20230601; t=1721765878; x=1722370678;
 h=references:in-reply-to:cc:to:from:subject:message-id:date
 :x-gm-message-state:from:to:cc:subject:date:message-id:reply-to;
 bh=c35biHuGApz3ywE5NVmVjgMuWgLZp0WFqP2FGbUwdXY=;
 b=qce+JspD4XEy8M5is6Q26BIDGxDMx7p3rFJnxvafuY0bRkaOSm2YNRxmSDkJrjIKub
 ViWT3IXBTTQYPzNWs2I23k4uwndBC5AL1BJGxoBFA19LywAkA7OYPIHE9gCeyEmvKBE1
 HoNOSO3KqkZ1A5W65jtsU3yzH2BPCeNcgg1R2d0L39P+ErY/yfUno72lLztTqR2lrDrK
 H7M4s9/E+e3h2D0L2AuulVdVOsHTj4tbzRV2vfCG/QGpNRvuSz7NdN1sB1uLhTiDJ/5M
 nJb2jtkt2NZ0aIINdDGRgoPnFvgS4IRL9NOJblloInh9ER7AYZcoPlH9K5yRYMWttef3
 a8gQ==
X-Gm-Message-State: AOJu0YzoHNiKpraLMkKnuiVrnwIdiQwIO5x13wsGdO+YJweP3WzSIXEE
 rZDxIci41Yj3euIeYSM7sq3749Wvjx0VlAURVPZnXkpuG7cUbvGxwAzjyVTw8SO0t29APSLX8yj
 nbdmrA/uj2KLjdwZ/vqgb3N6d/uvAYAbmPjsRlHF4
X-Google-Smtp-Source: AGHT+IH6DdllM7uwUS6W4UubgoEXf/5fyLMw+W2+IQ19TPgVfsp23jCAQWLDYQZoybJZ9Mlk5o8/kCucOALE
X-Received: by 2002:a05:6a00:1989:b0:705:a13b:e740 with SMTP id
 d2e1a72fcca58-70e9daeb268mr144558b3a.19.1721765878037; 
 Tue, 23 Jul 2024 13:17:58 -0700 (PDT)
Received: from postal.iol.unh.edu (postal.iol.unh.edu. [132.177.123.84])
 by smtp-relay.gmail.com with ESMTPS id
 41be03b00d2f7-7a1cc3e5802sm290900a12.25.2024.07.23.13.17.57
 (version=TLS1_2 cipher=ECDHE-ECDSA-AES128-GCM-SHA256 bits=128/128);
 Tue, 23 Jul 2024 13:17:58 -0700 (PDT)
X-Relaying-Domain: iol.unh.edu
Date: Tue, 23 Jul 2024 13:17:58 -0700 (PDT)
Message-ID: <66a00ff6.630a0220.c6d70.e7f5SMTPIN_ADDED_MISSING@mx.google.com>
Received: from [172.21.0.7] (unknown [172.18.0.240])
 by postal.iol.unh.edu (Postfix) with ESMTP id 144C6605C351;
 Tue, 23 Jul 2024 16:17:57 -0400 (EDT)
Subject: |PENDING| pw142667 [PATCH] [v1,1/1] net/ice: fix E830 PTP phy model
From: dpdklab@iol.unh.edu
To: Test Report <test-report@dpdk.org>
Cc: dpdk-test-reports@iol.unh.edu
In-Reply-To: <1f6ca9415c22415fc73d7bd72f220e09b5f79025.1721740015.git.anatoly.burakov@intel.com>
References: <1f6ca9415c22415fc73d7bd72f220e09b5f79025.1721740015.git.anatoly.burakov@intel.com>
Content-Type: text/plain
X-BeenThere: test-report@dpdk.org
X-Mailman-Version: 2.1.29
Precedence: list
List-Id: automatic DPDK test reports <test-report.dpdk.org>
List-Unsubscribe: <https://mails.dpdk.org/options/test-report>,
 <mailto:test-report-request@dpdk.org?subject=unsubscribe>
List-Archive: <http://mails.dpdk.org/archives/test-report/>
List-Post: <mailto:test-report@dpdk.org>
List-Help: <mailto:test-report-request@dpdk.org?subject=help>
List-Subscribe: <https://mails.dpdk.org/listinfo/test-report>,
 <mailto:test-report-request@dpdk.org?subject=subscribe>
Errors-To: test-report-bounces@dpdk.org

Test-Label: iol-unit-amd64-testing
Test-Status: PENDING
http://dpdk.org/patch/142667

_Testing pending_

Submitter: Anatoly Burakov <anatoly.burakov@intel.com>
Date: Tuesday, July 23 2024 13:10:56 
DPDK git baseline: Repo:dpdk
  Branch: master
  CommitID:b819d95217cd7ee707c7d059f2b5279d94a57514

142667 --> testing pending

Upstream job id: Generic-Unit-Test-DPDK#243631

Test environment and result as below:

+---------------------+----------------+
|     Environment     | dpdk_unit_test |
+=====================+================+
| CentOS Stream 9     | PASS           |
+---------------------+----------------+
| CentOS Stream 8     | PASS           |
+---------------------+----------------+
| Debian Bullseye     | PASS           |
+---------------------+----------------+
| Fedora 37           | PASS           |
+---------------------+----------------+
| Debian 12           | PASS           |
+---------------------+----------------+
| Fedora 38 (Clang)   | PASS           |
+---------------------+----------------+
| Fedora 38           | PASS           |
+---------------------+----------------+
| Fedora 39 (Clang)   | PASS           |
+---------------------+----------------+
| Fedora 39           | PASS           |
+---------------------+----------------+
| Fedora 40           | PASS           |
+---------------------+----------------+
| Windows Server 2022 | PASS           |
+---------------------+----------------+
| Fedora 40 (Clang)   | PASS           |
+---------------------+----------------+
| RHEL8               | PASS           |
+---------------------+----------------+
| openSUSE Leap 15    | PEND           |
+---------------------+----------------+
| RHEL9               | PASS           |
+---------------------+----------------+
| Ubuntu 20.04        | PASS           |
+---------------------+----------------+
| Ubuntu 22.04        | PEND           |
+---------------------+----------------+
| Ubuntu 24.04        | PEND           |
+---------------------+----------------+
| Windows Server 2019 | PASS           |
+---------------------+----------------+


CentOS Stream 9
	Kernel: 5.4.0-167-generic
	Compiler: gcc 11.4.1 20230605

CentOS Stream 8
	Kernel: 5.4.0-167-generic
	Compiler: gcc 8.5.0 20210514

Debian Bullseye
	Kernel: 5.4.0-167-generic
	Compiler: gcc 10.2.1-6

Fedora 37
	Kernel: Depends on container host system
	Compiler: gcc 12.3.1

Debian 12
	Kernel: Container Host Kernel
	Compiler: gcc 12.2.0

Fedora 38 (Clang)
	Kernel: Depends on container host
	Compiler: clang 16.0.6

Fedora 38
	Kernel: Depends on container host
	Compiler: gcc 13.2.1

Fedora 39 (Clang)
	Kernel: Depends on container host
	Compiler: clang 17.0.6

Fedora 39
	Kernel: Depends on container host
	Compiler: gcc 13.2.1

Fedora 40
	Kernel: Depends on container host
	Compiler: gcc 14.1.1

Windows Server 2022
	Kernel: 10.0.20348.2031
	Compiler: clang 15.0.7, gcc 8.1.0 (MinGW), and MSVC VS 17.9

Fedora 40 (Clang)
	Kernel: Depends on container host
	Compiler: clang 18.1.6

RHEL8
	Kernel: 5.4.0-167-generic
	Compiler: gcc 8.5.0 20210514 (Red Hat 8.5.0-20)

openSUSE Leap 15
	Kernel: 5.4.0-167-generic
	Compiler: gcc 7.5.0

RHEL9
	Kernel: Depends on container host
	Compiler: gcc 11.4.1

Ubuntu 20.04
	Kernel: 5.4.0-167-generic
	Compiler: gcc 9.4.0-1ubuntu1~20.04.1

Ubuntu 22.04
	Kernel: 5.4.0-167-generic
	Compiler: gcc 11.4.0

Ubuntu 24.04
	Kernel: 5.4.0-167-generic
	Compiler: gcc 13.2.0

Windows Server 2019
	Kernel: 10.0.17763
	Compiler: clang 14.0 and gcc 8.1.0 (MinGW)

To view detailed results, visit:
https://lab.dpdk.org/results/dashboard/patchsets/30595/

UNH-IOL DPDK Community Lab

To manage your email subscriptions, visit: 
https://lab.dpdk.org/results/dashboard/preferences/subscriptions/