From mboxrd@z Thu Jan  1 00:00:00 1970
Return-Path: <test-report-bounces@dpdk.org>
Received: from mails.dpdk.org (mails.dpdk.org [217.70.189.124])
	by inbox.dpdk.org (Postfix) with ESMTP id F3EB64569B
	for <public@inbox.dpdk.org>; Tue, 23 Jul 2024 23:24:15 +0200 (CEST)
Received: from mails.dpdk.org (localhost [127.0.0.1])
	by mails.dpdk.org (Postfix) with ESMTP id EC232410FB;
	Tue, 23 Jul 2024 23:24:15 +0200 (CEST)
Received: from mail-io1-f98.google.com (mail-io1-f98.google.com
 [209.85.166.98]) by mails.dpdk.org (Postfix) with ESMTP id 4547040A75
 for <test-report@dpdk.org>; Tue, 23 Jul 2024 23:24:15 +0200 (CEST)
Received: by mail-io1-f98.google.com with SMTP id
 ca18e2360f4ac-816b627a7b6so213142639f.0
 for <test-report@dpdk.org>; Tue, 23 Jul 2024 14:24:15 -0700 (PDT)
DKIM-Signature: v=1; a=rsa-sha256; c=relaxed/relaxed;
 d=iol.unh.edu; s=unh-iol; t=1721769854; x=1722374654; darn=dpdk.org;
 h=references:in-reply-to:cc:to:from:subject:message-id:date:from:to
 :cc:subject:date:message-id:reply-to;
 bh=zrqGrbaWYXmfYWlva11bDb0Wsi3uluxAx3RuQ2CLIuU=;
 b=YFoJ52dk+o06WoeMbTfZsz+tneVCHL4i5Yf9jz9dUq85fZ8HmvgJf408Zc/cIcVmpq
 /hyJyVAX9nONsgExJdL3yoYATwmTMYqFro70tTd0GWhGZukHkIUhUf1ppZAl81vmCnOQ
 b+003lgv2KZYaGrEHFlDMoqWOFZ4z91tnYWQA=
X-Google-DKIM-Signature: v=1; a=rsa-sha256; c=relaxed/relaxed;
 d=1e100.net; s=20230601; t=1721769854; x=1722374654;
 h=references:in-reply-to:cc:to:from:subject:message-id:date
 :x-gm-message-state:from:to:cc:subject:date:message-id:reply-to;
 bh=zrqGrbaWYXmfYWlva11bDb0Wsi3uluxAx3RuQ2CLIuU=;
 b=F2A7CpJlGL4CrBGC16LCRj0GjL38teR7gciS2PpWHpogpgEt8UMYDfg+Wyy7LxF6eM
 5yyDfKXQi2nIFMS/VsFYc6x/8sNscu5Y4C5lW6oUnMtRZc1wi4pM2kQFL8NfvfsUF5ow
 M7VSuKD1l+wUdevZ43eTMj8p3BTRBXZtT8NOZ8u1xNCTwlNtju3UIsr1QKR/Kl/bW6ai
 8B8quS2UCKmKzvQ+OznbbSi5qXVGnyevCiVzVRJSQgMxkVGSr/wBCQKuYbmcHSut5AFA
 nP7bon8mFGdhLnHR/pOfLVzGiLw/U0a0wYfLqeUWt8g/XrxkK1q6JqAjmcmNkG5bymmm
 hkSQ==
X-Gm-Message-State: AOJu0YxKhD82vydqg6QXklakoIvdizvmTopPAC6apnYgA+wwEJ3MsKc0
 HuOPEXKLC88lHE7HjIeaEH0X85WBNzKCYSM17jM9Kk3Xxq6xcFrowWSNpYST2N9WUyqjyJSveiC
 AG6QQWbZ69LK9sCXocBzg1gCc7Yvgnlbbdzg+wCaF
X-Google-Smtp-Source: AGHT+IHhIanPbb8E3aVlqulpebApKvYACNsAK5cEI+3/KLOv5663wa9yVIuId2Q7D6wKJZpWXipiKNnDCDDS
X-Received: by 2002:a05:6602:60c3:b0:804:2216:4b23 with SMTP id
 ca18e2360f4ac-81f6d21202dmr104305339f.17.1721769854426; 
 Tue, 23 Jul 2024 14:24:14 -0700 (PDT)
Received: from postal.iol.unh.edu (postal.iol.unh.edu. [132.177.123.84])
 by smtp-relay.gmail.com with ESMTPS id
 8926c6da1cb9f-4c28cc0ad24sm10894173.77.2024.07.23.14.24.14
 (version=TLS1_2 cipher=ECDHE-ECDSA-AES128-GCM-SHA256 bits=128/128);
 Tue, 23 Jul 2024 14:24:14 -0700 (PDT)
X-Relaying-Domain: iol.unh.edu
Date: Tue, 23 Jul 2024 14:24:14 -0700 (PDT)
Message-ID: <66a01f7e.050a0220.2cf64e.0b7dSMTPIN_ADDED_MISSING@mx.google.com>
Received: from [172.21.0.6] (unknown [172.18.0.240])
 by postal.iol.unh.edu (Postfix) with ESMTP id AB85C605C351;
 Tue, 23 Jul 2024 17:24:13 -0400 (EDT)
Subject: |PENDING| pw142667 [PATCH] [v1,1/1] net/ice: fix E830 PTP phy model
From: dpdklab@iol.unh.edu
To: Test Report <test-report@dpdk.org>
Cc: dpdk-test-reports@iol.unh.edu
In-Reply-To: <1f6ca9415c22415fc73d7bd72f220e09b5f79025.1721740015.git.anatoly.burakov@intel.com>
References: <1f6ca9415c22415fc73d7bd72f220e09b5f79025.1721740015.git.anatoly.burakov@intel.com>
Content-Type: text/plain
X-BeenThere: test-report@dpdk.org
X-Mailman-Version: 2.1.29
Precedence: list
List-Id: automatic DPDK test reports <test-report.dpdk.org>
List-Unsubscribe: <https://mails.dpdk.org/options/test-report>,
 <mailto:test-report-request@dpdk.org?subject=unsubscribe>
List-Archive: <http://mails.dpdk.org/archives/test-report/>
List-Post: <mailto:test-report@dpdk.org>
List-Help: <mailto:test-report-request@dpdk.org?subject=help>
List-Subscribe: <https://mails.dpdk.org/listinfo/test-report>,
 <mailto:test-report-request@dpdk.org?subject=subscribe>
Errors-To: test-report-bounces@dpdk.org

Test-Label: iol-compile-amd64-testing
Test-Status: PENDING
http://dpdk.org/patch/142667

_Testing pending_

Submitter: Anatoly Burakov <anatoly.burakov@intel.com>
Date: Tuesday, July 23 2024 13:10:56 
DPDK git baseline: Repo:dpdk
  Branch: master
  CommitID:b819d95217cd7ee707c7d059f2b5279d94a57514

142667 --> testing pending

Upstream job id: Generic-DPDK-Compile-Meson#278537

Test environment and result as below:

+---------------------+--------------------+----------------------+------------------+-------------------+
|     Environment     | dpdk_meson_compile | dpdk_mingw64_compile | dpdk_compile_ovs | dpdk_compile_spdk |
+=====================+====================+======================+==================+===================+
| Windows Server 2022 | PASS               | PASS                 | SKIPPED          | SKIPPED           |
+---------------------+--------------------+----------------------+------------------+-------------------+
| FreeBSD 13.3        | PASS               | SKIPPED              | SKIPPED          | SKIPPED           |
+---------------------+--------------------+----------------------+------------------+-------------------+
| FreeBSD 14.1        | PASS               | SKIPPED              | SKIPPED          | SKIPPED           |
+---------------------+--------------------+----------------------+------------------+-------------------+
| Windows Server 2019 | PASS               | PEND                 | SKIPPED          | SKIPPED           |
+---------------------+--------------------+----------------------+------------------+-------------------+
| CentOS Stream 8     | PASS               | SKIPPED              | PASS             | PASS              |
+---------------------+--------------------+----------------------+------------------+-------------------+
| CentOS Stream 9     | PASS               | SKIPPED              | PASS             | PASS              |
+---------------------+--------------------+----------------------+------------------+-------------------+
| Debian Bullseye     | PASS               | SKIPPED              | PASS             | PASS              |
+---------------------+--------------------+----------------------+------------------+-------------------+
| Debian 12           | PASS               | SKIPPED              | PASS             | PASS              |
+---------------------+--------------------+----------------------+------------------+-------------------+
| Fedora 37           | PASS               | SKIPPED              | PASS             | PASS              |
+---------------------+--------------------+----------------------+------------------+-------------------+
| Fedora 38 (Clang)   | PASS               | SKIPPED              | PASS             | PASS              |
+---------------------+--------------------+----------------------+------------------+-------------------+
| Fedora 38           | PASS               | SKIPPED              | PASS             | PASS              |
+---------------------+--------------------+----------------------+------------------+-------------------+
| Fedora 39 (Clang)   | PASS               | SKIPPED              | PASS             | PASS              |
+---------------------+--------------------+----------------------+------------------+-------------------+
| Fedora 39           | PASS               | SKIPPED              | PASS             | PASS              |
+---------------------+--------------------+----------------------+------------------+-------------------+
| Fedora 40 (Clang)   | PASS               | SKIPPED              | PASS             | PASS              |
+---------------------+--------------------+----------------------+------------------+-------------------+
| Fedora 40           | PASS               | SKIPPED              | PASS             | PASS              |
+---------------------+--------------------+----------------------+------------------+-------------------+
| openSUSE Leap 15    | PASS               | SKIPPED              | PASS             | SKIPPED           |
+---------------------+--------------------+----------------------+------------------+-------------------+
| RHEL8               | PASS               | SKIPPED              | PASS             | SKIPPED           |
+---------------------+--------------------+----------------------+------------------+-------------------+
| RHEL9               | PASS               | SKIPPED              | PASS             | SKIPPED           |
+---------------------+--------------------+----------------------+------------------+-------------------+
| Ubuntu 20.04        | PASS               | SKIPPED              | PASS             | SKIPPED           |
+---------------------+--------------------+----------------------+------------------+-------------------+
| Ubuntu 22.04        | PASS               | SKIPPED              | PASS             | PASS              |
+---------------------+--------------------+----------------------+------------------+-------------------+
| Ubuntu 24.04        | PASS               | SKIPPED              | PASS             | PASS              |
+---------------------+--------------------+----------------------+------------------+-------------------+
| Alpine              | PASS               | SKIPPED              | PASS             | SKIPPED           |
+---------------------+--------------------+----------------------+------------------+-------------------+


Windows Server 2022
	Kernel: 10.0.20348.2031
	Compiler: clang 15.0.7, gcc 8.1.0 (MinGW), and MSVC VS 17.9

FreeBSD 13.3
	Kernel: 13.3-RELEASE-p1
	Compiler: clang 17.0.6

FreeBSD 14.1
	Kernel: 14.1
	Compiler: clang 18.1.5

Windows Server 2019
	Kernel: 10.0.17763
	Compiler: clang 14.0 and gcc 8.1.0 (MinGW)

CentOS Stream 8
	Kernel: 5.4.0-167-generic
	Compiler: gcc 8.5.0 20210514

CentOS Stream 9
	Kernel: 5.4.0-167-generic
	Compiler: gcc 11.4.1 20230605

Debian Bullseye
	Kernel: 5.4.0-167-generic
	Compiler: gcc 10.2.1-6

Debian 12
	Kernel: Container Host Kernel
	Compiler: gcc 12.2.0

Fedora 37
	Kernel: Depends on container host system
	Compiler: gcc 12.3.1

Fedora 38 (Clang)
	Kernel: Depends on container host
	Compiler: clang 16.0.6

Fedora 38
	Kernel: Depends on container host
	Compiler: gcc 13.2.1

Fedora 39 (Clang)
	Kernel: Depends on container host
	Compiler: clang 17.0.6

Fedora 39
	Kernel: Depends on container host
	Compiler: gcc 13.2.1

Fedora 40 (Clang)
	Kernel: Depends on container host
	Compiler: clang 18.1.6

Fedora 40
	Kernel: Depends on container host
	Compiler: gcc 14.1.1

openSUSE Leap 15
	Kernel: 5.4.0-167-generic
	Compiler: gcc 7.5.0

RHEL8
	Kernel: 5.4.0-167-generic
	Compiler: gcc 8.5.0 20210514 (Red Hat 8.5.0-20)

RHEL9
	Kernel: Depends on container host
	Compiler: gcc 11.4.1

Ubuntu 20.04
	Kernel: 5.4.0-167-generic
	Compiler: gcc 9.4.0-1ubuntu1~20.04.1

Ubuntu 22.04
	Kernel: 5.4.0-167-generic
	Compiler: gcc 11.4.0

Ubuntu 24.04
	Kernel: 5.4.0-167-generic
	Compiler: gcc 13.2.0

Alpine
	Kernel: 5.4.0-167-generic
	Compiler: gcc (Alpine 13.2.1_git20231014) 13.2.1 20231014

To view detailed results, visit:
https://lab.dpdk.org/results/dashboard/patchsets/30595/

UNH-IOL DPDK Community Lab

To manage your email subscriptions, visit: 
https://lab.dpdk.org/results/dashboard/preferences/subscriptions/