From mboxrd@z Thu Jan  1 00:00:00 1970
Return-Path: <test-report-bounces@dpdk.org>
Received: from mails.dpdk.org (mails.dpdk.org [217.70.189.124])
	by inbox.dpdk.org (Postfix) with ESMTP id B6DB04569B
	for <public@inbox.dpdk.org>; Tue, 23 Jul 2024 23:36:20 +0200 (CEST)
Received: from mails.dpdk.org (localhost [127.0.0.1])
	by mails.dpdk.org (Postfix) with ESMTP id AE9BA42FD7;
	Tue, 23 Jul 2024 23:36:20 +0200 (CEST)
Received: from mail-pf1-f228.google.com (mail-pf1-f228.google.com
 [209.85.210.228])
 by mails.dpdk.org (Postfix) with ESMTP id 96FD0410FB
 for <test-report@dpdk.org>; Tue, 23 Jul 2024 23:36:19 +0200 (CEST)
Received: by mail-pf1-f228.google.com with SMTP id
 d2e1a72fcca58-70d1d818c42so1811499b3a.1
 for <test-report@dpdk.org>; Tue, 23 Jul 2024 14:36:19 -0700 (PDT)
DKIM-Signature: v=1; a=rsa-sha256; c=relaxed/relaxed;
 d=iol.unh.edu; s=unh-iol; t=1721770579; x=1722375379; darn=dpdk.org;
 h=references:in-reply-to:cc:to:from:subject:message-id:date:from:to
 :cc:subject:date:message-id:reply-to;
 bh=upHRIhzyIwP0QhEXSow0iA2dsNn8HLWXOkyAc4RCRuw=;
 b=ZLz5ILBghtgn7s1xt78wKdF9reGzaJ/TtmxDLfWNYWxXiYKgcar58XWURlanF5to/6
 RexZq1LuEfcJ4P7i9L8lEFutGA8f0y39YPKYbZxYOn8qgORvAWsFWJc0Ml9C7KO2WAkX
 MIpAZVY7z9zKiKr1hJJ8/dXr46ZoKCQj9WKtY=
X-Google-DKIM-Signature: v=1; a=rsa-sha256; c=relaxed/relaxed;
 d=1e100.net; s=20230601; t=1721770579; x=1722375379;
 h=references:in-reply-to:cc:to:from:subject:message-id:date
 :x-gm-message-state:from:to:cc:subject:date:message-id:reply-to;
 bh=upHRIhzyIwP0QhEXSow0iA2dsNn8HLWXOkyAc4RCRuw=;
 b=V7VwS9N9nykcRsoK6ynB3bChrZBDfhUPQRuAc/h8yVNQhFh5eplXy+GCcHaUQAj1qL
 J6IIqEkufmCyY+WtECwIE2EE/rqsEswc0tpMMqem1t3lm77u4uDBTj21wYvLxARzOl6W
 k97vAsmWHSyfUKCx2q5X8KFIVtfSHcHCBIz+FS3AmG728g2XG5G8xeS4YILDlMHXYqsh
 gevl6hPFaNhn0+p13PUW3RA/IDHBNQqJqAsRMCnzidta1vlGFLnKF1cY2v5CEPngF2FH
 9KZrSBbzBv0Ix2eHUz+NJjsIuzBdmnKRZr23cR19xqpV+0agHEs62ICJaTF8l6Wq/daN
 S78Q==
X-Gm-Message-State: AOJu0Yx+UDu+xCvld9DclI8iGjd4Qrk6SX6PLgFIYZ/vYgL7paaIps9e
 90N1m2UJ/5nvTgS8mx1T3ASNET4EUUrC78G1otQaFoCSXrrCU22+S6gWLM5hKeSmifaRuHT20le
 GR+OFr4sgt41ZLoHs0g682L5R2jt2VS7cuR5ni7f/
X-Google-Smtp-Source: AGHT+IEl9kjRjOaxh01JM9bgdnq39x4pfi+248Pi5qgz0IyMJZlhr+tsO/nDEnsQvCYVJ2mPPDqAPjH7ZzAt
X-Received: by 2002:a05:6a00:1746:b0:70d:3777:da8b with SMTP id
 d2e1a72fcca58-70e9db847b2mr337715b3a.25.1721770578696; 
 Tue, 23 Jul 2024 14:36:18 -0700 (PDT)
Received: from postal.iol.unh.edu (postal.iol.unh.edu. [132.177.123.84])
 by smtp-relay.gmail.com with ESMTPS id
 41be03b00d2f7-7a12fb55061sm319326a12.1.2024.07.23.14.36.18
 (version=TLS1_2 cipher=ECDHE-ECDSA-AES128-GCM-SHA256 bits=128/128);
 Tue, 23 Jul 2024 14:36:18 -0700 (PDT)
X-Relaying-Domain: iol.unh.edu
Date: Tue, 23 Jul 2024 14:36:18 -0700 (PDT)
Message-ID: <66a02252.630a0220.72f77.0e43SMTPIN_ADDED_MISSING@mx.google.com>
Received: from [172.21.0.6] (unknown [172.18.0.240])
 by postal.iol.unh.edu (Postfix) with ESMTP id EA43D605C351;
 Tue, 23 Jul 2024 17:36:17 -0400 (EDT)
Subject: |PENDING| pw142665 [PATCH] doc: announce rte_ipsec API changes
From: dpdklab@iol.unh.edu
To: Test Report <test-report@dpdk.org>
Cc: dpdk-test-reports@iol.unh.edu
In-Reply-To: <20240723130254.2128028-1-asasidharan@marvell.com>
References: <20240723130254.2128028-1-asasidharan@marvell.com>
Content-Type: text/plain
X-BeenThere: test-report@dpdk.org
X-Mailman-Version: 2.1.29
Precedence: list
List-Id: automatic DPDK test reports <test-report.dpdk.org>
List-Unsubscribe: <https://mails.dpdk.org/options/test-report>,
 <mailto:test-report-request@dpdk.org?subject=unsubscribe>
List-Archive: <http://mails.dpdk.org/archives/test-report/>
List-Post: <mailto:test-report@dpdk.org>
List-Help: <mailto:test-report-request@dpdk.org?subject=help>
List-Subscribe: <https://mails.dpdk.org/listinfo/test-report>,
 <mailto:test-report-request@dpdk.org?subject=subscribe>
Errors-To: test-report-bounces@dpdk.org

Test-Label: iol-compile-amd64-testing
Test-Status: PENDING
http://dpdk.org/patch/142665

_Testing pending_

Submitter: Aakash Sasidharan <asasidharan@marvell.com>
Date: Tuesday, July 23 2024 13:02:54 
DPDK git baseline: Repo:dpdk
  Branch: master
  CommitID:7d8c608faa7fb65345b0029a80251ecaa1a7c556

142665 --> testing pending

Upstream job id: Generic-DPDK-Compile-Meson#278574

Test environment and result as below:

+---------------------+--------------------+----------------------+------------------+-------------------+
|     Environment     | dpdk_meson_compile | dpdk_mingw64_compile | dpdk_compile_ovs | dpdk_compile_spdk |
+=====================+====================+======================+==================+===================+
| FreeBSD 13.3        | PASS               | SKIPPED              | SKIPPED          | SKIPPED           |
+---------------------+--------------------+----------------------+------------------+-------------------+
| Windows Server 2022 | PASS               | PASS                 | SKIPPED          | SKIPPED           |
+---------------------+--------------------+----------------------+------------------+-------------------+
| Windows Server 2019 | PEND               | PEND                 | SKIPPED          | SKIPPED           |
+---------------------+--------------------+----------------------+------------------+-------------------+
| FreeBSD 14.1        | PASS               | SKIPPED              | SKIPPED          | SKIPPED           |
+---------------------+--------------------+----------------------+------------------+-------------------+
| CentOS Stream 8     | PASS               | SKIPPED              | PASS             | PASS              |
+---------------------+--------------------+----------------------+------------------+-------------------+
| CentOS Stream 9     | PASS               | SKIPPED              | PASS             | PASS              |
+---------------------+--------------------+----------------------+------------------+-------------------+
| Debian Bullseye     | PASS               | SKIPPED              | PASS             | PASS              |
+---------------------+--------------------+----------------------+------------------+-------------------+
| Debian 12           | PASS               | SKIPPED              | PASS             | PASS              |
+---------------------+--------------------+----------------------+------------------+-------------------+
| Fedora 37           | PASS               | SKIPPED              | PASS             | PASS              |
+---------------------+--------------------+----------------------+------------------+-------------------+
| Fedora 38 (Clang)   | PEND               | SKIPPED              | PEND             | PEND              |
+---------------------+--------------------+----------------------+------------------+-------------------+
| Fedora 38           | PEND               | SKIPPED              | PEND             | PEND              |
+---------------------+--------------------+----------------------+------------------+-------------------+
| Fedora 39 (Clang)   | PEND               | SKIPPED              | PEND             | PEND              |
+---------------------+--------------------+----------------------+------------------+-------------------+
| Fedora 39           | PASS               | SKIPPED              | PASS             | PASS              |
+---------------------+--------------------+----------------------+------------------+-------------------+
| Fedora 40 (Clang)   | PEND               | SKIPPED              | PEND             | PEND              |
+---------------------+--------------------+----------------------+------------------+-------------------+
| Fedora 40           | PASS               | SKIPPED              | PASS             | PASS              |
+---------------------+--------------------+----------------------+------------------+-------------------+
| openSUSE Leap 15    | PASS               | SKIPPED              | PASS             | SKIPPED           |
+---------------------+--------------------+----------------------+------------------+-------------------+
| RHEL8               | PASS               | SKIPPED              | PASS             | SKIPPED           |
+---------------------+--------------------+----------------------+------------------+-------------------+
| RHEL9               | PEND               | SKIPPED              | PEND             | SKIPPED           |
+---------------------+--------------------+----------------------+------------------+-------------------+
| Ubuntu 20.04        | PASS               | SKIPPED              | PASS             | SKIPPED           |
+---------------------+--------------------+----------------------+------------------+-------------------+
| Ubuntu 22.04        | PASS               | SKIPPED              | PASS             | PASS              |
+---------------------+--------------------+----------------------+------------------+-------------------+
| Ubuntu 24.04        | PEND               | SKIPPED              | PEND             | PEND              |
+---------------------+--------------------+----------------------+------------------+-------------------+
| Alpine              | PASS               | SKIPPED              | PASS             | SKIPPED           |
+---------------------+--------------------+----------------------+------------------+-------------------+


FreeBSD 13.3
	Kernel: 13.3-RELEASE-p1
	Compiler: clang 17.0.6

Windows Server 2022
	Kernel: 10.0.20348.2031
	Compiler: clang 15.0.7, gcc 8.1.0 (MinGW), and MSVC VS 17.9

Windows Server 2019
	Kernel: 10.0.17763
	Compiler: clang 14.0 and gcc 8.1.0 (MinGW)

FreeBSD 14.1
	Kernel: 14.1
	Compiler: clang 18.1.5

CentOS Stream 8
	Kernel: 5.4.0-167-generic
	Compiler: gcc 8.5.0 20210514

CentOS Stream 9
	Kernel: 5.4.0-167-generic
	Compiler: gcc 11.4.1 20230605

Debian Bullseye
	Kernel: 5.4.0-167-generic
	Compiler: gcc 10.2.1-6

Debian 12
	Kernel: Container Host Kernel
	Compiler: gcc 12.2.0

Fedora 37
	Kernel: Depends on container host system
	Compiler: gcc 12.3.1

Fedora 38 (Clang)
	Kernel: Depends on container host
	Compiler: clang 16.0.6

Fedora 38
	Kernel: Depends on container host
	Compiler: gcc 13.2.1

Fedora 39 (Clang)
	Kernel: Depends on container host
	Compiler: clang 17.0.6

Fedora 39
	Kernel: Depends on container host
	Compiler: gcc 13.2.1

Fedora 40 (Clang)
	Kernel: Depends on container host
	Compiler: clang 18.1.6

Fedora 40
	Kernel: Depends on container host
	Compiler: gcc 14.1.1

openSUSE Leap 15
	Kernel: 5.4.0-167-generic
	Compiler: gcc 7.5.0

RHEL8
	Kernel: 5.4.0-167-generic
	Compiler: gcc 8.5.0 20210514 (Red Hat 8.5.0-20)

RHEL9
	Kernel: Depends on container host
	Compiler: gcc 11.4.1

Ubuntu 20.04
	Kernel: 5.4.0-167-generic
	Compiler: gcc 9.4.0-1ubuntu1~20.04.1

Ubuntu 22.04
	Kernel: 5.4.0-167-generic
	Compiler: gcc 11.4.0

Ubuntu 24.04
	Kernel: 5.4.0-167-generic
	Compiler: gcc 13.2.0

Alpine
	Kernel: 5.4.0-167-generic
	Compiler: gcc (Alpine 13.2.1_git20231014) 13.2.1 20231014

To view detailed results, visit:
https://lab.dpdk.org/results/dashboard/patchsets/30593/

UNH-IOL DPDK Community Lab

To manage your email subscriptions, visit: 
https://lab.dpdk.org/results/dashboard/preferences/subscriptions/