From mboxrd@z Thu Jan  1 00:00:00 1970
Return-Path: <test-report-bounces@dpdk.org>
Received: from mails.dpdk.org (mails.dpdk.org [217.70.189.124])
	by inbox.dpdk.org (Postfix) with ESMTP id B74CD4569E
	for <public@inbox.dpdk.org>; Wed, 24 Jul 2024 02:04:45 +0200 (CEST)
Received: from mails.dpdk.org (localhost [127.0.0.1])
	by mails.dpdk.org (Postfix) with ESMTP id B19F940E12;
	Wed, 24 Jul 2024 02:04:45 +0200 (CEST)
Received: from mail-il1-f228.google.com (mail-il1-f228.google.com
 [209.85.166.228])
 by mails.dpdk.org (Postfix) with ESMTP id D78C6402C0
 for <test-report@dpdk.org>; Wed, 24 Jul 2024 02:04:44 +0200 (CEST)
Received: by mail-il1-f228.google.com with SMTP id
 e9e14a558f8ab-39949ebafc2so11972625ab.1
 for <test-report@dpdk.org>; Tue, 23 Jul 2024 17:04:44 -0700 (PDT)
DKIM-Signature: v=1; a=rsa-sha256; c=relaxed/relaxed;
 d=iol.unh.edu; s=unh-iol; t=1721779484; x=1722384284; darn=dpdk.org;
 h=references:in-reply-to:cc:to:from:subject:message-id:date:from:to
 :cc:subject:date:message-id:reply-to;
 bh=tcLoE80pASsr/j5wU/PJsqRdezA0EwkYmMN5wJjZBAk=;
 b=NLUiFP7quAaAh99N4O1UcelseSBujjPJ6bLtyNNPLD3kUE/xAxoYN1gRLYbRdaKqOe
 mBtwYRQC2EuNZ/i1roqE7je6ePHqTj7YQ1G3VpW0H2WA56m82nmSL73X9a8hTkDvpknH
 g0uKnpYfdOg74gziTjY6sPcy2Z8y7Dpbdx8ss=
X-Google-DKIM-Signature: v=1; a=rsa-sha256; c=relaxed/relaxed;
 d=1e100.net; s=20230601; t=1721779484; x=1722384284;
 h=references:in-reply-to:cc:to:from:subject:message-id:date
 :x-gm-message-state:from:to:cc:subject:date:message-id:reply-to;
 bh=tcLoE80pASsr/j5wU/PJsqRdezA0EwkYmMN5wJjZBAk=;
 b=NkKTA7IlhXIK/5KlonHxIWT36vtK/Ng1qJl0tVXU5kq/xc0icTK2SAFHK7JVDCiUy3
 bgRWnM9Tf0sOBlpRTmwrc/SLAPCZ4DUD9nuzYnefWGp+UyQGFdvvxAD4bzxW+xDtekpT
 54uSSf/Zm+LCqBzaE0zSWk2jdm/L5RRmFdNFG9ujVgRPOTukLac/iqDbDm2FZ1dj9VSW
 v2w+UFTKRQnOM3NKmcdwA6v0OfeSrR4TRn4uyPRNKiSmVKoHY8pzbEgxbS+IoJFBHjAq
 ykTFiekq2Zd65DxvfkNQAJ43KhIVSHK+tInfDA+kElgKnWmFO3S9H5umZFZdLD/KK/89
 +ziQ==
X-Gm-Message-State: AOJu0YwbUGcBH4IWnKvF1D/251arKHZxGXmBkVMKk5Ot7xx62fxDzBaa
 IMSX6Cbi0b4PuHDL8nJpoLAywXKSCQADVyOlWO4EThmSldEUb7QHNYO6Xy0iVsnBp6m5e2bSOQx
 Z5nc4sXV/uCb+IULFxQksGZmC4LWKwAm4ymj6tyL2b8ur9EqQH+F6dtAB
X-Google-Smtp-Source: AGHT+IHWyaEmlV7qFmCFmHhdQ3RZPIsWh26QcsKcsI7iEm0UxWM8su5fNnWuuEGS+KeDkuhXkrPW9MxW2DDX
X-Received: by 2002:a05:6e02:188d:b0:398:3b82:4ae2 with SMTP id
 e9e14a558f8ab-398e47ebbd4mr184712765ab.5.1721779484329; 
 Tue, 23 Jul 2024 17:04:44 -0700 (PDT)
Received: from postal.iol.unh.edu (postal.iol.unh.edu.
 [2606:4100:3880:1234::84]) by smtp-relay.gmail.com with ESMTPS id
 e9e14a558f8ab-39a186a7f7bsm266475ab.34.2024.07.23.17.04.44
 (version=TLS1_2 cipher=ECDHE-ECDSA-AES128-GCM-SHA256 bits=128/128);
 Tue, 23 Jul 2024 17:04:44 -0700 (PDT)
X-Relaying-Domain: iol.unh.edu
Date: Tue, 23 Jul 2024 17:04:44 -0700 (PDT)
Message-ID: <66a0451c.050a0220.30e57d.2006SMTPIN_ADDED_MISSING@mx.google.com>
Received: from [172.21.0.6] (unknown [172.18.0.240])
 by postal.iol.unh.edu (Postfix) with ESMTP id CDC3E605C351;
 Tue, 23 Jul 2024 20:04:43 -0400 (EDT)
Subject: |PENDING| pw142490-142492 [PATCH] [v7,3/3] dts: queue suite conf sch
From: dpdklab@iol.unh.edu
To: Test Report <test-report@dpdk.org>
Cc: dpdk-test-reports@iol.unh.edu
In-Reply-To: <20240717202331.27443-3-dmarx@iol.unh.edu>
References: <20240717202331.27443-3-dmarx@iol.unh.edu>
Content-Type: text/plain
X-BeenThere: test-report@dpdk.org
X-Mailman-Version: 2.1.29
Precedence: list
List-Id: automatic DPDK test reports <test-report.dpdk.org>
List-Unsubscribe: <https://mails.dpdk.org/options/test-report>,
 <mailto:test-report-request@dpdk.org?subject=unsubscribe>
List-Archive: <http://mails.dpdk.org/archives/test-report/>
List-Post: <mailto:test-report@dpdk.org>
List-Help: <mailto:test-report-request@dpdk.org?subject=help>
List-Subscribe: <https://mails.dpdk.org/listinfo/test-report>,
 <mailto:test-report-request@dpdk.org?subject=subscribe>
Errors-To: test-report-bounces@dpdk.org

Test-Label: iol-abi-testing
Test-Status: PENDING
http://dpdk.org/patch/142492

_Testing pending RETEST #2_

Submitter: Dean Marx <dmarx@iol.unh.edu>
Date: Wednesday, July 17 2024 20:23:31 
DPDK git baseline: Repo:dpdk
  Branch: master
  CommitID:548de9091c85467bd8f05cecf6d32315869d1461

142490-142492 --> testing pending

Upstream job id: Generic-DPDK-Compile-ABI#100073

Test environment and result as below:

+-------------------+----------+
|    Environment    | abi_test |
+===================+==========+
| Debian Bullseye   | PASS     |
+-------------------+----------+
| Fedora 39 (Clang) | PASS     |
+-------------------+----------+
| CentOS Stream 8   | PASS     |
+-------------------+----------+
| Fedora 37         | PASS     |
+-------------------+----------+
| Fedora 38 (Clang) | PASS     |
+-------------------+----------+
| CentOS Stream 9   | PASS     |
+-------------------+----------+
| Fedora 38         | PASS     |
+-------------------+----------+
| Debian 12         | PASS     |
+-------------------+----------+
| Fedora 39         | PASS     |
+-------------------+----------+
| Fedora 40 (Clang) | PASS     |
+-------------------+----------+
| RHEL8             | PASS     |
+-------------------+----------+
| openSUSE Leap 15  | PEND     |
+-------------------+----------+
| RHEL9             | PASS     |
+-------------------+----------+
| Fedora 40         | PEND     |
+-------------------+----------+
| Ubuntu 24.04      | PEND     |
+-------------------+----------+
| Ubuntu 22.04      | PEND     |
+-------------------+----------+


Debian Bullseye
	Kernel: 5.4.0-167-generic
	Compiler: gcc 10.2.1-6

Fedora 39 (Clang)
	Kernel: Depends on container host
	Compiler: clang 17.0.6

CentOS Stream 8
	Kernel: 5.4.0-167-generic
	Compiler: gcc 8.5.0 20210514

Fedora 37
	Kernel: Depends on container host system
	Compiler: gcc 12.3.1

Fedora 38 (Clang)
	Kernel: Depends on container host
	Compiler: clang 16.0.6

CentOS Stream 9
	Kernel: 5.4.0-167-generic
	Compiler: gcc 11.4.1 20230605

Fedora 38
	Kernel: Depends on container host
	Compiler: gcc 13.2.1

Debian 12
	Kernel: Container Host Kernel
	Compiler: gcc 12.2.0

Fedora 39
	Kernel: Depends on container host
	Compiler: gcc 13.2.1

Fedora 40 (Clang)
	Kernel: Depends on container host
	Compiler: clang 18.1.6

RHEL8
	Kernel: 5.4.0-167-generic
	Compiler: gcc 8.5.0 20210514 (Red Hat 8.5.0-20)

openSUSE Leap 15
	Kernel: 5.4.0-167-generic
	Compiler: gcc 7.5.0

RHEL9
	Kernel: Depends on container host
	Compiler: gcc 11.4.1

Fedora 40
	Kernel: Depends on container host
	Compiler: gcc 14.1.1

Ubuntu 24.04
	Kernel: 5.4.0-167-generic
	Compiler: gcc 13.2.0

Ubuntu 22.04
	Kernel: 5.4.0-167-generic
	Compiler: gcc 11.4.0

To view detailed results, visit:
https://lab.dpdk.org/results/dashboard/patchsets/30546/

UNH-IOL DPDK Community Lab

To manage your email subscriptions, visit: 
https://lab.dpdk.org/results/dashboard/preferences/subscriptions/