From mboxrd@z Thu Jan  1 00:00:00 1970
Return-Path: <test-report-bounces@dpdk.org>
Received: from mails.dpdk.org (mails.dpdk.org [217.70.189.124])
	by inbox.dpdk.org (Postfix) with ESMTP id BCE0F45698
	for <public@inbox.dpdk.org>; Wed, 24 Jul 2024 11:54:47 +0200 (CEST)
Received: from mails.dpdk.org (localhost [127.0.0.1])
	by mails.dpdk.org (Postfix) with ESMTP id 61067433BC;
	Wed, 24 Jul 2024 11:54:46 +0200 (CEST)
Received: from mail-il1-f225.google.com (mail-il1-f225.google.com
 [209.85.166.225])
 by mails.dpdk.org (Postfix) with ESMTP id 3FEA340E19
 for <test-report@dpdk.org>; Wed, 24 Jul 2024 11:43:25 +0200 (CEST)
Received: by mail-il1-f225.google.com with SMTP id
 e9e14a558f8ab-396eb81a1cfso26793115ab.2
 for <test-report@dpdk.org>; Wed, 24 Jul 2024 02:43:25 -0700 (PDT)
DKIM-Signature: v=1; a=rsa-sha256; c=relaxed/relaxed;
 d=iol.unh.edu; s=unh-iol; t=1721814204; x=1722419004; darn=dpdk.org;
 h=references:in-reply-to:cc:to:from:subject:message-id:date:from:to
 :cc:subject:date:message-id:reply-to;
 bh=RaYf735nd6qazb2qZsoWqChW+KW9B1hxJL2iI+kcEDA=;
 b=drBSZypPIVTCqnDRha2WZz8oMFLzoAobv3ZG2HVnIjBrSnfbO17Qjoef9kSUPBsVw+
 zLSB4LqqSSYcCRtSa0jHIrPc62h/wtjelgBjynnl2Mvcpc5PmRN62MDeMMSKxzNpjCIL
 oVp5dxfV/rJQQaJ36uugFmyusy9fDa7ojfZCY=
X-Google-DKIM-Signature: v=1; a=rsa-sha256; c=relaxed/relaxed;
 d=1e100.net; s=20230601; t=1721814204; x=1722419004;
 h=references:in-reply-to:cc:to:from:subject:message-id:date
 :x-gm-message-state:from:to:cc:subject:date:message-id:reply-to;
 bh=RaYf735nd6qazb2qZsoWqChW+KW9B1hxJL2iI+kcEDA=;
 b=uSkGS7L25KxZPIxFGHoSW9+IgNBhec5JroB9DOJoU6tSBT6m1iovPXMqIelIexCqkN
 YQXNeXFKhWKW3P0V+7GNUZh7DtdgOePPsdOhW1a8c+WBLLTqW9xfE9CRnAnCe36TKbzB
 D+80DVgIz/QE48441H6z4ObHEQ92E8Zvwur7PXyWmxY2dqacVs3kBv8y9kjam0XEbUrh
 QL0QbDeCXhXPiW9Vzac2tjt4Bw3czoBYnVGeoILY64mEUpt5e0NKvXtrsdrniCY+0Nd8
 LRz0vRkumgq2yw3pJa0El5i7NeHcrZGbQ5wJBufehPHvnvaOT7QOH23D2NzY8sfR6J4Q
 xe4A==
X-Gm-Message-State: AOJu0Yx+6ldNJ8W1HvPaKi7C8VL6U0K5yGBIR48oVzPo9l+PnG8PV2Hh
 ZKNEkj6C9lZJKurga56uC8hUBoKG9Nn/geenO+HmveJ2TXuaNhZ357HCOZ3yawL3B0F/JLbt2ez
 HH6vpgQDOtQ/CIZj9UsW7+j/hoejBzYES8AeVdkOPtx8chw5wOrKtC8kb
X-Google-Smtp-Source: AGHT+IET/L3JcF8H+McGlW4+JmKGLcVStzgxCej8izdpkBwS2kxdT2f42CfYp7VlI2msz+IRWUHaB/C/sJHF
X-Received: by 2002:a05:6e02:2145:b0:397:98d7:5180 with SMTP id
 e9e14a558f8ab-39a191c9154mr17965895ab.0.1721814204527; 
 Wed, 24 Jul 2024 02:43:24 -0700 (PDT)
Received: from postal.iol.unh.edu (postal.iol.unh.edu.
 [2606:4100:3880:1234::84]) by smtp-relay.gmail.com with ESMTPS id
 e9e14a558f8ab-39a187dad7bsm561745ab.50.2024.07.24.02.43.24
 (version=TLS1_2 cipher=ECDHE-ECDSA-AES128-GCM-SHA256 bits=128/128);
 Wed, 24 Jul 2024 02:43:24 -0700 (PDT)
X-Relaying-Domain: iol.unh.edu
Date: Wed, 24 Jul 2024 02:43:24 -0700 (PDT)
Message-ID: <66a0ccbc.050a0220.15bac9.3e6eSMTPIN_ADDED_MISSING@mx.google.com>
Received: from [172.21.0.8] (unknown [172.18.0.240])
 by postal.iol.unh.edu (Postfix) with ESMTP id 2EB346052500;
 Wed, 24 Jul 2024 05:43:24 -0400 (EDT)
Subject: |PENDING| pw142674 [PATCH] eal: add support for TRNG with Arm RNG fe
From: dpdklab@iol.unh.edu
To: Test Report <test-report@dpdk.org>
Cc: dpdk-test-reports@iol.unh.edu
In-Reply-To: <20240723212703.721050-1-shunzhi.wen@arm.com>
References: <20240723212703.721050-1-shunzhi.wen@arm.com>
Content-Type: text/plain
X-BeenThere: test-report@dpdk.org
X-Mailman-Version: 2.1.29
Precedence: list
List-Id: automatic DPDK test reports <test-report.dpdk.org>
List-Unsubscribe: <https://mails.dpdk.org/options/test-report>,
 <mailto:test-report-request@dpdk.org?subject=unsubscribe>
List-Archive: <http://mails.dpdk.org/archives/test-report/>
List-Post: <mailto:test-report@dpdk.org>
List-Help: <mailto:test-report-request@dpdk.org?subject=help>
List-Subscribe: <https://mails.dpdk.org/listinfo/test-report>,
 <mailto:test-report-request@dpdk.org?subject=subscribe>
Errors-To: test-report-bounces@dpdk.org

Test-Label: iol-abi-testing
Test-Status: PENDING
http://dpdk.org/patch/142674

_Testing pending_

Submitter: Shunzhi Wen <shunzhi.wen@arm.com>
Date: Tuesday, July 23 2024 21:27:03 
DPDK git baseline: Repo:dpdk
  Branch: master
  CommitID:82c47f005b9a0a1e3a649664b7713443d18abe43

142674 --> testing pending

Upstream job id: Generic-DPDK-Compile-ABI#100130

Test environment and result as below:

+-------------------+----------+
|    Environment    | abi_test |
+===================+==========+
| CentOS Stream 8   | PASS     |
+-------------------+----------+
| CentOS Stream 9   | PASS     |
+-------------------+----------+
| Debian Bullseye   | PASS     |
+-------------------+----------+
| Debian 12         | PASS     |
+-------------------+----------+
| Fedora 37         | PEND     |
+-------------------+----------+
| Fedora 38         | PASS     |
+-------------------+----------+
| Fedora 39 (Clang) | PASS     |
+-------------------+----------+
| Fedora 38 (Clang) | PASS     |
+-------------------+----------+
| Fedora 39         | PEND     |
+-------------------+----------+
| openSUSE Leap 15  | PASS     |
+-------------------+----------+
| Fedora 40         | PEND     |
+-------------------+----------+
| Fedora 40 (Clang) | PASS     |
+-------------------+----------+
| RHEL8             | PEND     |
+-------------------+----------+
| Ubuntu 24.04      | PEND     |
+-------------------+----------+
| RHEL9             | PEND     |
+-------------------+----------+
| Ubuntu 22.04      | PEND     |
+-------------------+----------+


CentOS Stream 8
	Kernel: 5.4.0-167-generic
	Compiler: gcc 8.5.0 20210514

CentOS Stream 9
	Kernel: 5.4.0-167-generic
	Compiler: gcc 11.4.1 20230605

Debian Bullseye
	Kernel: 5.4.0-167-generic
	Compiler: gcc 10.2.1-6

Debian 12
	Kernel: Container Host Kernel
	Compiler: gcc 12.2.0

Fedora 37
	Kernel: Depends on container host system
	Compiler: gcc 12.3.1

Fedora 38
	Kernel: Depends on container host
	Compiler: gcc 13.2.1

Fedora 39 (Clang)
	Kernel: Depends on container host
	Compiler: clang 17.0.6

Fedora 38 (Clang)
	Kernel: Depends on container host
	Compiler: clang 16.0.6

Fedora 39
	Kernel: Depends on container host
	Compiler: gcc 13.2.1

openSUSE Leap 15
	Kernel: 5.4.0-167-generic
	Compiler: gcc 7.5.0

Fedora 40
	Kernel: Depends on container host
	Compiler: gcc 14.1.1

Fedora 40 (Clang)
	Kernel: Depends on container host
	Compiler: clang 18.1.6

RHEL8
	Kernel: 5.4.0-167-generic
	Compiler: gcc 8.5.0 20210514 (Red Hat 8.5.0-20)

Ubuntu 24.04
	Kernel: 5.4.0-167-generic
	Compiler: gcc 13.2.0

RHEL9
	Kernel: Depends on container host
	Compiler: gcc 11.4.1

Ubuntu 22.04
	Kernel: 5.4.0-167-generic
	Compiler: gcc 11.4.0

To view detailed results, visit:
https://lab.dpdk.org/results/dashboard/patchsets/30600/

UNH-IOL DPDK Community Lab

To manage your email subscriptions, visit: 
https://lab.dpdk.org/results/dashboard/preferences/subscriptions/