From mboxrd@z Thu Jan  1 00:00:00 1970
Return-Path: <test-report-bounces@dpdk.org>
Received: from mails.dpdk.org (mails.dpdk.org [217.70.189.124])
	by inbox.dpdk.org (Postfix) with ESMTP id 1C19345698
	for <public@inbox.dpdk.org>; Wed, 24 Jul 2024 11:54:48 +0200 (CEST)
Received: from mails.dpdk.org (localhost [127.0.0.1])
	by mails.dpdk.org (Postfix) with ESMTP id 732CF433CA;
	Wed, 24 Jul 2024 11:54:46 +0200 (CEST)
Received: from mail-oi1-f226.google.com (mail-oi1-f226.google.com
 [209.85.167.226])
 by mails.dpdk.org (Postfix) with ESMTP id 381AF40E19
 for <test-report@dpdk.org>; Wed, 24 Jul 2024 11:44:31 +0200 (CEST)
Received: by mail-oi1-f226.google.com with SMTP id
 5614622812f47-3d934cb84b6so3884721b6e.3
 for <test-report@dpdk.org>; Wed, 24 Jul 2024 02:44:31 -0700 (PDT)
DKIM-Signature: v=1; a=rsa-sha256; c=relaxed/relaxed;
 d=iol.unh.edu; s=unh-iol; t=1721814270; x=1722419070; darn=dpdk.org;
 h=references:in-reply-to:cc:to:from:subject:message-id:date:from:to
 :cc:subject:date:message-id:reply-to;
 bh=fZzvsyShZPrF1paEpU6oJMFfHhMQvh0NAIxqRWbj3nE=;
 b=BtYQXHTUy97Ko5hibyNzjs6l4tW7Ww2bs1XdnqirrphuqSNBDaRBBKQJ1SHi026D1l
 qleIgzpQbqpyBTwXsBgqFxO/ChYKovTUqmspvpmA4T80Z4Ayu+cjFhyOZAissr8r8VTi
 OTA1yiyZl39Vn1/mIXtTq43JWq0leaMxDFUig=
X-Google-DKIM-Signature: v=1; a=rsa-sha256; c=relaxed/relaxed;
 d=1e100.net; s=20230601; t=1721814270; x=1722419070;
 h=references:in-reply-to:cc:to:from:subject:message-id:date
 :x-gm-message-state:from:to:cc:subject:date:message-id:reply-to;
 bh=fZzvsyShZPrF1paEpU6oJMFfHhMQvh0NAIxqRWbj3nE=;
 b=VYK6VyBqGAHI4gmQjnrlrUY7lhcmpUcCNA9cVvSYZarG4E9P0vozCQ4X4JTT4ZbSQG
 /8hSOjccAZtmUjuPNNzvD5t+LTdjQf+L6utBXNKCxHjRBaTdCsZ6yWHgxPRksuxlpOdd
 WL4DuktmVURLqLSZIU3HXS1G1OuU5SalJfvS4B0+LPGj2OYHv/jNSVfcdbe/nb58WJa2
 kW2BctYM6Kn5NdrGr7eGgy1YGQA/vmP12YYyPEdlUlR5uP2ytRm9FxZICo3eldsQsWRn
 lMNdh7b7YT7vReNc9kuGKbzXrYaADXr3ML/06mWcBmWcOZFxcVc58in3Eo40b09jK70/
 aSPg==
X-Gm-Message-State: AOJu0YwXm1mnsDnZyBo3vxJXEh2EqcOpyaNSZFBJD5v5yJeh61gsMjFA
 ZgASBiJvjG/bfRJJoN6Z3TskcG/7KnFnmquljeZnjCyA5tXTKlEl/rj0hN6s8DAhAAcQqqXhRJl
 0Is8hReRtQIsbOzi2rlMyBfTnNbBTVsu3DD6woUmYuew1z+dIqmF+mq+i
X-Google-Smtp-Source: AGHT+IEhSXHMyYcVgKHfbYzWsKSRuCpv0jaxceGMe84LbUoBXJk+wi/jg8g3hNltxsobh0P88KoAwAVeqnVx
X-Received: by 2002:a05:6870:4707:b0:260:fda4:365a with SMTP id
 586e51a60fabf-2648cc16be4mr1722779fac.33.1721814270175; 
 Wed, 24 Jul 2024 02:44:30 -0700 (PDT)
Received: from postal.iol.unh.edu (postal.iol.unh.edu.
 [2606:4100:3880:1234::84]) by smtp-relay.gmail.com with ESMTPS id
 586e51a60fabf-2610c729a87sm493773fac.5.2024.07.24.02.44.30
 (version=TLS1_2 cipher=ECDHE-ECDSA-AES128-GCM-SHA256 bits=128/128);
 Wed, 24 Jul 2024 02:44:30 -0700 (PDT)
X-Relaying-Domain: iol.unh.edu
Date: Wed, 24 Jul 2024 02:44:30 -0700 (PDT)
Message-ID: <66a0ccfe.050a0220.64282.c6baSMTPIN_ADDED_MISSING@mx.google.com>
Received: from [172.21.0.6] (unknown [172.18.0.240])
 by postal.iol.unh.edu (Postfix) with ESMTP id A30B96052500;
 Wed, 24 Jul 2024 05:44:29 -0400 (EDT)
Subject: |PENDING| pw142674 [PATCH] eal: add support for TRNG with Arm RNG fe
From: dpdklab@iol.unh.edu
To: Test Report <test-report@dpdk.org>
Cc: dpdk-test-reports@iol.unh.edu
In-Reply-To: <20240723212703.721050-1-shunzhi.wen@arm.com>
References: <20240723212703.721050-1-shunzhi.wen@arm.com>
Content-Type: text/plain
X-BeenThere: test-report@dpdk.org
X-Mailman-Version: 2.1.29
Precedence: list
List-Id: automatic DPDK test reports <test-report.dpdk.org>
List-Unsubscribe: <https://mails.dpdk.org/options/test-report>,
 <mailto:test-report-request@dpdk.org?subject=unsubscribe>
List-Archive: <http://mails.dpdk.org/archives/test-report/>
List-Post: <mailto:test-report@dpdk.org>
List-Help: <mailto:test-report-request@dpdk.org?subject=help>
List-Subscribe: <https://mails.dpdk.org/listinfo/test-report>,
 <mailto:test-report-request@dpdk.org?subject=subscribe>
Errors-To: test-report-bounces@dpdk.org

Test-Label: iol-abi-testing
Test-Status: PENDING
http://dpdk.org/patch/142674

_Testing pending_

Submitter: Shunzhi Wen <shunzhi.wen@arm.com>
Date: Tuesday, July 23 2024 21:27:03 
DPDK git baseline: Repo:dpdk
  Branch: master
  CommitID:82c47f005b9a0a1e3a649664b7713443d18abe43

142674 --> testing pending

Upstream job id: Generic-DPDK-Compile-ABI#100126

Test environment and result as below:

+-------------------+----------+
|    Environment    | abi_test |
+===================+==========+
| CentOS Stream 8   | PASS     |
+-------------------+----------+
| CentOS Stream 9   | PASS     |
+-------------------+----------+
| Debian Bullseye   | PASS     |
+-------------------+----------+
| Debian 12         | PASS     |
+-------------------+----------+
| Fedora 37         | PEND     |
+-------------------+----------+
| Fedora 38         | PASS     |
+-------------------+----------+
| Fedora 39 (Clang) | PASS     |
+-------------------+----------+
| Fedora 38 (Clang) | PASS     |
+-------------------+----------+
| Fedora 39         | PASS     |
+-------------------+----------+
| openSUSE Leap 15  | PASS     |
+-------------------+----------+
| Fedora 40         | PEND     |
+-------------------+----------+
| Fedora 40 (Clang) | PASS     |
+-------------------+----------+
| RHEL8             | PEND     |
+-------------------+----------+
| Ubuntu 24.04      | PEND     |
+-------------------+----------+
| RHEL9             | PEND     |
+-------------------+----------+
| Ubuntu 22.04      | PEND     |
+-------------------+----------+


CentOS Stream 8
	Kernel: 5.4.0-167-generic
	Compiler: gcc 8.5.0 20210514

CentOS Stream 9
	Kernel: 5.4.0-167-generic
	Compiler: gcc 11.4.1 20230605

Debian Bullseye
	Kernel: 5.4.0-167-generic
	Compiler: gcc 10.2.1-6

Debian 12
	Kernel: Container Host Kernel
	Compiler: gcc 12.2.0

Fedora 37
	Kernel: Depends on container host system
	Compiler: gcc 12.3.1

Fedora 38
	Kernel: Depends on container host
	Compiler: gcc 13.2.1

Fedora 39 (Clang)
	Kernel: Depends on container host
	Compiler: clang 17.0.6

Fedora 38 (Clang)
	Kernel: Depends on container host
	Compiler: clang 16.0.6

Fedora 39
	Kernel: Depends on container host
	Compiler: gcc 13.2.1

openSUSE Leap 15
	Kernel: 5.4.0-167-generic
	Compiler: gcc 7.5.0

Fedora 40
	Kernel: Depends on container host
	Compiler: gcc 14.1.1

Fedora 40 (Clang)
	Kernel: Depends on container host
	Compiler: clang 18.1.6

RHEL8
	Kernel: 5.4.0-167-generic
	Compiler: gcc 8.5.0 20210514 (Red Hat 8.5.0-20)

Ubuntu 24.04
	Kernel: 5.4.0-167-generic
	Compiler: gcc 13.2.0

RHEL9
	Kernel: Depends on container host
	Compiler: gcc 11.4.1

Ubuntu 22.04
	Kernel: 5.4.0-167-generic
	Compiler: gcc 11.4.0

To view detailed results, visit:
https://lab.dpdk.org/results/dashboard/patchsets/30600/

UNH-IOL DPDK Community Lab

To manage your email subscriptions, visit: 
https://lab.dpdk.org/results/dashboard/preferences/subscriptions/