From mboxrd@z Thu Jan  1 00:00:00 1970
Return-Path: <test-report-bounces@dpdk.org>
Received: from mails.dpdk.org (mails.dpdk.org [217.70.189.124])
	by inbox.dpdk.org (Postfix) with ESMTP id 622034569C
	for <public@inbox.dpdk.org>; Wed, 24 Jul 2024 12:33:36 +0200 (CEST)
Received: from mails.dpdk.org (localhost [127.0.0.1])
	by mails.dpdk.org (Postfix) with ESMTP id D55F842EDC;
	Wed, 24 Jul 2024 12:33:35 +0200 (CEST)
Received: from mail-qv1-f100.google.com (mail-qv1-f100.google.com
 [209.85.219.100])
 by mails.dpdk.org (Postfix) with ESMTP id CCE0340E19
 for <test-report@dpdk.org>; Wed, 24 Jul 2024 12:12:57 +0200 (CEST)
Received: by mail-qv1-f100.google.com with SMTP id
 6a1803df08f44-6b7a0ef0e75so38742846d6.1
 for <test-report@dpdk.org>; Wed, 24 Jul 2024 03:12:57 -0700 (PDT)
DKIM-Signature: v=1; a=rsa-sha256; c=relaxed/relaxed;
 d=iol.unh.edu; s=unh-iol; t=1721815977; x=1722420777; darn=dpdk.org;
 h=references:in-reply-to:cc:to:from:subject:message-id:date:from:to
 :cc:subject:date:message-id:reply-to;
 bh=qOwkK25K6slWyJpOkrUVXlp3kWdUqaYyM2BIayqHf5U=;
 b=NlAVYApoikwYDaHMZnQWnNt12gYdQcliKbJQ534OIUEEYv2HGUSl3vtsGOxNsFAOxB
 iqPBQq68kIt0UFvFJjx+6m/2wJTkaHUVRNxJOywL2a50O1ZrKLleXz4/PEpRUAyjs4Ea
 TKQ7K/TezhK+c3CyJWuuIMFpQcEm0CncyyRlQ=
X-Google-DKIM-Signature: v=1; a=rsa-sha256; c=relaxed/relaxed;
 d=1e100.net; s=20230601; t=1721815977; x=1722420777;
 h=references:in-reply-to:cc:to:from:subject:message-id:date
 :x-gm-message-state:from:to:cc:subject:date:message-id:reply-to;
 bh=qOwkK25K6slWyJpOkrUVXlp3kWdUqaYyM2BIayqHf5U=;
 b=qX3RabAnSaV+xDOHlAbou5KHYle1bFcZXdVQh0lb872scFd8o5TQS7bnAWCaVPvdBi
 ekfNfqC0ip+lLHcEmRRddvxZ9ZIT0gevwPSfbdZoBHj0Y/zwWDOZVsZbICGOcM2AdVjW
 azEzo8x3Wif/soXs9I3BT9ocw1jIUHvXF5+OXwHHhq2xPhcGjmmb7H5Y4zOmmu6iyfzE
 zPfAkpNjbX7JUiIpyb0027sOKh8Tu4zVl2mNpmBdW1nf1s4nHz3TtWD9YVJDpJkLjKxa
 N7A5u8LQ3Xm3wCA2jXFxZ7xkplbX5FgHdorSUcBY8zBJCuLctuRhAG+wN75rLJclF83n
 MMVQ==
X-Gm-Message-State: AOJu0YxA54dHndn+d4KiDoNj5MkUecc4RRHzV8W5cyNv+QSbrjDlzCr1
 I73/4wjhNLinR1oeCz+uRymlEuWTmmBGheMqg67+ctuNRKwzhA+tnrckdSP+j2MRmNoN/mahpit
 3ft5iw6tp5FMt5gZY1LkcNXOwVUcbfwod393qM0sITN1sn3VGnNEj/ObM
X-Google-Smtp-Source: AGHT+IEyDh4h9pulc11/IrQ/8LN7dBNlPhSXwAuvE0A7/kHcoGxR1Zp1d/ff3rvvqzgG9W2on0u/VgQLiGG2
X-Received: by 2002:a05:6214:2a8c:b0:6b5:e3b7:46f5 with SMTP id
 6a1803df08f44-6b98ed508c6mr25224376d6.20.1721815977191; 
 Wed, 24 Jul 2024 03:12:57 -0700 (PDT)
Received: from postal.iol.unh.edu (postal.iol.unh.edu.
 [2606:4100:3880:1234::84]) by smtp-relay.gmail.com with ESMTPS id
 6a1803df08f44-6b7acae18c8sm5938716d6.77.2024.07.24.03.12.57
 (version=TLS1_2 cipher=ECDHE-ECDSA-AES128-GCM-SHA256 bits=128/128);
 Wed, 24 Jul 2024 03:12:57 -0700 (PDT)
X-Relaying-Domain: iol.unh.edu
Date: Wed, 24 Jul 2024 03:12:57 -0700 (PDT)
Message-ID: <66a0d3a9.050a0220.348e44.1ef0SMTPIN_ADDED_MISSING@mx.google.com>
Received: from [172.21.0.7] (unknown [172.18.0.240])
 by postal.iol.unh.edu (Postfix) with ESMTP id E1E4A6052500;
 Wed, 24 Jul 2024 06:12:56 -0400 (EDT)
Subject: |PENDING| pw142671-142673 [PATCH] [v3,3/3] test-pmd: add more packet
From: dpdklab@iol.unh.edu
To: Test Report <test-report@dpdk.org>
Cc: dpdk-test-reports@iol.unh.edu
In-Reply-To: <20240723203629.246735-4-stephen@networkplumber.org>
References: <20240723203629.246735-4-stephen@networkplumber.org>
Content-Type: text/plain
X-BeenThere: test-report@dpdk.org
X-Mailman-Version: 2.1.29
Precedence: list
List-Id: automatic DPDK test reports <test-report.dpdk.org>
List-Unsubscribe: <https://mails.dpdk.org/options/test-report>,
 <mailto:test-report-request@dpdk.org?subject=unsubscribe>
List-Archive: <http://mails.dpdk.org/archives/test-report/>
List-Post: <mailto:test-report@dpdk.org>
List-Help: <mailto:test-report-request@dpdk.org?subject=help>
List-Subscribe: <https://mails.dpdk.org/listinfo/test-report>,
 <mailto:test-report-request@dpdk.org?subject=subscribe>
Errors-To: test-report-bounces@dpdk.org

Test-Label: iol-abi-testing
Test-Status: PENDING
http://dpdk.org/patch/142673

_Testing pending_

Submitter: Stephen Hemminger <stephen@networkplumber.org>
Date: Tuesday, July 23 2024 20:33:10 
DPDK git baseline: Repo:dpdk
  Branch: master
  CommitID:9cad88310860ad99f9133af39f9cf98e524de9ac

142671-142673 --> testing pending

Upstream job id: Generic-DPDK-Compile-ABI#100146

Test environment and result as below:

+-------------------+----------+
|    Environment    | abi_test |
+===================+==========+
| CentOS Stream 8   | PASS     |
+-------------------+----------+
| CentOS Stream 9   | PASS     |
+-------------------+----------+
| Debian Bullseye   | PASS     |
+-------------------+----------+
| Debian 12         | PEND     |
+-------------------+----------+
| Fedora 37         | PEND     |
+-------------------+----------+
| Fedora 38 (Clang) | PASS     |
+-------------------+----------+
| Fedora 38         | PASS     |
+-------------------+----------+
| Fedora 39 (Clang) | PEND     |
+-------------------+----------+
| Fedora 40 (Clang) | PEND     |
+-------------------+----------+
| Fedora 39         | PEND     |
+-------------------+----------+
| Fedora 40         | PEND     |
+-------------------+----------+
| openSUSE Leap 15  | PASS     |
+-------------------+----------+
| RHEL8             | PEND     |
+-------------------+----------+
| RHEL9             | PEND     |
+-------------------+----------+
| Ubuntu 24.04      | PASS     |
+-------------------+----------+
| Ubuntu 22.04      | PEND     |
+-------------------+----------+


CentOS Stream 8
	Kernel: 5.4.0-167-generic
	Compiler: gcc 8.5.0 20210514

CentOS Stream 9
	Kernel: 5.4.0-167-generic
	Compiler: gcc 11.4.1 20230605

Debian Bullseye
	Kernel: 5.4.0-167-generic
	Compiler: gcc 10.2.1-6

Debian 12
	Kernel: Container Host Kernel
	Compiler: gcc 12.2.0

Fedora 37
	Kernel: Depends on container host system
	Compiler: gcc 12.3.1

Fedora 38 (Clang)
	Kernel: Depends on container host
	Compiler: clang 16.0.6

Fedora 38
	Kernel: Depends on container host
	Compiler: gcc 13.2.1

Fedora 39 (Clang)
	Kernel: Depends on container host
	Compiler: clang 17.0.6

Fedora 40 (Clang)
	Kernel: Depends on container host
	Compiler: clang 18.1.6

Fedora 39
	Kernel: Depends on container host
	Compiler: gcc 13.2.1

Fedora 40
	Kernel: Depends on container host
	Compiler: gcc 14.1.1

openSUSE Leap 15
	Kernel: 5.4.0-167-generic
	Compiler: gcc 7.5.0

RHEL8
	Kernel: 5.4.0-167-generic
	Compiler: gcc 8.5.0 20210514 (Red Hat 8.5.0-20)

RHEL9
	Kernel: Depends on container host
	Compiler: gcc 11.4.1

Ubuntu 24.04
	Kernel: 5.4.0-167-generic
	Compiler: gcc 13.2.0

Ubuntu 22.04
	Kernel: 5.4.0-167-generic
	Compiler: gcc 11.4.0

To view detailed results, visit:
https://lab.dpdk.org/results/dashboard/patchsets/30599/

UNH-IOL DPDK Community Lab

To manage your email subscriptions, visit: 
https://lab.dpdk.org/results/dashboard/preferences/subscriptions/