From mboxrd@z Thu Jan  1 00:00:00 1970
Return-Path: <test-report-bounces@dpdk.org>
Received: from mails.dpdk.org (mails.dpdk.org [217.70.189.124])
	by inbox.dpdk.org (Postfix) with ESMTP id 50613456A1
	for <public@inbox.dpdk.org>; Wed, 24 Jul 2024 15:12:58 +0200 (CEST)
Received: from mails.dpdk.org (localhost [127.0.0.1])
	by mails.dpdk.org (Postfix) with ESMTP id 44E5840E3E;
	Wed, 24 Jul 2024 15:12:58 +0200 (CEST)
Received: from mail-il1-f226.google.com (mail-il1-f226.google.com
 [209.85.166.226])
 by mails.dpdk.org (Postfix) with ESMTP id B05A940B97
 for <test-report@dpdk.org>; Wed, 24 Jul 2024 15:12:57 +0200 (CEST)
Received: by mail-il1-f226.google.com with SMTP id
 e9e14a558f8ab-39641271f2aso24162845ab.3
 for <test-report@dpdk.org>; Wed, 24 Jul 2024 06:12:57 -0700 (PDT)
DKIM-Signature: v=1; a=rsa-sha256; c=relaxed/relaxed;
 d=iol.unh.edu; s=unh-iol; t=1721826777; x=1722431577; darn=dpdk.org;
 h=references:in-reply-to:cc:to:from:subject:message-id:date:from:to
 :cc:subject:date:message-id:reply-to;
 bh=gfR6PhLF4j/QBwHc8rmD0APyW3jhPQxKx6rjlzkYNvs=;
 b=N+5cCUdGMBL/DX52vPbtwPAQn8AaS8zChdYYXprCxxLeAJvfsaVFljhgOPIBiiqtcs
 kXTZwoZ01/ddVRSOhQF2vEBw29EmTTU/7Zi/3g/ncDzTWaTiRlxfuj7BP3M0asBTWLBa
 VspVe3Z4ZUeYxzvvGoz7s2TRzGbc/BEhSACK8=
X-Google-DKIM-Signature: v=1; a=rsa-sha256; c=relaxed/relaxed;
 d=1e100.net; s=20230601; t=1721826777; x=1722431577;
 h=references:in-reply-to:cc:to:from:subject:message-id:date
 :x-gm-message-state:from:to:cc:subject:date:message-id:reply-to;
 bh=gfR6PhLF4j/QBwHc8rmD0APyW3jhPQxKx6rjlzkYNvs=;
 b=mEM5kKdzWFb9CifhLSP2tmBlxP5BLjGBK4bIazTL06tDyF9yKdOALWYqYyMvZvP7U5
 5YlQ+mQTILSNU+MTTZ4JRycxh/tW7s3R/fQAQ/espSrukSS+MdLOLrq0A76R4hNd2E/L
 preuHzwptv20/qH21Af8lImNcG+3dbGp0VYX6YX9DatvqP10iWsGE7ELnxpiWChRDbYr
 /Go05JHR/rdWItk0BgvvjlXG/+288c7e3IoRvbBcpmdcL5p8NQ0TSKl6vnnt8zMwnDvc
 j044ofePuto/YWPNHGHSBPaIDBIRQjPVWcKoq/stRBkqztdt8gAGWHatqpaX9YFGqEtP
 XhKw==
X-Gm-Message-State: AOJu0YyygriUuFkEr+CCfXGo1o3IwYrFRMEC/XlbqZCt5/GidF50iejC
 RHX6jZM+eG81C8I29BpNAO/XuFWlykYfABzIbTayP1H9Fihw1vdlZzf1JEa6FgH9gSiFY9zxky7
 yqtF+CxV4j6MuPjHDSSX+1rQlIkXj3p6NV9sZ0GOp
X-Google-Smtp-Source: AGHT+IFVzWx42HQyqbuJEi+bRWpfG6o04h2pob4z6hoSyEtThR/FaLptr33GUC+wWXEKoiWlrL0jO2GhKK8r
X-Received: by 2002:a05:6e02:20c7:b0:380:f340:ad66 with SMTP id
 e9e14a558f8ab-39a194d5e1cmr19844905ab.26.1721826776944; 
 Wed, 24 Jul 2024 06:12:56 -0700 (PDT)
Received: from postal.iol.unh.edu (postal.iol.unh.edu. [132.177.123.84])
 by smtp-relay.gmail.com with ESMTPS id
 e9e14a558f8ab-39a1859dc13sm765395ab.7.2024.07.24.06.12.56
 (version=TLS1_2 cipher=ECDHE-ECDSA-AES128-GCM-SHA256 bits=128/128);
 Wed, 24 Jul 2024 06:12:56 -0700 (PDT)
X-Relaying-Domain: iol.unh.edu
Date: Wed, 24 Jul 2024 06:12:56 -0700 (PDT)
Message-ID: <66a0fdd8.050a0220.128f77.5b49SMTPIN_ADDED_MISSING@mx.google.com>
Received: from [172.21.0.8] (unknown [172.18.0.240])
 by postal.iol.unh.edu (Postfix) with ESMTP id 384516052500;
 Wed, 24 Jul 2024 09:12:56 -0400 (EDT)
Subject: |PENDING| pw142674 [PATCH] eal: add support for TRNG with Arm RNG fe
From: dpdklab@iol.unh.edu
To: Test Report <test-report@dpdk.org>
Cc: dpdk-test-reports@iol.unh.edu
In-Reply-To: <20240723212703.721050-1-shunzhi.wen@arm.com>
References: <20240723212703.721050-1-shunzhi.wen@arm.com>
Content-Type: text/plain
X-BeenThere: test-report@dpdk.org
X-Mailman-Version: 2.1.29
Precedence: list
List-Id: automatic DPDK test reports <test-report.dpdk.org>
List-Unsubscribe: <https://mails.dpdk.org/options/test-report>,
 <mailto:test-report-request@dpdk.org?subject=unsubscribe>
List-Archive: <http://mails.dpdk.org/archives/test-report/>
List-Post: <mailto:test-report@dpdk.org>
List-Help: <mailto:test-report-request@dpdk.org?subject=help>
List-Subscribe: <https://mails.dpdk.org/listinfo/test-report>,
 <mailto:test-report-request@dpdk.org?subject=subscribe>
Errors-To: test-report-bounces@dpdk.org

Test-Label: iol-compile-arm64-testing
Test-Status: PENDING
http://dpdk.org/patch/142674

_Testing pending_

Submitter: Shunzhi Wen <shunzhi.wen@arm.com>
Date: Tuesday, July 23 2024 21:27:03 
DPDK git baseline: Repo:dpdk
  Branch: master
  CommitID:82c47f005b9a0a1e3a649664b7713443d18abe43

142674 --> testing pending

Upstream job id: Generic-DPDK-Compile-Meson#279022

Test environment and result as below:

+----------------------------------------+--------------------+
|              Environment               | dpdk_meson_compile |
+========================================+====================+
| RHEL9 (ARM)                            | PEND               |
+----------------------------------------+--------------------+
| Ubuntu 20.04 ARM GCC Cross Compile     | PEND               |
+----------------------------------------+--------------------+
| Debian 12 with MUSDK                   | PASS               |
+----------------------------------------+--------------------+
| Ubuntu 20.04 ARM SVE                   | PASS               |
+----------------------------------------+--------------------+
| Fedora 37 (ARM)                        | PEND               |
+----------------------------------------+--------------------+
| Fedora 38 (ARM)                        | PEND               |
+----------------------------------------+--------------------+
| Fedora 38 (ARM Clang)                  | PEND               |
+----------------------------------------+--------------------+
| Fedora 39 (ARM)                        | PEND               |
+----------------------------------------+--------------------+
| Fedora 39 (ARM Clang)                  | PASS               |
+----------------------------------------+--------------------+
| Fedora 40 (ARM Clang)                  | PASS               |
+----------------------------------------+--------------------+
| Fedora 40 (ARM)                        | PEND               |
+----------------------------------------+--------------------+
| Ubuntu 20.04 (ARM)                     | PEND               |
+----------------------------------------+--------------------+
| Ubuntu 22.04 (ARM)                     | PEND               |
+----------------------------------------+--------------------+
| Ubuntu 24.04 (ARM)                     | PEND               |
+----------------------------------------+--------------------+
| CentOS Stream 9 (ARM)                  | PEND               |
+----------------------------------------+--------------------+
| Debian 12 (arm)                        | PASS               |
+----------------------------------------+--------------------+
| Debian 11 (Buster) (ARM)               | PEND               |
+----------------------------------------+--------------------+
| Ubuntu 20.04 ARM Clang Cross Compile   | PASS               |
+----------------------------------------+--------------------+
| Ubuntu 20.04 aarch32 GCC Cross Compile | PASS               |
+----------------------------------------+--------------------+


RHEL9 (ARM)
	Kernel: Depends on container host
	Compiler: gcc 11.4.1

Ubuntu 20.04 ARM GCC Cross Compile
	Kernel: 5.4.0-167-generic
	Compiler: aarch64-linux-gnu-gcc (Ubuntu 9.4.0-1ubuntu1~20.04.2) 9.4.0

Debian 12 with MUSDK
	Kernel: Container Host Kernel
	Compiler: gcc 12.2.0

Ubuntu 20.04 ARM SVE
	Kernel: 5.4.0-167-generic
	Compiler: gcc (Ubuntu 10.5.0-1ubuntu1~20.04) 10.5.0

Fedora 37 (ARM)
	Kernel: Depends on container host
	Compiler: gcc 12.3.1

Fedora 38 (ARM)
	Kernel: Depends on container host
	Compiler: gcc 13.2.1

Fedora 38 (ARM Clang)
	Kernel: Depends on container host
	Compiler: clang 16.0.6

Fedora 39 (ARM)
	Kernel: Depends on container host
	Compiler: gcc 13.2.1

Fedora 39 (ARM Clang)
	Kernel: Depends on container host
	Compiler: clang 17.0.6

Fedora 40 (ARM Clang)
	Kernel: Depends on container host
	Compiler: clang 18.1.6

Fedora 40 (ARM)
	Kernel: Depends on container host
	Compiler: gcc 14.1.1

Ubuntu 20.04 (ARM)
	Kernel: Container Host Kernel
	Compiler: gcc 9.4.0

Ubuntu 22.04 (ARM)
	Kernel: Container Host Kernel
	Compiler: gcc 11.4.0

Ubuntu 24.04 (ARM)
	Kernel: 5.4.0-167-generic
	Compiler: gcc 13.2.0

CentOS Stream 9 (ARM)
	Kernel: Container Host Kernel
	Compiler: gcc 11.4.1

Debian 12 (arm)
	Kernel: Container Host Kernel
	Compiler: gcc 12.2.0

Debian 11 (Buster) (ARM)
	Kernel: Container Host Kernel
	Compiler: gcc 10.2.1

Ubuntu 20.04 ARM Clang Cross Compile
	Kernel: 5.4.0-72-generic
	Compiler: clang 10.0.0-4ubuntu1

Ubuntu 20.04 aarch32 GCC Cross Compile
	Kernel: 5.4.0-167-generic
	Compiler: gcc 9.4.0

To view detailed results, visit:
https://lab.dpdk.org/results/dashboard/patchsets/30600/

UNH-IOL DPDK Community Lab

To manage your email subscriptions, visit: 
https://lab.dpdk.org/results/dashboard/preferences/subscriptions/