From mboxrd@z Thu Jan  1 00:00:00 1970
Return-Path: <test-report-bounces@dpdk.org>
Received: from mails.dpdk.org (mails.dpdk.org [217.70.189.124])
	by inbox.dpdk.org (Postfix) with ESMTP id D44BB456A1
	for <public@inbox.dpdk.org>; Wed, 24 Jul 2024 15:32:54 +0200 (CEST)
Received: from mails.dpdk.org (localhost [127.0.0.1])
	by mails.dpdk.org (Postfix) with ESMTP id CF4F340E3E;
	Wed, 24 Jul 2024 15:32:54 +0200 (CEST)
Received: from mail-io1-f97.google.com (mail-io1-f97.google.com
 [209.85.166.97]) by mails.dpdk.org (Postfix) with ESMTP id 5B28B40B97
 for <test-report@dpdk.org>; Wed, 24 Jul 2024 15:32:51 +0200 (CEST)
Received: by mail-io1-f97.google.com with SMTP id
 ca18e2360f4ac-804ac219676so28747539f.0
 for <test-report@dpdk.org>; Wed, 24 Jul 2024 06:32:51 -0700 (PDT)
DKIM-Signature: v=1; a=rsa-sha256; c=relaxed/relaxed;
 d=iol.unh.edu; s=unh-iol; t=1721827970; x=1722432770; darn=dpdk.org;
 h=references:in-reply-to:cc:to:from:subject:message-id:date:from:to
 :cc:subject:date:message-id:reply-to;
 bh=2pZSWiS8pIg7ahGb36w8wBLSJzsuOmnmU/Hx+r0UhYw=;
 b=PhxtuG14JvL/T4x4WiX34ivAzP6dDHAPBNBb8FcAcydKP5WPCN8iwUuxBDstuTSMnd
 9/7LYfttD+mpl8iztWB/RNfCnaWa4ccLa6pvH0HestXpLXvh7zGpedytBVYxWJZn5c73
 JHM9VGEgl0V0ZnGy+UeFHpAq+WobVctdmy1Ec=
X-Google-DKIM-Signature: v=1; a=rsa-sha256; c=relaxed/relaxed;
 d=1e100.net; s=20230601; t=1721827970; x=1722432770;
 h=references:in-reply-to:cc:to:from:subject:message-id:date
 :x-gm-message-state:from:to:cc:subject:date:message-id:reply-to;
 bh=2pZSWiS8pIg7ahGb36w8wBLSJzsuOmnmU/Hx+r0UhYw=;
 b=TpWKyvC7uSch1Yy4Nbg5wk+dHMd6zJ+xNml0tkETpGuXB/EClg+QGZOvA09QYksTV/
 60vD4ZHCcaRliz4V3o5QKic2Z65oGYzMMZ3OewVLMAlG+paToLzePnciqMDLP60GSHsj
 qRmVoAGn7MHfQlRGuYylYXcZ1+tLt+hqlnT+vFnSZAEE+2NbVTkVwANGRWpHjCPVT+Cy
 3axGrfUP5n0QW870f4RZ56R9a86xheu46JqlEPoJ4Zu6tsc8ysoAIHHjfkkbvRBeQrE9
 eZY2j6odsoTurgUlCIarqT6k+f4K/wIgushJz6mZ+J1Dq3InYmzldViI7Yk/pqLkeGCL
 Y7pQ==
X-Gm-Message-State: AOJu0YwcLXjWewJ4JZRlGLsxi7NQuycvdJGCqLXVHsKYgJDMjVSnJHoh
 pYejdl5w1EEtizwmtB89MfYVpe8qyGrym94WtyRJmbAw8UnYQL40lbx/GJVSyR/FXRyukPYrwSg
 bojnF4d7GgpIKceqQQOMuWti8SL3bYqY+8yNd9eHV
X-Google-Smtp-Source: AGHT+IHttf6DWOr06UFuuUnql5W3YckYVZWLj9/6hil+JmCUk1RhArs/cQo+gc2Oxo4cLwdi1aJRaEK0E3vl
X-Received: by 2002:a92:ca48:0:b0:376:3ece:dc5 with SMTP id
 e9e14a558f8ab-39a1a77ab04mr12408215ab.4.1721827970477; 
 Wed, 24 Jul 2024 06:32:50 -0700 (PDT)
Received: from postal.iol.unh.edu (postal.iol.unh.edu. [132.177.123.84])
 by smtp-relay.gmail.com with ESMTPS id
 e9e14a558f8ab-39a186a7f53sm754745ab.33.2024.07.24.06.32.50
 (version=TLS1_2 cipher=ECDHE-ECDSA-AES128-GCM-SHA256 bits=128/128);
 Wed, 24 Jul 2024 06:32:50 -0700 (PDT)
X-Relaying-Domain: iol.unh.edu
Date: Wed, 24 Jul 2024 06:32:50 -0700 (PDT)
Message-ID: <66a10282.050a0220.2b0cf7.6314SMTPIN_ADDED_MISSING@mx.google.com>
Received: from [172.21.0.7] (unknown [172.18.0.240])
 by postal.iol.unh.edu (Postfix) with ESMTP id 1630F60526E2;
 Wed, 24 Jul 2024 09:32:50 -0400 (EDT)
Subject: |PENDING| pw142674 [PATCH] eal: add support for TRNG with Arm RNG fe
From: dpdklab@iol.unh.edu
To: Test Report <test-report@dpdk.org>
Cc: dpdk-test-reports@iol.unh.edu
In-Reply-To: <20240723212703.721050-1-shunzhi.wen@arm.com>
References: <20240723212703.721050-1-shunzhi.wen@arm.com>
Content-Type: text/plain
X-BeenThere: test-report@dpdk.org
X-Mailman-Version: 2.1.29
Precedence: list
List-Id: automatic DPDK test reports <test-report.dpdk.org>
List-Unsubscribe: <https://mails.dpdk.org/options/test-report>,
 <mailto:test-report-request@dpdk.org?subject=unsubscribe>
List-Archive: <http://mails.dpdk.org/archives/test-report/>
List-Post: <mailto:test-report@dpdk.org>
List-Help: <mailto:test-report-request@dpdk.org?subject=help>
List-Subscribe: <https://mails.dpdk.org/listinfo/test-report>,
 <mailto:test-report-request@dpdk.org?subject=subscribe>
Errors-To: test-report-bounces@dpdk.org

Test-Label: iol-compile-arm64-testing
Test-Status: PENDING
http://dpdk.org/patch/142674

_Testing pending_

Submitter: Shunzhi Wen <shunzhi.wen@arm.com>
Date: Tuesday, July 23 2024 21:27:03 
DPDK git baseline: Repo:dpdk
  Branch: master
  CommitID:82c47f005b9a0a1e3a649664b7713443d18abe43

142674 --> testing pending

Upstream job id: Generic-DPDK-Compile-Meson#279023

Test environment and result as below:

+----------------------------------------+--------------------+
|              Environment               | dpdk_meson_compile |
+========================================+====================+
| RHEL9 (ARM)                            | PASS               |
+----------------------------------------+--------------------+
| Ubuntu 20.04 ARM GCC Cross Compile     | PASS               |
+----------------------------------------+--------------------+
| Debian 12 with MUSDK                   | PASS               |
+----------------------------------------+--------------------+
| Ubuntu 20.04 ARM SVE                   | PASS               |
+----------------------------------------+--------------------+
| Fedora 37 (ARM)                        | PEND               |
+----------------------------------------+--------------------+
| Fedora 38 (ARM)                        | PEND               |
+----------------------------------------+--------------------+
| Fedora 38 (ARM Clang)                  | PASS               |
+----------------------------------------+--------------------+
| Fedora 39 (ARM)                        | PEND               |
+----------------------------------------+--------------------+
| Fedora 39 (ARM Clang)                  | PASS               |
+----------------------------------------+--------------------+
| Fedora 40 (ARM Clang)                  | PASS               |
+----------------------------------------+--------------------+
| Fedora 40 (ARM)                        | PASS               |
+----------------------------------------+--------------------+
| Ubuntu 20.04 (ARM)                     | PASS               |
+----------------------------------------+--------------------+
| Ubuntu 22.04 (ARM)                     | PASS               |
+----------------------------------------+--------------------+
| Ubuntu 24.04 (ARM)                     | PEND               |
+----------------------------------------+--------------------+
| CentOS Stream 9 (ARM)                  | PASS               |
+----------------------------------------+--------------------+
| Debian 12 (arm)                        | PASS               |
+----------------------------------------+--------------------+
| Debian 11 (Buster) (ARM)               | PASS               |
+----------------------------------------+--------------------+
| Ubuntu 20.04 ARM Clang Cross Compile   | PASS               |
+----------------------------------------+--------------------+
| Ubuntu 20.04 aarch32 GCC Cross Compile | PASS               |
+----------------------------------------+--------------------+


RHEL9 (ARM)
	Kernel: Depends on container host
	Compiler: gcc 11.4.1

Ubuntu 20.04 ARM GCC Cross Compile
	Kernel: 5.4.0-167-generic
	Compiler: aarch64-linux-gnu-gcc (Ubuntu 9.4.0-1ubuntu1~20.04.2) 9.4.0

Debian 12 with MUSDK
	Kernel: Container Host Kernel
	Compiler: gcc 12.2.0

Ubuntu 20.04 ARM SVE
	Kernel: 5.4.0-167-generic
	Compiler: gcc (Ubuntu 10.5.0-1ubuntu1~20.04) 10.5.0

Fedora 37 (ARM)
	Kernel: Depends on container host
	Compiler: gcc 12.3.1

Fedora 38 (ARM)
	Kernel: Depends on container host
	Compiler: gcc 13.2.1

Fedora 38 (ARM Clang)
	Kernel: Depends on container host
	Compiler: clang 16.0.6

Fedora 39 (ARM)
	Kernel: Depends on container host
	Compiler: gcc 13.2.1

Fedora 39 (ARM Clang)
	Kernel: Depends on container host
	Compiler: clang 17.0.6

Fedora 40 (ARM Clang)
	Kernel: Depends on container host
	Compiler: clang 18.1.6

Fedora 40 (ARM)
	Kernel: Depends on container host
	Compiler: gcc 14.1.1

Ubuntu 20.04 (ARM)
	Kernel: Container Host Kernel
	Compiler: gcc 9.4.0

Ubuntu 22.04 (ARM)
	Kernel: Container Host Kernel
	Compiler: gcc 11.4.0

Ubuntu 24.04 (ARM)
	Kernel: 5.4.0-167-generic
	Compiler: gcc 13.2.0

CentOS Stream 9 (ARM)
	Kernel: Container Host Kernel
	Compiler: gcc 11.4.1

Debian 12 (arm)
	Kernel: Container Host Kernel
	Compiler: gcc 12.2.0

Debian 11 (Buster) (ARM)
	Kernel: Container Host Kernel
	Compiler: gcc 10.2.1

Ubuntu 20.04 ARM Clang Cross Compile
	Kernel: 5.4.0-72-generic
	Compiler: clang 10.0.0-4ubuntu1

Ubuntu 20.04 aarch32 GCC Cross Compile
	Kernel: 5.4.0-167-generic
	Compiler: gcc 9.4.0

To view detailed results, visit:
https://lab.dpdk.org/results/dashboard/patchsets/30600/

UNH-IOL DPDK Community Lab

To manage your email subscriptions, visit: 
https://lab.dpdk.org/results/dashboard/preferences/subscriptions/