From mboxrd@z Thu Jan  1 00:00:00 1970
Return-Path: <test-report-bounces@dpdk.org>
Received: from mails.dpdk.org (mails.dpdk.org [217.70.189.124])
	by inbox.dpdk.org (Postfix) with ESMTP id A050B456A2
	for <public@inbox.dpdk.org>; Wed, 24 Jul 2024 16:31:24 +0200 (CEST)
Received: from mails.dpdk.org (localhost [127.0.0.1])
	by mails.dpdk.org (Postfix) with ESMTP id 9E60840E3E;
	Wed, 24 Jul 2024 16:31:24 +0200 (CEST)
Received: from mail-pg1-f228.google.com (mail-pg1-f228.google.com
 [209.85.215.228])
 by mails.dpdk.org (Postfix) with ESMTP id 7789F40B97
 for <test-report@dpdk.org>; Wed, 24 Jul 2024 16:31:07 +0200 (CEST)
Received: by mail-pg1-f228.google.com with SMTP id
 41be03b00d2f7-7669d62b5bfso1442044a12.1
 for <test-report@dpdk.org>; Wed, 24 Jul 2024 07:31:07 -0700 (PDT)
DKIM-Signature: v=1; a=rsa-sha256; c=relaxed/relaxed;
 d=iol.unh.edu; s=unh-iol; t=1721831466; x=1722436266; darn=dpdk.org;
 h=references:in-reply-to:cc:to:from:subject:message-id:date:from:to
 :cc:subject:date:message-id:reply-to;
 bh=YKIt1u+K5zG56O8r1VUUApS7goMULnT9k5m4iCzrdIM=;
 b=QwE6q0xAcwCeC5ybMOHxsxAY251zwNIsnqH48/oVuUogGdIbHbLBUflud7NRpcOlaL
 j/Zu2cKYKBN8A6BWPLXD9fp4ddv415qZlelYHR9BE6iXNwBuhc7gmjiV3frVrts7id4f
 o0uBWVxC7L4Em6IMh8h+jVpYHZ8jfYXrsNMuU=
X-Google-DKIM-Signature: v=1; a=rsa-sha256; c=relaxed/relaxed;
 d=1e100.net; s=20230601; t=1721831466; x=1722436266;
 h=references:in-reply-to:cc:to:from:subject:message-id:date
 :x-gm-message-state:from:to:cc:subject:date:message-id:reply-to;
 bh=YKIt1u+K5zG56O8r1VUUApS7goMULnT9k5m4iCzrdIM=;
 b=t31yPmuvtpOSdRU2NsURuZz8lQil73HWSuQTOP+FTljDR17bP/H2q8s3Yl8cxnYcJf
 bpuwUElFvCrhHiyniaiI8qbV6NlIjSg5BtitDm2BNf5043weNL4gx3X1TS9hL24EovlS
 ajtgyFC3NfKDYL4c//kqJSywXfJn/Dk/5oXEeHZbu/+Bv2bC4orqurInXbP8rm1pmoa0
 tPmlrkleBWzInsps8c2hBybm6A+EaQUrlq8MZ5M1zx9tN8use+JQdYdc4eiuDfFqobvv
 CzPAexISXz8zX2t6vY+Sh40ueucGXKtJneAEl479JHrk0TzXniAd4j+t8cdaFnzOs7r1
 sb4Q==
X-Gm-Message-State: AOJu0Ywl5Pq3r8slBRTYn6q6BQV5SVqHhDZws7sXyaoWWPbRPydhcQnx
 FPpv8hXlq2fX9kwXt+uokvoJwyQzRbovK8ynVoe7nu5dJT92r84PJJ/3wM/sSVOcbnjqMYJW+P2
 Z9xefut+zYgfxHmwC+6XyDvuN1gmhcDhuyP7/ngt3F8XMi9SWZvPnrZR4
X-Google-Smtp-Source: AGHT+IGENAzjdWwBXeCM/3yCtH034Be3U3Ba3EZf+GfN3TC73ZWpBDf/n9GAI0lRmukgBv/bEW+DulO5VF4P
X-Received: by 2002:a17:90a:a411:b0:2c9:6d30:81ee with SMTP id
 98e67ed59e1d1-2cdb512e8a7mr2605460a91.8.1721831466439; 
 Wed, 24 Jul 2024 07:31:06 -0700 (PDT)
Received: from postal.iol.unh.edu (postal.iol.unh.edu.
 [2606:4100:3880:1234::84]) by smtp-relay.gmail.com with ESMTPS id
 98e67ed59e1d1-2cdb742dc3dsm88467a91.11.2024.07.24.07.31.06
 (version=TLS1_2 cipher=ECDHE-ECDSA-AES128-GCM-SHA256 bits=128/128);
 Wed, 24 Jul 2024 07:31:06 -0700 (PDT)
X-Relaying-Domain: iol.unh.edu
Date: Wed, 24 Jul 2024 07:31:06 -0700 (PDT)
Message-ID: <66a1102a.170a0220.5ca76.6a62SMTPIN_ADDED_MISSING@mx.google.com>
Received: from [172.21.0.6] (unknown [172.18.0.240])
 by postal.iol.unh.edu (Postfix) with ESMTP id C501B6052722;
 Wed, 24 Jul 2024 10:31:05 -0400 (EDT)
Subject: |PENDING| pw142677 [PATCH] [v2] doc: document mlx5 HWS actions order
From: dpdklab@iol.unh.edu
To: Test Report <test-report@dpdk.org>
Cc: dpdk-test-reports@iol.unh.edu
In-Reply-To: <20240724073617.132973-1-mkashani@nvidia.com>
References: <20240724073617.132973-1-mkashani@nvidia.com>
Content-Type: text/plain
X-BeenThere: test-report@dpdk.org
X-Mailman-Version: 2.1.29
Precedence: list
List-Id: automatic DPDK test reports <test-report.dpdk.org>
List-Unsubscribe: <https://mails.dpdk.org/options/test-report>,
 <mailto:test-report-request@dpdk.org?subject=unsubscribe>
List-Archive: <http://mails.dpdk.org/archives/test-report/>
List-Post: <mailto:test-report@dpdk.org>
List-Help: <mailto:test-report-request@dpdk.org?subject=help>
List-Subscribe: <https://mails.dpdk.org/listinfo/test-report>,
 <mailto:test-report-request@dpdk.org?subject=subscribe>
Errors-To: test-report-bounces@dpdk.org

Test-Label: iol-compile-arm64-testing
Test-Status: PENDING
http://dpdk.org/patch/142677

_Testing pending_

Submitter: Maayan Kashani <mkashani@nvidia.com>
Date: Wednesday, July 24 2024 07:36:16 
DPDK git baseline: Repo:dpdk
  Branch: master
  CommitID:82c47f005b9a0a1e3a649664b7713443d18abe43

142677 --> testing pending

Upstream job id: Generic-DPDK-Compile-Meson#279097

Test environment and result as below:

+----------------------------------------+--------------------+
|              Environment               | dpdk_meson_compile |
+========================================+====================+
| RHEL9 (ARM)                            | PEND               |
+----------------------------------------+--------------------+
| Ubuntu 20.04 ARM GCC Cross Compile     | PEND               |
+----------------------------------------+--------------------+
| Ubuntu 20.04 ARM SVE                   | PASS               |
+----------------------------------------+--------------------+
| Debian 12 with MUSDK                   | PASS               |
+----------------------------------------+--------------------+
| Fedora 37 (ARM)                        | PASS               |
+----------------------------------------+--------------------+
| Fedora 38 (ARM)                        | PASS               |
+----------------------------------------+--------------------+
| Fedora 38 (ARM Clang)                  | PEND               |
+----------------------------------------+--------------------+
| Fedora 39 (ARM)                        | PASS               |
+----------------------------------------+--------------------+
| Fedora 39 (ARM Clang)                  | PEND               |
+----------------------------------------+--------------------+
| Fedora 40 (ARM)                        | PASS               |
+----------------------------------------+--------------------+
| Fedora 40 (ARM Clang)                  | PEND               |
+----------------------------------------+--------------------+
| Ubuntu 20.04 (ARM)                     | PEND               |
+----------------------------------------+--------------------+
| Ubuntu 22.04 (ARM)                     | PEND               |
+----------------------------------------+--------------------+
| Ubuntu 24.04 (ARM)                     | PEND               |
+----------------------------------------+--------------------+
| Debian 11 (Buster) (ARM)               | PEND               |
+----------------------------------------+--------------------+
| Debian 12 (arm)                        | PEND               |
+----------------------------------------+--------------------+
| Ubuntu 20.04 ARM Clang Cross Compile   | PEND               |
+----------------------------------------+--------------------+
| Ubuntu 20.04 aarch32 GCC Cross Compile | PEND               |
+----------------------------------------+--------------------+


RHEL9 (ARM)
	Kernel: Depends on container host
	Compiler: gcc 11.4.1

Ubuntu 20.04 ARM GCC Cross Compile
	Kernel: 5.4.0-167-generic
	Compiler: aarch64-linux-gnu-gcc (Ubuntu 9.4.0-1ubuntu1~20.04.2) 9.4.0

Ubuntu 20.04 ARM SVE
	Kernel: 5.4.0-167-generic
	Compiler: gcc (Ubuntu 10.5.0-1ubuntu1~20.04) 10.5.0

Debian 12 with MUSDK
	Kernel: Container Host Kernel
	Compiler: gcc 12.2.0

Fedora 37 (ARM)
	Kernel: Depends on container host
	Compiler: gcc 12.3.1

Fedora 38 (ARM)
	Kernel: Depends on container host
	Compiler: gcc 13.2.1

Fedora 38 (ARM Clang)
	Kernel: Depends on container host
	Compiler: clang 16.0.6

Fedora 39 (ARM)
	Kernel: Depends on container host
	Compiler: gcc 13.2.1

Fedora 39 (ARM Clang)
	Kernel: Depends on container host
	Compiler: clang 17.0.6

Fedora 40 (ARM)
	Kernel: Depends on container host
	Compiler: gcc 14.1.1

Fedora 40 (ARM Clang)
	Kernel: Depends on container host
	Compiler: clang 18.1.6

Ubuntu 20.04 (ARM)
	Kernel: Container Host Kernel
	Compiler: gcc 9.4.0

Ubuntu 22.04 (ARM)
	Kernel: Container Host Kernel
	Compiler: gcc 11.4.0

Ubuntu 24.04 (ARM)
	Kernel: 5.4.0-167-generic
	Compiler: gcc 13.2.0

Debian 11 (Buster) (ARM)
	Kernel: Container Host Kernel
	Compiler: gcc 10.2.1

Debian 12 (arm)
	Kernel: Container Host Kernel
	Compiler: gcc 12.2.0

Ubuntu 20.04 ARM Clang Cross Compile
	Kernel: 5.4.0-72-generic
	Compiler: clang 10.0.0-4ubuntu1

Ubuntu 20.04 aarch32 GCC Cross Compile
	Kernel: 5.4.0-167-generic
	Compiler: gcc 9.4.0

To view detailed results, visit:
https://lab.dpdk.org/results/dashboard/patchsets/30603/

UNH-IOL DPDK Community Lab

To manage your email subscriptions, visit: 
https://lab.dpdk.org/results/dashboard/preferences/subscriptions/