From mboxrd@z Thu Jan  1 00:00:00 1970
Return-Path: <test-report-bounces@dpdk.org>
Received: from mails.dpdk.org (mails.dpdk.org [217.70.189.124])
	by inbox.dpdk.org (Postfix) with ESMTP id 68363456A2
	for <public@inbox.dpdk.org>; Wed, 24 Jul 2024 20:11:18 +0200 (CEST)
Received: from mails.dpdk.org (localhost [127.0.0.1])
	by mails.dpdk.org (Postfix) with ESMTP id 6465340B97;
	Wed, 24 Jul 2024 20:11:18 +0200 (CEST)
Received: from mail-yw1-f228.google.com (mail-yw1-f228.google.com
 [209.85.128.228])
 by mails.dpdk.org (Postfix) with ESMTP id 727EC4026F
 for <test-report@dpdk.org>; Wed, 24 Jul 2024 20:11:02 +0200 (CEST)
Received: by mail-yw1-f228.google.com with SMTP id
 00721157ae682-66ca536621cso722847b3.3
 for <test-report@dpdk.org>; Wed, 24 Jul 2024 11:11:02 -0700 (PDT)
DKIM-Signature: v=1; a=rsa-sha256; c=relaxed/relaxed;
 d=iol.unh.edu; s=unh-iol; t=1721844662; x=1722449462; darn=dpdk.org;
 h=references:in-reply-to:cc:to:from:subject:message-id:date:from:to
 :cc:subject:date:message-id:reply-to;
 bh=pImEhW50mbiz8H6nXJWNhxfJtj1+nYPG0nG+c6hZ8q4=;
 b=GKM7puvZp6EOBTwwwnWfb12io0xmhQtQ1grhvSZRxJL+dF1nU86HRGJysOEJFilJj2
 TfCwMFKJ8R+CS0wRi6NlY1E3nfDRiP2ArVlUV3YtbCdvFH6S1NppoqQGdegH0/flqwAa
 FP7gO5oDbwP4zyCmB5HjmYMU+7GEakwtP25GA=
X-Google-DKIM-Signature: v=1; a=rsa-sha256; c=relaxed/relaxed;
 d=1e100.net; s=20230601; t=1721844662; x=1722449462;
 h=references:in-reply-to:cc:to:from:subject:message-id:date
 :x-gm-message-state:from:to:cc:subject:date:message-id:reply-to;
 bh=pImEhW50mbiz8H6nXJWNhxfJtj1+nYPG0nG+c6hZ8q4=;
 b=TkZjjc1LEr9sgWAByqTbaJ+xiRzZMQ7mVBf2BsadhE3CdoUQpLRQDOemLm5UZXDbQ0
 oK499v1DEsh5LVqjN1F9uIRXnxyQT8jzMuv8vAtuToyX34tpUBYdDDeRXswbRPkCgJYB
 wWeJTakR9TNStLXDxOpSnpeXIYAvaFCcGfHzJgWny7vaguL8d6Bh6MmKWkvNR0mT+Q0z
 NS5+HHuwMbp+cbEHssFBJkFfHNpP7tr1Z1w2/E1Zu2dv/Sme/9fUifnydkcyw5wcY+9M
 5KzpiLI5g80FTjskggRLBYKWadEqGiVzWiYARqs0R6x6VvWSr0cgFG9TrPsIy75t11CY
 ltuQ==
X-Gm-Message-State: AOJu0YxU3uIpIOQBTH13M6eZAdgMoBkebgES13WGRi8MZuiBCAEq8k9G
 Ubm94pzbzy7UzKJmNhCczA0JfXXtuY0MW7t5HkqF2nrHrUbB8rXI0pylQ+8qLaBcUBt9FfEkr7O
 hb4bSLuvxM4K9DKf1c3kD1UBoyzPs5HS7IajvgkT+
X-Google-Smtp-Source: AGHT+IHm8amf7XCffY0XL2b25AjpIXMxe7GrlnCn1FkAtN/oOtpk6ZuPDdOUYUKDvyaXM+kN9dkBA1hgKSnu
X-Received: by 2002:a0d:fec6:0:b0:630:f6b0:6c3d with SMTP id
 00721157ae682-67512029308mr2862807b3.23.1721844661843; 
 Wed, 24 Jul 2024 11:11:01 -0700 (PDT)
Received: from postal.iol.unh.edu (postal.iol.unh.edu. [132.177.123.84])
 by smtp-relay.gmail.com with ESMTPS id
 00721157ae682-6695216c204sm4281257b3.30.2024.07.24.11.11.01
 (version=TLS1_2 cipher=ECDHE-ECDSA-AES128-GCM-SHA256 bits=128/128);
 Wed, 24 Jul 2024 11:11:01 -0700 (PDT)
X-Relaying-Domain: iol.unh.edu
Date: Wed, 24 Jul 2024 11:11:01 -0700 (PDT)
Message-ID: <66a143b5.810a0220.239e16.5e03SMTPIN_ADDED_MISSING@mx.google.com>
Received: from [172.21.0.8] (unknown [172.18.0.240])
 by postal.iol.unh.edu (Postfix) with ESMTP id 85A29605C351;
 Wed, 24 Jul 2024 14:11:01 -0400 (EDT)
Subject: |SUCCESS| pw142684-142685 [PATCH] [RFC,2/2] test/power: fix power li
From: dpdklab@iol.unh.edu
To: Test Report <test-report@dpdk.org>
Cc: dpdk-test-reports@iol.unh.edu
In-Reply-To: <20240724130336.1076462-2-sivaprasad.tummala@amd.com>
References: <20240724130336.1076462-2-sivaprasad.tummala@amd.com>
Content-Type: text/plain
X-BeenThere: test-report@dpdk.org
X-Mailman-Version: 2.1.29
Precedence: list
List-Id: automatic DPDK test reports <test-report.dpdk.org>
List-Unsubscribe: <https://mails.dpdk.org/options/test-report>,
 <mailto:test-report-request@dpdk.org?subject=unsubscribe>
List-Archive: <http://mails.dpdk.org/archives/test-report/>
List-Post: <mailto:test-report@dpdk.org>
List-Help: <mailto:test-report-request@dpdk.org?subject=help>
List-Subscribe: <https://mails.dpdk.org/listinfo/test-report>,
 <mailto:test-report-request@dpdk.org?subject=subscribe>
Errors-To: test-report-bounces@dpdk.org

Test-Label: iol-abi-testing
Test-Status: SUCCESS
http://dpdk.org/patch/142685

_Testing PASS_

Submitter: Sivaprasad Tummala <Sivaprasad.Tummala@amd.com>
Date: Wednesday, July 24 2024 13:03:36 
DPDK git baseline: Repo:dpdk
  Branch: master
  CommitID:82c47f005b9a0a1e3a649664b7713443d18abe43

142684-142685 --> testing pass

Upstream job id: Generic-DPDK-Compile-ABI#100220

Test environment and result as below:

+-------------------+----------+
|    Environment    | abi_test |
+===================+==========+
| CentOS Stream 8   | PASS     |
+-------------------+----------+
| CentOS Stream 9   | PASS     |
+-------------------+----------+
| Debian Bullseye   | PASS     |
+-------------------+----------+
| Debian 12         | PASS     |
+-------------------+----------+
| Fedora 37         | PASS     |
+-------------------+----------+
| Fedora 38 (Clang) | PASS     |
+-------------------+----------+
| Fedora 38         | PASS     |
+-------------------+----------+
| Fedora 39         | PASS     |
+-------------------+----------+
| Fedora 40 (Clang) | PASS     |
+-------------------+----------+
| Fedora 39 (Clang) | PASS     |
+-------------------+----------+
| openSUSE Leap 15  | PASS     |
+-------------------+----------+
| Fedora 40         | PASS     |
+-------------------+----------+
| RHEL9             | PASS     |
+-------------------+----------+
| Ubuntu 22.04      | PASS     |
+-------------------+----------+
| Ubuntu 24.04      | PASS     |
+-------------------+----------+


CentOS Stream 8
	Kernel: 5.4.0-167-generic
	Compiler: gcc 8.5.0 20210514

CentOS Stream 9
	Kernel: 5.4.0-167-generic
	Compiler: gcc 11.4.1 20230605

Debian Bullseye
	Kernel: 5.4.0-167-generic
	Compiler: gcc 10.2.1-6

Debian 12
	Kernel: Container Host Kernel
	Compiler: gcc 12.2.0

Fedora 37
	Kernel: Depends on container host system
	Compiler: gcc 12.3.1

Fedora 38 (Clang)
	Kernel: Depends on container host
	Compiler: clang 16.0.6

Fedora 38
	Kernel: Depends on container host
	Compiler: gcc 13.2.1

Fedora 39
	Kernel: Depends on container host
	Compiler: gcc 13.2.1

Fedora 40 (Clang)
	Kernel: Depends on container host
	Compiler: clang 18.1.6

Fedora 39 (Clang)
	Kernel: Depends on container host
	Compiler: clang 17.0.6

openSUSE Leap 15
	Kernel: 5.4.0-167-generic
	Compiler: gcc 7.5.0

Fedora 40
	Kernel: Depends on container host
	Compiler: gcc 14.1.1

RHEL9
	Kernel: Depends on container host
	Compiler: gcc 11.4.1

Ubuntu 22.04
	Kernel: 5.4.0-167-generic
	Compiler: gcc 11.4.0

Ubuntu 24.04
	Kernel: 5.4.0-167-generic
	Compiler: gcc 13.2.0

To view detailed results, visit:
https://lab.dpdk.org/results/dashboard/patchsets/30605/

UNH-IOL DPDK Community Lab

To manage your email subscriptions, visit: 
https://lab.dpdk.org/results/dashboard/preferences/subscriptions/