From mboxrd@z Thu Jan  1 00:00:00 1970
Return-Path: <test-report-bounces@dpdk.org>
Received: from mails.dpdk.org (mails.dpdk.org [217.70.189.124])
	by inbox.dpdk.org (Postfix) with ESMTP id 1E75A456A2
	for <public@inbox.dpdk.org>; Wed, 24 Jul 2024 20:44:01 +0200 (CEST)
Received: from mails.dpdk.org (localhost [127.0.0.1])
	by mails.dpdk.org (Postfix) with ESMTP id 1A8A643342;
	Wed, 24 Jul 2024 20:44:01 +0200 (CEST)
Received: from mail-io1-f100.google.com (mail-io1-f100.google.com
 [209.85.166.100])
 by mails.dpdk.org (Postfix) with ESMTP id 7217942709
 for <test-report@dpdk.org>; Wed, 24 Jul 2024 20:43:44 +0200 (CEST)
Received: by mail-io1-f100.google.com with SMTP id
 ca18e2360f4ac-7f97e794f34so4663139f.3
 for <test-report@dpdk.org>; Wed, 24 Jul 2024 11:43:44 -0700 (PDT)
DKIM-Signature: v=1; a=rsa-sha256; c=relaxed/relaxed;
 d=iol.unh.edu; s=unh-iol; t=1721846624; x=1722451424; darn=dpdk.org;
 h=references:in-reply-to:cc:to:from:subject:message-id:date:from:to
 :cc:subject:date:message-id:reply-to;
 bh=fUaGpTZ11IdjaGWM69IDNqN58/KgEtbhURLLXMDo7Kk=;
 b=BFRrqBahXf1Ay4veRWQ/GWZwn8DzAq9NzijwS41cZns6K2aeqEPkT2iOv5MCKK4qoi
 WP8gQKBuIRu2/WCyYNk6DLJ9m7PHTuk6P/KdnRMrJXkvdcdGHkQUPkkZ+WsPkS0LDO60
 VRbkARdfnrqULdpRYMqYFaPLEcqjIsshonqYI=
X-Google-DKIM-Signature: v=1; a=rsa-sha256; c=relaxed/relaxed;
 d=1e100.net; s=20230601; t=1721846624; x=1722451424;
 h=references:in-reply-to:cc:to:from:subject:message-id:date
 :x-gm-message-state:from:to:cc:subject:date:message-id:reply-to;
 bh=fUaGpTZ11IdjaGWM69IDNqN58/KgEtbhURLLXMDo7Kk=;
 b=fEIQxv3RqTIxFO4EIqUWljBrJEWulVF/t69Jd4clIIRCtxrKpurno3iqlKu5VcusSr
 6BATgCFHdBa4XoG3zi8ngfBFytvF6DxSWtuLHEt9UczaTOtFLFUGzYEpz5xE9QNfUTt7
 Sb8caXw5TqrjDY0KYe6e25U4kn+FqedXUIIqWeRTlytfBTgX4M9EohFw2sTrCPXGYAM8
 2cH2R+YKtGh9+qY2KVO5aQy/lKAeAbpSiIt9hhmGvN+feVFNSpVRZQHrDGkabXGREVS6
 IFeFnC6/uz//BRD9gWuIcHbGEpMIP8+HFFMNpRHtK5vb6lF90bvu3Xtpm7pVtCh2R6HR
 tVig==
X-Gm-Message-State: AOJu0Yz5h9aEEfw4FHy3lTnlc7gHdx9g0EcIhLBGuHXUFV2yLDRlNNgW
 xZSw56zPHhBCwko+aWY6dV4LSDZ4y4rq5sCv9Ir1G/PQCpftl9T/ocWcghRi+fUhocZu2Nr6hyY
 p4rnTsr5gWcAIBDbBs4GAUq/hSv9qdTW7bdI30VRS0ew3qmvqHLgktAmQ
X-Google-Smtp-Source: AGHT+IFqoO/rtADeIqmIBxxT1QWEh0vdDwn++OW9uIB3rcQlIhqFAiieixAp9V0mNjhE/TGXjLxsfDbPCwdA
X-Received: by 2002:a05:6602:2c12:b0:806:2e60:d169 with SMTP id
 ca18e2360f4ac-81f7be798d1mr102785439f.17.1721846623823; 
 Wed, 24 Jul 2024 11:43:43 -0700 (PDT)
Received: from postal.iol.unh.edu (postal.iol.unh.edu.
 [2606:4100:3880:1234::84]) by smtp-relay.gmail.com with ESMTPS id
 8926c6da1cb9f-4c28c716ebcsm65509173.6.2024.07.24.11.43.43
 (version=TLS1_2 cipher=ECDHE-ECDSA-AES128-GCM-SHA256 bits=128/128);
 Wed, 24 Jul 2024 11:43:43 -0700 (PDT)
X-Relaying-Domain: iol.unh.edu
Date: Wed, 24 Jul 2024 11:43:43 -0700 (PDT)
Message-ID: <66a14b5f.050a0220.e6546.5072SMTPIN_ADDED_MISSING@mx.google.com>
Received: from [172.21.0.6] (unknown [172.18.0.240])
 by postal.iol.unh.edu (Postfix) with ESMTP id 6D210605C351;
 Wed, 24 Jul 2024 14:43:43 -0400 (EDT)
Subject: |PENDING| pw142684-142685 [PATCH] [RFC,2/2] test/power: fix power li
From: dpdklab@iol.unh.edu
To: Test Report <test-report@dpdk.org>
Cc: dpdk-test-reports@iol.unh.edu
In-Reply-To: <20240724130336.1076462-2-sivaprasad.tummala@amd.com>
References: <20240724130336.1076462-2-sivaprasad.tummala@amd.com>
Content-Type: text/plain
X-BeenThere: test-report@dpdk.org
X-Mailman-Version: 2.1.29
Precedence: list
List-Id: automatic DPDK test reports <test-report.dpdk.org>
List-Unsubscribe: <https://mails.dpdk.org/options/test-report>,
 <mailto:test-report-request@dpdk.org?subject=unsubscribe>
List-Archive: <http://mails.dpdk.org/archives/test-report/>
List-Post: <mailto:test-report@dpdk.org>
List-Help: <mailto:test-report-request@dpdk.org?subject=help>
List-Subscribe: <https://mails.dpdk.org/listinfo/test-report>,
 <mailto:test-report-request@dpdk.org?subject=subscribe>
Errors-To: test-report-bounces@dpdk.org

Test-Label: iol-unit-arm64-testing
Test-Status: PENDING
http://dpdk.org/patch/142685

_Testing pending_

Submitter: Sivaprasad Tummala <Sivaprasad.Tummala@amd.com>
Date: Wednesday, July 24 2024 13:03:36 
DPDK git baseline: Repo:dpdk
  Branch: master
  CommitID:82c47f005b9a0a1e3a649664b7713443d18abe43

142684-142685 --> testing pending

Upstream job id: Generic-Unit-Test-DPDK#244229

Test environment and result as below:

+-----------------------------+----------------+---------------------------+--------------+
|         Environment         | dpdk_unit_test | cryptodev_sw_zuc_autotest | lpm_autotest |
+=============================+================+===========================+==============+
| CentOS Stream 9 (ARM)       | PASS           | SKIPPED                   | SKIPPED      |
+-----------------------------+----------------+---------------------------+--------------+
| Debian 12 (arm)             | PASS           | PEND                      | SKIPPED      |
+-----------------------------+----------------+---------------------------+--------------+
| Fedora 37 (ARM)             | PASS           | SKIPPED                   | SKIPPED      |
+-----------------------------+----------------+---------------------------+--------------+
| Debian 11 (Buster) (ARM)    | PASS           | SKIPPED                   | SKIPPED      |
+-----------------------------+----------------+---------------------------+--------------+
| Fedora 38 (ARM)             | PASS           | SKIPPED                   | SKIPPED      |
+-----------------------------+----------------+---------------------------+--------------+
| Fedora 38 (ARM Clang)       | PEND           | SKIPPED                   | SKIPPED      |
+-----------------------------+----------------+---------------------------+--------------+
| Fedora 39 (ARM Clang)       | PEND           | SKIPPED                   | SKIPPED      |
+-----------------------------+----------------+---------------------------+--------------+
| Fedora 39 (ARM)             | PEND           | SKIPPED                   | SKIPPED      |
+-----------------------------+----------------+---------------------------+--------------+
| Fedora 40 (ARM)             | PEND           | SKIPPED                   | SKIPPED      |
+-----------------------------+----------------+---------------------------+--------------+
| Fedora 40 (ARM Clang)       | PEND           | SKIPPED                   | SKIPPED      |
+-----------------------------+----------------+---------------------------+--------------+
| RHEL9 (ARM)                 | PEND           | SKIPPED                   | SKIPPED      |
+-----------------------------+----------------+---------------------------+--------------+
| Ubuntu 20.04 (ARM)          | PEND           | SKIPPED                   | SKIPPED      |
+-----------------------------+----------------+---------------------------+--------------+
| Ubuntu 24.04 (ARM)          | PEND           | SKIPPED                   | SKIPPED      |
+-----------------------------+----------------+---------------------------+--------------+
| 32-bit Ubuntu 20.04.4 (ARM) | PEND           | SKIPPED                   | SKIPPED      |
+-----------------------------+----------------+---------------------------+--------------+
| Ubuntu 22.04 (ARM)          | PEND           | SKIPPED                   | SKIPPED      |
+-----------------------------+----------------+---------------------------+--------------+
| Ubuntu 20.04 ARM SVE        | SKIPPED        | SKIPPED                   | PEND         |
+-----------------------------+----------------+---------------------------+--------------+


CentOS Stream 9 (ARM)
	Kernel: Container Host Kernel
	Compiler: gcc 11.4.1

Debian 12 (arm)
	Kernel: Container Host Kernel
	Compiler: gcc 12.2.0

Fedora 37 (ARM)
	Kernel: Depends on container host
	Compiler: gcc 12.3.1

Debian 11 (Buster) (ARM)
	Kernel: Container Host Kernel
	Compiler: gcc 10.2.1

Fedora 38 (ARM)
	Kernel: Depends on container host
	Compiler: gcc 13.2.1

Fedora 38 (ARM Clang)
	Kernel: Depends on container host
	Compiler: clang 16.0.6

Fedora 39 (ARM Clang)
	Kernel: Depends on container host
	Compiler: clang 17.0.6

Fedora 39 (ARM)
	Kernel: Depends on container host
	Compiler: gcc 13.2.1

Fedora 40 (ARM)
	Kernel: Depends on container host
	Compiler: gcc 14.1.1

Fedora 40 (ARM Clang)
	Kernel: Depends on container host
	Compiler: clang 18.1.6

RHEL9 (ARM)
	Kernel: Depends on container host
	Compiler: gcc 11.4.1

Ubuntu 20.04 (ARM)
	Kernel: Container Host Kernel
	Compiler: gcc 9.4.0

Ubuntu 24.04 (ARM)
	Kernel: 5.4.0-167-generic
	Compiler: gcc 13.2.0

32-bit Ubuntu 20.04.4 (ARM)
	Kernel: 5.4.0-155-generic aarch64
	Compiler: gcc 9.4

Ubuntu 22.04 (ARM)
	Kernel: Container Host Kernel
	Compiler: gcc 11.4.0

Ubuntu 20.04 ARM SVE
	Kernel: 5.4.0-167-generic
	Compiler: gcc (Ubuntu 10.5.0-1ubuntu1~20.04) 10.5.0

To view detailed results, visit:
https://lab.dpdk.org/results/dashboard/patchsets/30605/

UNH-IOL DPDK Community Lab

To manage your email subscriptions, visit: 
https://lab.dpdk.org/results/dashboard/preferences/subscriptions/