From mboxrd@z Thu Jan  1 00:00:00 1970
Return-Path: <test-report-bounces@dpdk.org>
Received: from mails.dpdk.org (mails.dpdk.org [217.70.189.124])
	by inbox.dpdk.org (Postfix) with ESMTP id E38D5456A2
	for <public@inbox.dpdk.org>; Wed, 24 Jul 2024 21:57:12 +0200 (CEST)
Received: from mails.dpdk.org (localhost [127.0.0.1])
	by mails.dpdk.org (Postfix) with ESMTP id DE4F742EF2;
	Wed, 24 Jul 2024 21:57:12 +0200 (CEST)
Received: from mail-oo1-f98.google.com (mail-oo1-f98.google.com
 [209.85.161.98]) by mails.dpdk.org (Postfix) with ESMTP id DA05A402D0
 for <test-report@dpdk.org>; Wed, 24 Jul 2024 21:57:10 +0200 (CEST)
Received: by mail-oo1-f98.google.com with SMTP id
 006d021491bc7-5c66909738fso619301eaf.1
 for <test-report@dpdk.org>; Wed, 24 Jul 2024 12:57:10 -0700 (PDT)
DKIM-Signature: v=1; a=rsa-sha256; c=relaxed/relaxed;
 d=iol.unh.edu; s=unh-iol; t=1721851030; x=1722455830; darn=dpdk.org;
 h=references:in-reply-to:cc:to:from:subject:message-id:date:from:to
 :cc:subject:date:message-id:reply-to;
 bh=ztwce5Z/J1j2ohSx3bIdil7w03esfhSPIMTd42qpXKg=;
 b=FxB6rvHB8nXg/1zRCIf2ZBPbQFGSBvqpvMeQSxMeLJynKogFY1+4wI/BU34pLS6qRZ
 1devBdBCY/ZWNmr8fw1fay38J2+v4cfzhvyns5li/VP1LKmOEIw0ckOP6WKIv8d64zI9
 vWB0N+tN8FhHTSYztRclOlkHt7gAIJ4hVeUpk=
X-Google-DKIM-Signature: v=1; a=rsa-sha256; c=relaxed/relaxed;
 d=1e100.net; s=20230601; t=1721851030; x=1722455830;
 h=references:in-reply-to:cc:to:from:subject:message-id:date
 :x-gm-message-state:from:to:cc:subject:date:message-id:reply-to;
 bh=ztwce5Z/J1j2ohSx3bIdil7w03esfhSPIMTd42qpXKg=;
 b=LKDkvLKkCMGbdYxdNNe+N+E9alhCKa1hkSbY+BDJSKfEaB+nqWCX8Jto/XJIwH8U7K
 3ZwbHAUzwyInTyzZuxyjuXF8Blz7SOvEJZ92Djaqb3db/0kGeapuLUExbdNVHHDJcGEW
 e19fxJX9sJvXANNxGlkxwaPX5NT3RRwuFzD0RjVUKYKmg4c/TOv6qXlr8ynL5FIH2I+U
 VjsQL4jMorzxtIMCjy55SE0w72mdMLN0fw/PhirCLs3UU4FzILYlieMnS8igABu6O3Q6
 w2hRbVuX9bR51yvAEml/0vED5gOH2a17FmxytQWrr3vnUaUGO4ox2sd4zntvDehBmRkr
 OPOA==
X-Gm-Message-State: AOJu0YwfRcpKS2yr5XS3onoPPmvktIY0Qea8s0zsLO4dss2J1vJReJCk
 PDN7PBcWGEayXdnNCDnB7uz5kgf6yJxjJG9zyskpfpxLNuRsoHXYX0XSjkr/3Lf/w0J3/NP89ng
 /Je8Z/t6uVIoUSDP73Evg1O6rGyYkTjFn+RG+ouwiTHue4q+NXBGl3+gc
X-Google-Smtp-Source: AGHT+IHdLsrPPvbAaUZXxPXB79hj3TVhRSambMLXc03s8SiyqTliMn7trK5r/S7EspbTcr7OeXHT3SD+XY6/
X-Received: by 2002:a05:6870:32d3:b0:260:23eb:a198 with SMTP id
 586e51a60fabf-2649f911361mr390501fac.0.1721851029896; 
 Wed, 24 Jul 2024 12:57:09 -0700 (PDT)
Received: from postal.iol.unh.edu (postal.iol.unh.edu.
 [2606:4100:3880:1234::84]) by smtp-relay.gmail.com with ESMTPS id
 586e51a60fabf-2653e449f8dsm5153fac.12.2024.07.24.12.57.09
 (version=TLS1_2 cipher=ECDHE-ECDSA-AES128-GCM-SHA256 bits=128/128);
 Wed, 24 Jul 2024 12:57:09 -0700 (PDT)
X-Relaying-Domain: iol.unh.edu
Date: Wed, 24 Jul 2024 12:57:09 -0700 (PDT)
Message-ID: <66a15c95.050a0220.2b6c12.02eaSMTPIN_ADDED_MISSING@mx.google.com>
Received: from [172.21.0.8] (unknown [172.18.0.240])
 by postal.iol.unh.edu (Postfix) with ESMTP id 606E0605C352;
 Wed, 24 Jul 2024 15:57:09 -0400 (EDT)
Subject: |PENDING| pw142684-142685 [PATCH] [RFC,2/2] test/power: fix power li
From: dpdklab@iol.unh.edu
To: Test Report <test-report@dpdk.org>
Cc: dpdk-test-reports@iol.unh.edu
In-Reply-To: <20240724130336.1076462-2-sivaprasad.tummala@amd.com>
References: <20240724130336.1076462-2-sivaprasad.tummala@amd.com>
Content-Type: text/plain
X-BeenThere: test-report@dpdk.org
X-Mailman-Version: 2.1.29
Precedence: list
List-Id: automatic DPDK test reports <test-report.dpdk.org>
List-Unsubscribe: <https://mails.dpdk.org/options/test-report>,
 <mailto:test-report-request@dpdk.org?subject=unsubscribe>
List-Archive: <http://mails.dpdk.org/archives/test-report/>
List-Post: <mailto:test-report@dpdk.org>
List-Help: <mailto:test-report-request@dpdk.org?subject=help>
List-Subscribe: <https://mails.dpdk.org/listinfo/test-report>,
 <mailto:test-report-request@dpdk.org?subject=subscribe>
Errors-To: test-report-bounces@dpdk.org

Test-Label: iol-unit-amd64-testing
Test-Status: PENDING
http://dpdk.org/patch/142685

_Testing pending_

Submitter: Sivaprasad Tummala <Sivaprasad.Tummala@amd.com>
Date: Wednesday, July 24 2024 13:03:36 
DPDK git baseline: Repo:dpdk
  Branch: master
  CommitID:82c47f005b9a0a1e3a649664b7713443d18abe43

142684-142685 --> testing pending

Upstream job id: Generic-Unit-Test-DPDK#244234

Test environment and result as below:

+---------------------+----------------+
|     Environment     | dpdk_unit_test |
+=====================+================+
| CentOS Stream 8     | PASS           |
+---------------------+----------------+
| Windows Server 2022 | PASS           |
+---------------------+----------------+
| Debian Bullseye     | PASS           |
+---------------------+----------------+
| Windows Server 2019 | PASS           |
+---------------------+----------------+
| CentOS Stream 9     | PASS           |
+---------------------+----------------+
| Fedora 37           | PASS           |
+---------------------+----------------+
| Debian 12           | PASS           |
+---------------------+----------------+
| Fedora 38 (Clang)   | PEND           |
+---------------------+----------------+
| Fedora 38           | PASS           |
+---------------------+----------------+
| Fedora 39           | PASS           |
+---------------------+----------------+
| Fedora 39 (Clang)   | PEND           |
+---------------------+----------------+
| Fedora 40           | PASS           |
+---------------------+----------------+
| RHEL9               | PEND           |
+---------------------+----------------+
| openSUSE Leap 15    | PEND           |
+---------------------+----------------+
| Fedora 40 (Clang)   | PEND           |
+---------------------+----------------+
| RHEL8               | PEND           |
+---------------------+----------------+
| Ubuntu 20.04        | PEND           |
+---------------------+----------------+
| Ubuntu 22.04        | PEND           |
+---------------------+----------------+
| Ubuntu 24.04        | PEND           |
+---------------------+----------------+


CentOS Stream 8
	Kernel: 5.4.0-167-generic
	Compiler: gcc 8.5.0 20210514

Windows Server 2022
	Kernel: 10.0.20348.2031
	Compiler: clang 15.0.7, gcc 8.1.0 (MinGW), and MSVC VS 17.9

Debian Bullseye
	Kernel: 5.4.0-167-generic
	Compiler: gcc 10.2.1-6

Windows Server 2019
	Kernel: 10.0.17763
	Compiler: clang 14.0 and gcc 8.1.0 (MinGW)

CentOS Stream 9
	Kernel: 5.4.0-167-generic
	Compiler: gcc 11.4.1 20230605

Fedora 37
	Kernel: Depends on container host system
	Compiler: gcc 12.3.1

Debian 12
	Kernel: Container Host Kernel
	Compiler: gcc 12.2.0

Fedora 38 (Clang)
	Kernel: Depends on container host
	Compiler: clang 16.0.6

Fedora 38
	Kernel: Depends on container host
	Compiler: gcc 13.2.1

Fedora 39
	Kernel: Depends on container host
	Compiler: gcc 13.2.1

Fedora 39 (Clang)
	Kernel: Depends on container host
	Compiler: clang 17.0.6

Fedora 40
	Kernel: Depends on container host
	Compiler: gcc 14.1.1

RHEL9
	Kernel: Depends on container host
	Compiler: gcc 11.4.1

openSUSE Leap 15
	Kernel: 5.4.0-167-generic
	Compiler: gcc 7.5.0

Fedora 40 (Clang)
	Kernel: Depends on container host
	Compiler: clang 18.1.6

RHEL8
	Kernel: 5.4.0-167-generic
	Compiler: gcc 8.5.0 20210514 (Red Hat 8.5.0-20)

Ubuntu 20.04
	Kernel: 5.4.0-167-generic
	Compiler: gcc 9.4.0-1ubuntu1~20.04.1

Ubuntu 22.04
	Kernel: 5.4.0-167-generic
	Compiler: gcc 11.4.0

Ubuntu 24.04
	Kernel: 5.4.0-167-generic
	Compiler: gcc 13.2.0

To view detailed results, visit:
https://lab.dpdk.org/results/dashboard/patchsets/30605/

UNH-IOL DPDK Community Lab

To manage your email subscriptions, visit: 
https://lab.dpdk.org/results/dashboard/preferences/subscriptions/