From mboxrd@z Thu Jan  1 00:00:00 1970
Return-Path: <test-report-bounces@dpdk.org>
Received: from mails.dpdk.org (mails.dpdk.org [217.70.189.124])
	by inbox.dpdk.org (Postfix) with ESMTP id 65AB0456A5
	for <public@inbox.dpdk.org>; Wed, 24 Jul 2024 22:37:52 +0200 (CEST)
Received: from mails.dpdk.org (localhost [127.0.0.1])
	by mails.dpdk.org (Postfix) with ESMTP id 62252427AC;
	Wed, 24 Jul 2024 22:37:52 +0200 (CEST)
Received: from mail-yw1-f228.google.com (mail-yw1-f228.google.com
 [209.85.128.228])
 by mails.dpdk.org (Postfix) with ESMTP id A5003402D0
 for <test-report@dpdk.org>; Wed, 24 Jul 2024 22:37:37 +0200 (CEST)
Received: by mail-yw1-f228.google.com with SMTP id
 00721157ae682-6512866fa87so2057227b3.2
 for <test-report@dpdk.org>; Wed, 24 Jul 2024 13:37:37 -0700 (PDT)
DKIM-Signature: v=1; a=rsa-sha256; c=relaxed/relaxed;
 d=iol.unh.edu; s=unh-iol; t=1721853457; x=1722458257; darn=dpdk.org;
 h=references:in-reply-to:cc:to:from:subject:message-id:date:from:to
 :cc:subject:date:message-id:reply-to;
 bh=gNTlvJWIgaITeq7RHmeAOW37mtUCXG3M3n4X78Ov1ww=;
 b=OwbQV2f62pYrB3Hbcd8Kh0CzuXPSP6jLQ9q6jJPj0cCCSNb42P8MG7WWXRhldNVpat
 VB16QoufeJb9+QpFQbC7ujH8AipwYr0r4EEVXaG2XvPQ9Oi/zNuBeegp+4ZPuzP8BmQy
 OlQhVo2ob3z/GsJtZQIfV1VoJi8eETApjJiR0=
X-Google-DKIM-Signature: v=1; a=rsa-sha256; c=relaxed/relaxed;
 d=1e100.net; s=20230601; t=1721853457; x=1722458257;
 h=references:in-reply-to:cc:to:from:subject:message-id:date
 :x-gm-message-state:from:to:cc:subject:date:message-id:reply-to;
 bh=gNTlvJWIgaITeq7RHmeAOW37mtUCXG3M3n4X78Ov1ww=;
 b=OjmFkeqvuFwmdgSgwvP7aAfkHXiB6Z6I4cxWJVy0cOmHHVvCzQsO4Usq3xc71cjDfg
 3ejvoTZ6RYfwfH15hxGshByOGYQDyVVmTxV+0RTANC9ya6yxECaARs4yf9u9kPM52vg1
 RC4lrkHPhaDVIHeAsNSDZUoXPcVOBioJVM+psIQgUhjSRdPlorpy2zFxL0LauNfJVgSZ
 DjRrK9+pBZz14UX6Y9RUpgcRCTwBuJ+Z73H3wRiYinNVzYR/8o4ObqIBHo2s/EioaPx4
 RLTL9mkXhr4r4n33JlrBhm7mYVNfh1gmGRPlvItBJPx5muXJu2UdBjef/3qlanh9BrRp
 Cw5w==
X-Gm-Message-State: AOJu0YxB4kRSIHDtNuMSxlfjMkcXV0MvYsSMUT6K9d6yzNbunoKu6PCw
 Z8Fe+ZbNBHkeJ4X6h4KFP9kt4WvaX6ouE5sRUaRCEWuTf/fUDymYfnwKi2MPYxCKqZp7e2THnHk
 dWCbunfD9+E76TRHPGCghUdhBa9vrG46wEHjo/r9BlfqVuQ4qJDB2lz2E
X-Google-Smtp-Source: AGHT+IH1TVpt8LmvPpo7NUjUmwmO6bRsvvv1igvK/yCB/EFE9ExIUcNCiijRw7C9Jb1GirtLsNIXnjMUVFyQ
X-Received: by 2002:a05:690c:6d0e:b0:61d:fcf7:3377 with SMTP id
 00721157ae682-675157de069mr7775057b3.44.1721853456962; 
 Wed, 24 Jul 2024 13:37:36 -0700 (PDT)
Received: from postal.iol.unh.edu (postal.iol.unh.edu.
 [2606:4100:3880:1234::84]) by smtp-relay.gmail.com with ESMTPS id
 00721157ae682-675685dd31esm29847b3.42.2024.07.24.13.37.36
 (version=TLS1_2 cipher=ECDHE-ECDSA-AES128-GCM-SHA256 bits=128/128);
 Wed, 24 Jul 2024 13:37:36 -0700 (PDT)
X-Relaying-Domain: iol.unh.edu
Date: Wed, 24 Jul 2024 13:37:36 -0700 (PDT)
Message-ID: <66a16610.810a0220.38a42c.0154SMTPIN_ADDED_MISSING@mx.google.com>
Received: from [172.21.0.8] (unknown [172.18.0.240])
 by postal.iol.unh.edu (Postfix) with ESMTP id A5433605C351;
 Wed, 24 Jul 2024 16:37:36 -0400 (EDT)
Subject: |PENDING| pw142688-142690 [PATCH] [v5,3/3] dts: Improve logging for 
From: dpdklab@iol.unh.edu
To: Test Report <test-report@dpdk.org>
Cc: dpdk-test-reports@iol.unh.edu
In-Reply-To: <20240724140838.171012-4-jspewock@iol.unh.edu>
References: <20240724140838.171012-4-jspewock@iol.unh.edu>
Content-Type: text/plain
X-BeenThere: test-report@dpdk.org
X-Mailman-Version: 2.1.29
Precedence: list
List-Id: automatic DPDK test reports <test-report.dpdk.org>
List-Unsubscribe: <https://mails.dpdk.org/options/test-report>,
 <mailto:test-report-request@dpdk.org?subject=unsubscribe>
List-Archive: <http://mails.dpdk.org/archives/test-report/>
List-Post: <mailto:test-report@dpdk.org>
List-Help: <mailto:test-report-request@dpdk.org?subject=help>
List-Subscribe: <https://mails.dpdk.org/listinfo/test-report>,
 <mailto:test-report-request@dpdk.org?subject=subscribe>
Errors-To: test-report-bounces@dpdk.org

Test-Label: iol-abi-testing
Test-Status: PENDING
http://dpdk.org/patch/142690

_Testing pending_

Submitter: Jeremy Spewock <jspewock@iol.unh.edu>
Date: Wednesday, July 24 2024 14:08:38 
DPDK git baseline: Repo:dpdk
  Branch: master
  CommitID:82c47f005b9a0a1e3a649664b7713443d18abe43

142688-142690 --> testing pending

Upstream job id: Generic-DPDK-Compile-ABI#100261

Test environment and result as below:

+-------------------+----------+
|    Environment    | abi_test |
+===================+==========+
| CentOS Stream 8   | PASS     |
+-------------------+----------+
| Debian Bullseye   | PASS     |
+-------------------+----------+
| CentOS Stream 9   | PASS     |
+-------------------+----------+
| Debian 12         | PASS     |
+-------------------+----------+
| Fedora 38 (Clang) | PASS     |
+-------------------+----------+
| Fedora 37         | PASS     |
+-------------------+----------+
| Fedora 39 (Clang) | PASS     |
+-------------------+----------+
| Fedora 38         | PASS     |
+-------------------+----------+
| Fedora 39         | PASS     |
+-------------------+----------+
| Fedora 40 (Clang) | PASS     |
+-------------------+----------+
| Fedora 40         | PEND     |
+-------------------+----------+
| openSUSE Leap 15  | PASS     |
+-------------------+----------+
| RHEL8             | PEND     |
+-------------------+----------+
| RHEL9             | PEND     |
+-------------------+----------+
| Ubuntu 22.04      | PEND     |
+-------------------+----------+
| Ubuntu 24.04      | PEND     |
+-------------------+----------+


CentOS Stream 8
	Kernel: 5.4.0-167-generic
	Compiler: gcc 8.5.0 20210514

Debian Bullseye
	Kernel: 5.4.0-167-generic
	Compiler: gcc 10.2.1-6

CentOS Stream 9
	Kernel: 5.4.0-167-generic
	Compiler: gcc 11.4.1 20230605

Debian 12
	Kernel: Container Host Kernel
	Compiler: gcc 12.2.0

Fedora 38 (Clang)
	Kernel: Depends on container host
	Compiler: clang 16.0.6

Fedora 37
	Kernel: Depends on container host system
	Compiler: gcc 12.3.1

Fedora 39 (Clang)
	Kernel: Depends on container host
	Compiler: clang 17.0.6

Fedora 38
	Kernel: Depends on container host
	Compiler: gcc 13.2.1

Fedora 39
	Kernel: Depends on container host
	Compiler: gcc 13.2.1

Fedora 40 (Clang)
	Kernel: Depends on container host
	Compiler: clang 18.1.6

Fedora 40
	Kernel: Depends on container host
	Compiler: gcc 14.1.1

openSUSE Leap 15
	Kernel: 5.4.0-167-generic
	Compiler: gcc 7.5.0

RHEL8
	Kernel: 5.4.0-167-generic
	Compiler: gcc 8.5.0 20210514 (Red Hat 8.5.0-20)

RHEL9
	Kernel: Depends on container host
	Compiler: gcc 11.4.1

Ubuntu 22.04
	Kernel: 5.4.0-167-generic
	Compiler: gcc 11.4.0

Ubuntu 24.04
	Kernel: 5.4.0-167-generic
	Compiler: gcc 13.2.0

To view detailed results, visit:
https://lab.dpdk.org/results/dashboard/patchsets/30608/

UNH-IOL DPDK Community Lab

To manage your email subscriptions, visit: 
https://lab.dpdk.org/results/dashboard/preferences/subscriptions/