From mboxrd@z Thu Jan  1 00:00:00 1970
Return-Path: <test-report-bounces@dpdk.org>
Received: from mails.dpdk.org (mails.dpdk.org [217.70.189.124])
	by inbox.dpdk.org (Postfix) with ESMTP id 41D62456A5
	for <public@inbox.dpdk.org>; Wed, 24 Jul 2024 22:48:19 +0200 (CEST)
Received: from mails.dpdk.org (localhost [127.0.0.1])
	by mails.dpdk.org (Postfix) with ESMTP id 3DF68427AC;
	Wed, 24 Jul 2024 22:48:19 +0200 (CEST)
Received: from mail-yw1-f225.google.com (mail-yw1-f225.google.com
 [209.85.128.225])
 by mails.dpdk.org (Postfix) with ESMTP id CBEA0402D0
 for <test-report@dpdk.org>; Wed, 24 Jul 2024 22:48:17 +0200 (CEST)
Received: by mail-yw1-f225.google.com with SMTP id
 00721157ae682-6519528f44fso2178217b3.1
 for <test-report@dpdk.org>; Wed, 24 Jul 2024 13:48:17 -0700 (PDT)
DKIM-Signature: v=1; a=rsa-sha256; c=relaxed/relaxed;
 d=iol.unh.edu; s=unh-iol; t=1721854097; x=1722458897; darn=dpdk.org;
 h=references:in-reply-to:cc:to:from:subject:message-id:date:from:to
 :cc:subject:date:message-id:reply-to;
 bh=iyj3ho+FpPeDJP1pxK13vy6Ra8t0F3vdpXf5FtQz0Eg=;
 b=O4/7OstkldEZ4itzzXfY/Qs6CI7cBE/YhBy8/VIvZkfJ638khpAArBZEaSoGf966MQ
 nKO9qmmdiJ54XqNAxSedrPkmoV2FgStKcdaKSX4FFYOlrtxt7hfYpfDYARZZxPRln2VE
 3PbY+a8y3Y0wX2+bzm3BGhOluEaS2KXiQsW5A=
X-Google-DKIM-Signature: v=1; a=rsa-sha256; c=relaxed/relaxed;
 d=1e100.net; s=20230601; t=1721854097; x=1722458897;
 h=references:in-reply-to:cc:to:from:subject:message-id:date
 :x-gm-message-state:from:to:cc:subject:date:message-id:reply-to;
 bh=iyj3ho+FpPeDJP1pxK13vy6Ra8t0F3vdpXf5FtQz0Eg=;
 b=TEnTTOaCb8hv/JzSyr6ZRXxeMe/bM3GtlGETiNoAzFltH66RyYtJ5K8CjEc+pac7+g
 M3pUgbAhlQpvGnCBlB8jKmQ7/meCAHVF7loN6EZfdMmnhgC7LZpq8cPTJ106VzF6G2+T
 uQKJyUY5PdkWqp6CtdNAmadfH2535cI+U/zzi4Yxx0GiWj63Cp/hptPU9kxJHcpcgeRF
 OZyHB2xSdLgBRC8dQFFiwYj/fQoqqTOsqrzb6dycRz4KZiFAO2ktapOlhfuPyBppzm+Z
 8OgicZkBoj90XfF4FPCbeRo2Z26fVNU+Vnx13WXdyn4oX0E915v5dGa8cdGq0CyJkgTk
 /kPA==
X-Gm-Message-State: AOJu0YxtZbEyKdESdiIFPHNbL1/XPCI+92nw9/I/lucS8KYL6MgpgGc/
 rZTLKAS0uzF1VU07doVqGDp7pyyASu/dGq3K7ncJ6VUoVpVQzS6lmVxKBy4EbGbLfxzu3AmMqIL
 IJC1obxuXC8kHjJON3CO0EDaRJoc8e9I5NtDBWhvv
X-Google-Smtp-Source: AGHT+IHmcDIDRl9I6ioiKEtg/ZztIr6UR2ApNAw2BX1ODAc7T5xKx/pEu3/i62CsqKjbdB/GRd92C4r6FX2+
X-Received: by 2002:a0d:e487:0:b0:64a:4728:ef1 with SMTP id
 00721157ae682-675155f2a44mr8492807b3.39.1721854097125; 
 Wed, 24 Jul 2024 13:48:17 -0700 (PDT)
Received: from postal.iol.unh.edu (postal.iol.unh.edu. [132.177.123.84])
 by smtp-relay.gmail.com with ESMTPS id
 00721157ae682-6756b7cfbb3sm55157b3.68.2024.07.24.13.48.17
 (version=TLS1_2 cipher=ECDHE-ECDSA-AES128-GCM-SHA256 bits=128/128);
 Wed, 24 Jul 2024 13:48:17 -0700 (PDT)
X-Relaying-Domain: iol.unh.edu
Date: Wed, 24 Jul 2024 13:48:17 -0700 (PDT)
Message-ID: <66a16891.0d0a0220.13faac.0384SMTPIN_ADDED_MISSING@mx.google.com>
Received: from [172.21.0.7] (unknown [172.18.0.240])
 by postal.iol.unh.edu (Postfix) with ESMTP id 7D6E6605C351;
 Wed, 24 Jul 2024 16:48:16 -0400 (EDT)
Subject: |PENDING| pw142688-142690 [PATCH] [v5,3/3] dts: Improve logging for 
From: dpdklab@iol.unh.edu
To: Test Report <test-report@dpdk.org>
Cc: dpdk-test-reports@iol.unh.edu
In-Reply-To: <20240724140838.171012-4-jspewock@iol.unh.edu>
References: <20240724140838.171012-4-jspewock@iol.unh.edu>
Content-Type: text/plain
X-BeenThere: test-report@dpdk.org
X-Mailman-Version: 2.1.29
Precedence: list
List-Id: automatic DPDK test reports <test-report.dpdk.org>
List-Unsubscribe: <https://mails.dpdk.org/options/test-report>,
 <mailto:test-report-request@dpdk.org?subject=unsubscribe>
List-Archive: <http://mails.dpdk.org/archives/test-report/>
List-Post: <mailto:test-report@dpdk.org>
List-Help: <mailto:test-report-request@dpdk.org?subject=help>
List-Subscribe: <https://mails.dpdk.org/listinfo/test-report>,
 <mailto:test-report-request@dpdk.org?subject=subscribe>
Errors-To: test-report-bounces@dpdk.org

Test-Label: iol-abi-testing
Test-Status: PENDING
http://dpdk.org/patch/142690

_Testing pending_

Submitter: Jeremy Spewock <jspewock@iol.unh.edu>
Date: Wednesday, July 24 2024 14:08:38 
DPDK git baseline: Repo:dpdk
  Branch: master
  CommitID:82c47f005b9a0a1e3a649664b7713443d18abe43

142688-142690 --> testing pending

Upstream job id: Generic-DPDK-Compile-ABI#100263

Test environment and result as below:

+-------------------+----------+
|    Environment    | abi_test |
+===================+==========+
| CentOS Stream 8   | PASS     |
+-------------------+----------+
| Debian Bullseye   | PASS     |
+-------------------+----------+
| CentOS Stream 9   | PASS     |
+-------------------+----------+
| Debian 12         | PASS     |
+-------------------+----------+
| Fedora 38 (Clang) | PASS     |
+-------------------+----------+
| Fedora 37         | PASS     |
+-------------------+----------+
| Fedora 39 (Clang) | PASS     |
+-------------------+----------+
| Fedora 38         | PASS     |
+-------------------+----------+
| Fedora 39         | PASS     |
+-------------------+----------+
| Fedora 40 (Clang) | PASS     |
+-------------------+----------+
| Fedora 40         | PASS     |
+-------------------+----------+
| openSUSE Leap 15  | PASS     |
+-------------------+----------+
| RHEL8             | PASS     |
+-------------------+----------+
| RHEL9             | PASS     |
+-------------------+----------+
| Ubuntu 22.04      | PASS     |
+-------------------+----------+
| Ubuntu 24.04      | PEND     |
+-------------------+----------+


CentOS Stream 8
	Kernel: 5.4.0-167-generic
	Compiler: gcc 8.5.0 20210514

Debian Bullseye
	Kernel: 5.4.0-167-generic
	Compiler: gcc 10.2.1-6

CentOS Stream 9
	Kernel: 5.4.0-167-generic
	Compiler: gcc 11.4.1 20230605

Debian 12
	Kernel: Container Host Kernel
	Compiler: gcc 12.2.0

Fedora 38 (Clang)
	Kernel: Depends on container host
	Compiler: clang 16.0.6

Fedora 37
	Kernel: Depends on container host system
	Compiler: gcc 12.3.1

Fedora 39 (Clang)
	Kernel: Depends on container host
	Compiler: clang 17.0.6

Fedora 38
	Kernel: Depends on container host
	Compiler: gcc 13.2.1

Fedora 39
	Kernel: Depends on container host
	Compiler: gcc 13.2.1

Fedora 40 (Clang)
	Kernel: Depends on container host
	Compiler: clang 18.1.6

Fedora 40
	Kernel: Depends on container host
	Compiler: gcc 14.1.1

openSUSE Leap 15
	Kernel: 5.4.0-167-generic
	Compiler: gcc 7.5.0

RHEL8
	Kernel: 5.4.0-167-generic
	Compiler: gcc 8.5.0 20210514 (Red Hat 8.5.0-20)

RHEL9
	Kernel: Depends on container host
	Compiler: gcc 11.4.1

Ubuntu 22.04
	Kernel: 5.4.0-167-generic
	Compiler: gcc 11.4.0

Ubuntu 24.04
	Kernel: 5.4.0-167-generic
	Compiler: gcc 13.2.0

To view detailed results, visit:
https://lab.dpdk.org/results/dashboard/patchsets/30608/

UNH-IOL DPDK Community Lab

To manage your email subscriptions, visit: 
https://lab.dpdk.org/results/dashboard/preferences/subscriptions/