From mboxrd@z Thu Jan  1 00:00:00 1970
Return-Path: <test-report-bounces@dpdk.org>
Received: from mails.dpdk.org (mails.dpdk.org [217.70.189.124])
	by inbox.dpdk.org (Postfix) with ESMTP id 4277C456A5
	for <public@inbox.dpdk.org>; Wed, 24 Jul 2024 22:55:03 +0200 (CEST)
Received: from mails.dpdk.org (localhost [127.0.0.1])
	by mails.dpdk.org (Postfix) with ESMTP id 3D7EB427AC;
	Wed, 24 Jul 2024 22:55:03 +0200 (CEST)
Received: from mail-io1-f98.google.com (mail-io1-f98.google.com
 [209.85.166.98]) by mails.dpdk.org (Postfix) with ESMTP id 50260402D0
 for <test-report@dpdk.org>; Wed, 24 Jul 2024 22:55:02 +0200 (CEST)
Received: by mail-io1-f98.google.com with SMTP id
 ca18e2360f4ac-8036ce660e5so9796539f.1
 for <test-report@dpdk.org>; Wed, 24 Jul 2024 13:55:02 -0700 (PDT)
DKIM-Signature: v=1; a=rsa-sha256; c=relaxed/relaxed;
 d=iol.unh.edu; s=unh-iol; t=1721854501; x=1722459301; darn=dpdk.org;
 h=references:in-reply-to:cc:to:from:subject:message-id:date:from:to
 :cc:subject:date:message-id:reply-to;
 bh=Tvzu6Nsui0yhmywhFKEOjt5mEFKsKO/9gozqkchre1k=;
 b=DmKK45ZuwEx8zuJ/HircU8HxsFj5q+6AqchciU55qY7B3UQjQ/99dwVNfYbL6VdW35
 5GBgj65/VIyktv1l9IGZInnEMlmWXGdUB7IiUBegXuGclv/O1nuE/dfvmuTWMHhkHgIN
 AaJsNZGOYnyIj2LyrWTrC5KG5uFA8gmxTL1/w=
X-Google-DKIM-Signature: v=1; a=rsa-sha256; c=relaxed/relaxed;
 d=1e100.net; s=20230601; t=1721854501; x=1722459301;
 h=references:in-reply-to:cc:to:from:subject:message-id:date
 :x-gm-message-state:from:to:cc:subject:date:message-id:reply-to;
 bh=Tvzu6Nsui0yhmywhFKEOjt5mEFKsKO/9gozqkchre1k=;
 b=H3SWqZb0zMBQhxgOQ+tbrRSZjha6QV5OCSSzlDzKlvSYaYoaaeSMjPk813g/T7YUuP
 LlkyZRbtUrvug6skSi8XUNnWlj0prLDN37Rw1E0pyvz1ohvhU5MUeelTcvSoRLAAYm6R
 omJaASmidRxF/TFSbWpnva5NanUJuKFByBI/hYRACLz05hj2Na12PjqfkQGash6ARMbF
 6vz4L4xvTIhon3T+j8DHTPXOxmVMA1nfFxvBkcJNIeXIJ1i3XZVgrKKk/eL38RCkHa2s
 Ln1gnhfacLL4QXzI5oR3NLWzmlxKKLSQDkNpqlIrYv4FAnxCl5W2p8E79ov2mtTpaNU6
 Yy0w==
X-Gm-Message-State: AOJu0YyL33h5T8J1V95sOxTsJuwXuSRM24WQjUnO1S1aEEoIU/noUDWE
 BCrfqKECw5YZml+VrPmu/wj1/LP43UyrXLMK7ZZZUepVdZ1BLPKsGv9VA9DeZBYDQbKEsCvdoRj
 SxNCIZSczxiVI9LTwCQrwwk124bYx8u7BjGhvVYl8tY9VcKWb6yMdpIeJ
X-Google-Smtp-Source: AGHT+IGIhVOEx/OMOmQ8rCXIuxgnR8gJqIb0cYBSj7YLsQN7jOU8KOkmMdz0ONwi2i5CkRD1VWQL/1xB5lHj
X-Received: by 2002:a05:6602:3423:b0:7f6:84e7:bd35 with SMTP id
 ca18e2360f4ac-81f7bd57df2mr153358739f.8.1721854501456; 
 Wed, 24 Jul 2024 13:55:01 -0700 (PDT)
Received: from postal.iol.unh.edu (postal.iol.unh.edu.
 [2606:4100:3880:1234::84]) by smtp-relay.gmail.com with ESMTPS id
 8926c6da1cb9f-4c28c71635esm74948173.12.2024.07.24.13.55.01
 (version=TLS1_2 cipher=ECDHE-ECDSA-AES128-GCM-SHA256 bits=128/128);
 Wed, 24 Jul 2024 13:55:01 -0700 (PDT)
X-Relaying-Domain: iol.unh.edu
Date: Wed, 24 Jul 2024 13:55:01 -0700 (PDT)
Message-ID: <66a16a25.050a0220.2d70e5.4e00SMTPIN_ADDED_MISSING@mx.google.com>
Received: from [172.21.0.9] (unknown [172.18.0.240])
 by postal.iol.unh.edu (Postfix) with ESMTP id CC3FF605C351;
 Wed, 24 Jul 2024 16:55:00 -0400 (EDT)
Subject: |PENDING| pw142687 [PATCH] net/gve: Fix TX/RX queue setup and stop
From: dpdklab@iol.unh.edu
To: Test Report <test-report@dpdk.org>
Cc: dpdk-test-reports@iol.unh.edu
In-Reply-To: <1721828129-2393364-1-git-send-email-tathagat.dpdk@gmail.com>
References: <1721828129-2393364-1-git-send-email-tathagat.dpdk@gmail.com>
Content-Type: text/plain
X-BeenThere: test-report@dpdk.org
X-Mailman-Version: 2.1.29
Precedence: list
List-Id: automatic DPDK test reports <test-report.dpdk.org>
List-Unsubscribe: <https://mails.dpdk.org/options/test-report>,
 <mailto:test-report-request@dpdk.org?subject=unsubscribe>
List-Archive: <http://mails.dpdk.org/archives/test-report/>
List-Post: <mailto:test-report@dpdk.org>
List-Help: <mailto:test-report-request@dpdk.org?subject=help>
List-Subscribe: <https://mails.dpdk.org/listinfo/test-report>,
 <mailto:test-report-request@dpdk.org?subject=subscribe>
Errors-To: test-report-bounces@dpdk.org

Test-Label: iol-abi-testing
Test-Status: PENDING
http://dpdk.org/patch/142687

_Testing pending_

Submitter: Tathagat Priyadarshi <tathagat.dpdk@gmail.com>
Date: Wednesday, July 24 2024 13:35:29 
DPDK git baseline: Repo:dpdk
  Branch: master
  CommitID:82c47f005b9a0a1e3a649664b7713443d18abe43

142687 --> testing pending

Upstream job id: Generic-DPDK-Compile-ABI#100282

Test environment and result as below:

+-------------------+----------+
|    Environment    | abi_test |
+===================+==========+
| CentOS Stream 9   | PASS     |
+-------------------+----------+
| CentOS Stream 8   | PASS     |
+-------------------+----------+
| Debian Bullseye   | PASS     |
+-------------------+----------+
| Debian 12         | PEND     |
+-------------------+----------+
| Fedora 37         | PEND     |
+-------------------+----------+
| Fedora 38 (Clang) | PEND     |
+-------------------+----------+
| Fedora 39 (Clang) | PEND     |
+-------------------+----------+
| Fedora 40 (Clang) | PEND     |
+-------------------+----------+
| Fedora 39         | PASS     |
+-------------------+----------+
| Fedora 38         | PEND     |
+-------------------+----------+
| RHEL9             | PASS     |
+-------------------+----------+
| openSUSE Leap 15  | PEND     |
+-------------------+----------+
| Fedora 40         | PEND     |
+-------------------+----------+
| Ubuntu 24.04      | PEND     |
+-------------------+----------+
| Ubuntu 22.04      | PEND     |
+-------------------+----------+
| RHEL8             | PEND     |
+-------------------+----------+


CentOS Stream 9
	Kernel: 5.4.0-167-generic
	Compiler: gcc 11.4.1 20230605

CentOS Stream 8
	Kernel: 5.4.0-167-generic
	Compiler: gcc 8.5.0 20210514

Debian Bullseye
	Kernel: 5.4.0-167-generic
	Compiler: gcc 10.2.1-6

Debian 12
	Kernel: Container Host Kernel
	Compiler: gcc 12.2.0

Fedora 37
	Kernel: Depends on container host system
	Compiler: gcc 12.3.1

Fedora 38 (Clang)
	Kernel: Depends on container host
	Compiler: clang 16.0.6

Fedora 39 (Clang)
	Kernel: Depends on container host
	Compiler: clang 17.0.6

Fedora 40 (Clang)
	Kernel: Depends on container host
	Compiler: clang 18.1.6

Fedora 39
	Kernel: Depends on container host
	Compiler: gcc 13.2.1

Fedora 38
	Kernel: Depends on container host
	Compiler: gcc 13.2.1

RHEL9
	Kernel: Depends on container host
	Compiler: gcc 11.4.1

openSUSE Leap 15
	Kernel: 5.4.0-167-generic
	Compiler: gcc 7.5.0

Fedora 40
	Kernel: Depends on container host
	Compiler: gcc 14.1.1

Ubuntu 24.04
	Kernel: 5.4.0-167-generic
	Compiler: gcc 13.2.0

Ubuntu 22.04
	Kernel: 5.4.0-167-generic
	Compiler: gcc 11.4.0

RHEL8
	Kernel: 5.4.0-167-generic
	Compiler: gcc 8.5.0 20210514 (Red Hat 8.5.0-20)

To view detailed results, visit:
https://lab.dpdk.org/results/dashboard/patchsets/30607/

UNH-IOL DPDK Community Lab

To manage your email subscriptions, visit: 
https://lab.dpdk.org/results/dashboard/preferences/subscriptions/