From mboxrd@z Thu Jan  1 00:00:00 1970
Return-Path: <test-report-bounces@dpdk.org>
Received: from mails.dpdk.org (mails.dpdk.org [217.70.189.124])
	by inbox.dpdk.org (Postfix) with ESMTP id EA429456A5
	for <public@inbox.dpdk.org>; Wed, 24 Jul 2024 23:33:39 +0200 (CEST)
Received: from mails.dpdk.org (localhost [127.0.0.1])
	by mails.dpdk.org (Postfix) with ESMTP id E3E3F427AC;
	Wed, 24 Jul 2024 23:33:39 +0200 (CEST)
Received: from mail-qv1-f98.google.com (mail-qv1-f98.google.com
 [209.85.219.98]) by mails.dpdk.org (Postfix) with ESMTP id 4FD0B402D0
 for <test-report@dpdk.org>; Wed, 24 Jul 2024 23:33:38 +0200 (CEST)
Received: by mail-qv1-f98.google.com with SMTP id
 6a1803df08f44-6b95b710e2cso1748936d6.2
 for <test-report@dpdk.org>; Wed, 24 Jul 2024 14:33:38 -0700 (PDT)
DKIM-Signature: v=1; a=rsa-sha256; c=relaxed/relaxed;
 d=iol.unh.edu; s=unh-iol; t=1721856817; x=1722461617; darn=dpdk.org;
 h=references:in-reply-to:cc:to:from:subject:message-id:date:from:to
 :cc:subject:date:message-id:reply-to;
 bh=R3rchTpY/go8Rf2u6yoYxJVidlt71aryboYwGOtrZGQ=;
 b=NvFaeyDlO/Nm82qTNt7xgoJKffPQpn6pqKL3KXPug4HB6i45ByJlsU4/tzPPRqwGj6
 pwiGps5tOxtfqFXa7b+rTc7hByu9+da2ycQwE817iC7/5mkGekqgBcV8qhEQ/GapB1g6
 jPpiVuDCn7qn2DjPCaqdIOkm9zMqK2NPqNgjU=
X-Google-DKIM-Signature: v=1; a=rsa-sha256; c=relaxed/relaxed;
 d=1e100.net; s=20230601; t=1721856817; x=1722461617;
 h=references:in-reply-to:cc:to:from:subject:message-id:date
 :x-gm-message-state:from:to:cc:subject:date:message-id:reply-to;
 bh=R3rchTpY/go8Rf2u6yoYxJVidlt71aryboYwGOtrZGQ=;
 b=lb8GdbQYzi7CZ/tdxngPgVflEgdyu22fwsRe24pRKuE5UpeCg3CyQz2ItayzaKSuSo
 UW3QsbqGQQG7vszr6aw/zWNex/wzGX4BN2Uqz46DmJFN7Jjdjc7xqK+G6A/S/rRlxYrD
 Tu4luXSVTpopX1qt7lXiOwNqy8wGKfRUKOEcwZocwNV3QB5uflXfDOUbecj9wx+sHUtx
 eOnhS6UwnLFhFkZ9FdJzvBoscNE57JqO+zuLhvFHL+nZg3gKiRSZXsyQAuay5muF80Xa
 d08nDoEM9ljCKWXEivTNMwJ8iCd8RvZUMpK4ycldbvm9VCRxrJqdKI74J3Ud2VQtzuEr
 gTKw==
X-Gm-Message-State: AOJu0YzduQqHG758hmscb/FF/nH7yqGhtbIaNMORonq6leOikX9tWw8I
 D7CDxg4fz/1PtmLPU6wnMGD8WnWhRioPCXB3hGtF1lueIPI/BhzhqMOvNG7rPI/SV7DCfdqJSk/
 k5nq/3WP7zn9lWY77uQcKJcUK64Arrh/Eu8c1HI8xEJyM+pXFwLECNr9F
X-Google-Smtp-Source: AGHT+IF4wR8kB8pbeyUFVCwiF0SuyIZiiYTZgU4mcE6UvJIk8kSmQKIp22uW6F9wuMReke9jmLASdcSC8kK6
X-Received: by 2002:a05:6214:d87:b0:6b5:4bc:6eed with SMTP id
 6a1803df08f44-6bb3ca98403mr8748866d6.44.1721856817585; 
 Wed, 24 Jul 2024 14:33:37 -0700 (PDT)
Received: from postal.iol.unh.edu (postal.iol.unh.edu.
 [2606:4100:3880:1234::84]) by smtp-relay.gmail.com with ESMTPS id
 6a1803df08f44-6bb3f944f8dsm19576d6.38.2024.07.24.14.33.37
 (version=TLS1_2 cipher=ECDHE-ECDSA-AES128-GCM-SHA256 bits=128/128);
 Wed, 24 Jul 2024 14:33:37 -0700 (PDT)
X-Relaying-Domain: iol.unh.edu
Date: Wed, 24 Jul 2024 14:33:37 -0700 (PDT)
Message-ID: <66a17331.050a0220.b576e.0104SMTPIN_ADDED_MISSING@mx.google.com>
Received: from [172.21.0.7] (unknown [172.18.0.240])
 by postal.iol.unh.edu (Postfix) with ESMTP id 422D0605C351;
 Wed, 24 Jul 2024 17:33:37 -0400 (EDT)
Subject: |PENDING| pw142686 [PATCH] [v1] net/ntnic: add missing SPDX tag
From: dpdklab@iol.unh.edu
To: Test Report <test-report@dpdk.org>
Cc: dpdk-test-reports@iol.unh.edu
In-Reply-To: <20240724131445.510743-1-mko-plv@napatech.com>
References: <20240724131445.510743-1-mko-plv@napatech.com>
Content-Type: text/plain
X-BeenThere: test-report@dpdk.org
X-Mailman-Version: 2.1.29
Precedence: list
List-Id: automatic DPDK test reports <test-report.dpdk.org>
List-Unsubscribe: <https://mails.dpdk.org/options/test-report>,
 <mailto:test-report-request@dpdk.org?subject=unsubscribe>
List-Archive: <http://mails.dpdk.org/archives/test-report/>
List-Post: <mailto:test-report@dpdk.org>
List-Help: <mailto:test-report-request@dpdk.org?subject=help>
List-Subscribe: <https://mails.dpdk.org/listinfo/test-report>,
 <mailto:test-report-request@dpdk.org?subject=subscribe>
Errors-To: test-report-bounces@dpdk.org

Test-Label: iol-abi-testing
Test-Status: PENDING
http://dpdk.org/patch/142686

_Testing pending_

Submitter: Mykola Kostenok <mko-plv@napatech.com>
Date: Wednesday, July 24 2024 13:14:43 
DPDK git baseline: Repo:dpdk
  Branch: master
  CommitID:82c47f005b9a0a1e3a649664b7713443d18abe43

142686 --> testing pending

Upstream job id: Generic-DPDK-Compile-ABI#100286

Test environment and result as below:

+-------------------+----------+
|    Environment    | abi_test |
+===================+==========+
| CentOS Stream 8   | PASS     |
+-------------------+----------+
| CentOS Stream 9   | PASS     |
+-------------------+----------+
| Debian Bullseye   | PEND     |
+-------------------+----------+
| Debian 12         | PEND     |
+-------------------+----------+
| Fedora 37         | PEND     |
+-------------------+----------+
| Fedora 38 (Clang) | PEND     |
+-------------------+----------+
| Fedora 38         | PASS     |
+-------------------+----------+
| Fedora 39 (Clang) | PEND     |
+-------------------+----------+
| Fedora 40 (Clang) | PEND     |
+-------------------+----------+
| Fedora 39         | PEND     |
+-------------------+----------+
| Fedora 40         | PEND     |
+-------------------+----------+
| openSUSE Leap 15  | PEND     |
+-------------------+----------+
| RHEL8             | PEND     |
+-------------------+----------+
| RHEL9             | PEND     |
+-------------------+----------+
| Ubuntu 22.04      | PEND     |
+-------------------+----------+
| Ubuntu 24.04      | PEND     |
+-------------------+----------+


CentOS Stream 8
	Kernel: 5.4.0-167-generic
	Compiler: gcc 8.5.0 20210514

CentOS Stream 9
	Kernel: 5.4.0-167-generic
	Compiler: gcc 11.4.1 20230605

Debian Bullseye
	Kernel: 5.4.0-167-generic
	Compiler: gcc 10.2.1-6

Debian 12
	Kernel: Container Host Kernel
	Compiler: gcc 12.2.0

Fedora 37
	Kernel: Depends on container host system
	Compiler: gcc 12.3.1

Fedora 38 (Clang)
	Kernel: Depends on container host
	Compiler: clang 16.0.6

Fedora 38
	Kernel: Depends on container host
	Compiler: gcc 13.2.1

Fedora 39 (Clang)
	Kernel: Depends on container host
	Compiler: clang 17.0.6

Fedora 40 (Clang)
	Kernel: Depends on container host
	Compiler: clang 18.1.6

Fedora 39
	Kernel: Depends on container host
	Compiler: gcc 13.2.1

Fedora 40
	Kernel: Depends on container host
	Compiler: gcc 14.1.1

openSUSE Leap 15
	Kernel: 5.4.0-167-generic
	Compiler: gcc 7.5.0

RHEL8
	Kernel: 5.4.0-167-generic
	Compiler: gcc 8.5.0 20210514 (Red Hat 8.5.0-20)

RHEL9
	Kernel: Depends on container host
	Compiler: gcc 11.4.1

Ubuntu 22.04
	Kernel: 5.4.0-167-generic
	Compiler: gcc 11.4.0

Ubuntu 24.04
	Kernel: 5.4.0-167-generic
	Compiler: gcc 13.2.0

To view detailed results, visit:
https://lab.dpdk.org/results/dashboard/patchsets/30606/

UNH-IOL DPDK Community Lab

To manage your email subscriptions, visit: 
https://lab.dpdk.org/results/dashboard/preferences/subscriptions/