From mboxrd@z Thu Jan  1 00:00:00 1970
Return-Path: <test-report-bounces@dpdk.org>
Received: from mails.dpdk.org (mails.dpdk.org [217.70.189.124])
	by inbox.dpdk.org (Postfix) with ESMTP id 431B3456A5
	for <public@inbox.dpdk.org>; Wed, 24 Jul 2024 23:35:12 +0200 (CEST)
Received: from mails.dpdk.org (localhost [127.0.0.1])
	by mails.dpdk.org (Postfix) with ESMTP id 3F89341141;
	Wed, 24 Jul 2024 23:35:12 +0200 (CEST)
Received: from mail-yw1-f227.google.com (mail-yw1-f227.google.com
 [209.85.128.227])
 by mails.dpdk.org (Postfix) with ESMTP id C8178402D0
 for <test-report@dpdk.org>; Wed, 24 Jul 2024 23:35:11 +0200 (CEST)
Received: by mail-yw1-f227.google.com with SMTP id
 00721157ae682-661d7e68e89so2622527b3.0
 for <test-report@dpdk.org>; Wed, 24 Jul 2024 14:35:11 -0700 (PDT)
DKIM-Signature: v=1; a=rsa-sha256; c=relaxed/relaxed;
 d=iol.unh.edu; s=unh-iol; t=1721856911; x=1722461711; darn=dpdk.org;
 h=references:in-reply-to:cc:to:from:subject:message-id:date:from:to
 :cc:subject:date:message-id:reply-to;
 bh=XlFK4SFJhnYtObNytolMfpESZ7XE8YoeSXOa1KxvKjY=;
 b=XbWHythjrEhnCpgmXKpd/rURGfltu2/gqXO5JiuCbajxHqsjcXKD+Up+MyqN7ih3hL
 vhuO5vPqZlRSbm14uCcGtI5ZOVqQvc9VVu4HbblNm1PC7w56IIz+ZotCX0fAS3KNmvg3
 rFt5v6cXQdxJclolnlqkvG++8JNtywvQ49fqA=
X-Google-DKIM-Signature: v=1; a=rsa-sha256; c=relaxed/relaxed;
 d=1e100.net; s=20230601; t=1721856911; x=1722461711;
 h=references:in-reply-to:cc:to:from:subject:message-id:date
 :x-gm-message-state:from:to:cc:subject:date:message-id:reply-to;
 bh=XlFK4SFJhnYtObNytolMfpESZ7XE8YoeSXOa1KxvKjY=;
 b=Ei3DFmFqlfH9Ze/sRUeCY0qdj7/UVrt8cF+b6cSuBF1r1kiEj4C1AvLuYqUdZ+LWMa
 PlbOUPIJRTp4EV4BEdM6icWNnxaxcGMgCVEtxn7kARPCsckQ3kT66a7tvIOktcr3d8/8
 4c4e0W/Sq+49ux6u54zB6Ih8Dv2/hgM0LyOMJumaCb2p1IGRp9Y4lnnjwpSUSFRbByKl
 IW7k/+zM0TL6K4W69FLWxgTubdsBVpF1AtqU9USWZO722nKZBGMGYJvauEFaMnGK3nfV
 nI/AiNJ59PTNn9yI4Ku8VWUjW7yGzBga87WL4u2tYnPPZrbOJmkxlHwokWO8gQCHaO7U
 3Hrw==
X-Gm-Message-State: AOJu0YxTyhbjbQZpRLG9b4mgVtdQa0/AzwWf8uIrNoOAiiB9+IoSM8C+
 U6HqUEKzys5mk62ZJZkSWLsMLgZ99d6nsBRVG4hm1y+q6mUOIip4AxuQCfc0NFiOW7QuGxOLIfP
 aTe+gekMuqdE37APZQTYHvQHZ0pMKd/LWaxJgtT5lYGXvT3DGTwn5VE0Z
X-Google-Smtp-Source: AGHT+IH1W6NhBJeqvQ7oBVRKQ+yrRY4oN8SEgpL0uttdm/UQO1TdYjGcxwF9zS2lCRpxhXSiWuxUmZjjVadi
X-Received: by 2002:a0d:da07:0:b0:665:71a4:21ac with SMTP id
 00721157ae682-672bcfff39emr21001897b3.10.1721856911095; 
 Wed, 24 Jul 2024 14:35:11 -0700 (PDT)
Received: from postal.iol.unh.edu (postal.iol.unh.edu.
 [2606:4100:3880:1234::84]) by smtp-relay.gmail.com with ESMTPS id
 00721157ae682-6756b7ce6fbsm142867b3.63.2024.07.24.14.35.11
 (version=TLS1_2 cipher=ECDHE-ECDSA-AES128-GCM-SHA256 bits=128/128);
 Wed, 24 Jul 2024 14:35:11 -0700 (PDT)
X-Relaying-Domain: iol.unh.edu
Date: Wed, 24 Jul 2024 14:35:11 -0700 (PDT)
Message-ID: <66a1738f.810a0220.2da247.0a8fSMTPIN_ADDED_MISSING@mx.google.com>
Received: from [172.21.0.6] (unknown [172.18.0.240])
 by postal.iol.unh.edu (Postfix) with ESMTP id B2F49605C351;
 Wed, 24 Jul 2024 17:35:10 -0400 (EDT)
Subject: |SUCCESS| pw142687 [PATCH] net/gve: Fix TX/RX queue setup and stop
From: dpdklab@iol.unh.edu
To: Test Report <test-report@dpdk.org>
Cc: dpdk-test-reports@iol.unh.edu
In-Reply-To: <1721828129-2393364-1-git-send-email-tathagat.dpdk@gmail.com>
References: <1721828129-2393364-1-git-send-email-tathagat.dpdk@gmail.com>
Content-Type: text/plain
X-BeenThere: test-report@dpdk.org
X-Mailman-Version: 2.1.29
Precedence: list
List-Id: automatic DPDK test reports <test-report.dpdk.org>
List-Unsubscribe: <https://mails.dpdk.org/options/test-report>,
 <mailto:test-report-request@dpdk.org?subject=unsubscribe>
List-Archive: <http://mails.dpdk.org/archives/test-report/>
List-Post: <mailto:test-report@dpdk.org>
List-Help: <mailto:test-report-request@dpdk.org?subject=help>
List-Subscribe: <https://mails.dpdk.org/listinfo/test-report>,
 <mailto:test-report-request@dpdk.org?subject=subscribe>
Errors-To: test-report-bounces@dpdk.org

Test-Label: iol-abi-testing
Test-Status: SUCCESS
http://dpdk.org/patch/142687

_Testing PASS_

Submitter: Tathagat Priyadarshi <tathagat.dpdk@gmail.com>
Date: Wednesday, July 24 2024 13:35:29 
DPDK git baseline: Repo:dpdk
  Branch: master
  CommitID:82c47f005b9a0a1e3a649664b7713443d18abe43

142687 --> testing pass

Upstream job id: Generic-DPDK-Compile-ABI#100279

Test environment and result as below:

+-------------------+----------+
|    Environment    | abi_test |
+===================+==========+
| CentOS Stream 9   | PASS     |
+-------------------+----------+
| CentOS Stream 8   | PASS     |
+-------------------+----------+
| Debian Bullseye   | PASS     |
+-------------------+----------+
| Debian 12         | PASS     |
+-------------------+----------+
| Fedora 37         | PASS     |
+-------------------+----------+
| Fedora 38 (Clang) | PASS     |
+-------------------+----------+
| Fedora 39 (Clang) | PASS     |
+-------------------+----------+
| Fedora 40 (Clang) | PASS     |
+-------------------+----------+
| Fedora 39         | PASS     |
+-------------------+----------+
| Fedora 38         | PASS     |
+-------------------+----------+
| RHEL9             | PASS     |
+-------------------+----------+
| openSUSE Leap 15  | PASS     |
+-------------------+----------+
| Fedora 40         | PASS     |
+-------------------+----------+
| Ubuntu 24.04      | PASS     |
+-------------------+----------+
| Ubuntu 22.04      | PASS     |
+-------------------+----------+
| RHEL8             | PASS     |
+-------------------+----------+


CentOS Stream 9
	Kernel: 5.4.0-167-generic
	Compiler: gcc 11.4.1 20230605

CentOS Stream 8
	Kernel: 5.4.0-167-generic
	Compiler: gcc 8.5.0 20210514

Debian Bullseye
	Kernel: 5.4.0-167-generic
	Compiler: gcc 10.2.1-6

Debian 12
	Kernel: Container Host Kernel
	Compiler: gcc 12.2.0

Fedora 37
	Kernel: Depends on container host system
	Compiler: gcc 12.3.1

Fedora 38 (Clang)
	Kernel: Depends on container host
	Compiler: clang 16.0.6

Fedora 39 (Clang)
	Kernel: Depends on container host
	Compiler: clang 17.0.6

Fedora 40 (Clang)
	Kernel: Depends on container host
	Compiler: clang 18.1.6

Fedora 39
	Kernel: Depends on container host
	Compiler: gcc 13.2.1

Fedora 38
	Kernel: Depends on container host
	Compiler: gcc 13.2.1

RHEL9
	Kernel: Depends on container host
	Compiler: gcc 11.4.1

openSUSE Leap 15
	Kernel: 5.4.0-167-generic
	Compiler: gcc 7.5.0

Fedora 40
	Kernel: Depends on container host
	Compiler: gcc 14.1.1

Ubuntu 24.04
	Kernel: 5.4.0-167-generic
	Compiler: gcc 13.2.0

Ubuntu 22.04
	Kernel: 5.4.0-167-generic
	Compiler: gcc 11.4.0

RHEL8
	Kernel: 5.4.0-167-generic
	Compiler: gcc 8.5.0 20210514 (Red Hat 8.5.0-20)

To view detailed results, visit:
https://lab.dpdk.org/results/dashboard/patchsets/30607/

UNH-IOL DPDK Community Lab

To manage your email subscriptions, visit: 
https://lab.dpdk.org/results/dashboard/preferences/subscriptions/