From mboxrd@z Thu Jan  1 00:00:00 1970
Return-Path: <test-report-bounces@dpdk.org>
Received: from mails.dpdk.org (mails.dpdk.org [217.70.189.124])
	by inbox.dpdk.org (Postfix) with ESMTP id 1003C456A5
	for <public@inbox.dpdk.org>; Wed, 24 Jul 2024 23:57:29 +0200 (CEST)
Received: from mails.dpdk.org (localhost [127.0.0.1])
	by mails.dpdk.org (Postfix) with ESMTP id 09EAB4281D;
	Wed, 24 Jul 2024 23:57:29 +0200 (CEST)
Received: from mail-qv1-f98.google.com (mail-qv1-f98.google.com
 [209.85.219.98]) by mails.dpdk.org (Postfix) with ESMTP id B071C402D0
 for <test-report@dpdk.org>; Wed, 24 Jul 2024 23:57:25 +0200 (CEST)
Received: by mail-qv1-f98.google.com with SMTP id
 6a1803df08f44-6b7a4668f1fso1965966d6.3
 for <test-report@dpdk.org>; Wed, 24 Jul 2024 14:57:25 -0700 (PDT)
DKIM-Signature: v=1; a=rsa-sha256; c=relaxed/relaxed;
 d=iol.unh.edu; s=unh-iol; t=1721858245; x=1722463045; darn=dpdk.org;
 h=references:in-reply-to:cc:to:from:subject:message-id:date:from:to
 :cc:subject:date:message-id:reply-to;
 bh=MaBOya6QXRniV0TShWHpLfGHr9S4c6nuF7JwwqxHPrc=;
 b=YbPqaGuPzl+MNCvG4okSst9OJOU4+9DBk88/Py3NwA8DspgYViRJVDbVkLvLogqL4o
 4iSgu09MU6ZApAGHAn7TnWU6q4E6+VwjtYRysqvPV7GkedCLpWgzg9NEQ0vN6Wo0NJuH
 fUB0W0gf9b+s5wPwgs3jcT5yo/yuTUPsjJqd0=
X-Google-DKIM-Signature: v=1; a=rsa-sha256; c=relaxed/relaxed;
 d=1e100.net; s=20230601; t=1721858245; x=1722463045;
 h=references:in-reply-to:cc:to:from:subject:message-id:date
 :x-gm-message-state:from:to:cc:subject:date:message-id:reply-to;
 bh=MaBOya6QXRniV0TShWHpLfGHr9S4c6nuF7JwwqxHPrc=;
 b=s3RU2M+/aTZK4nYeC5K5KhVmLFFAkercoZtnZeW5b/JElmrMT405e672QA9mRIwS7p
 ROJAQTY/ZrihYI/aib+YcgGFYqgd6GxO1FwRw262Xc5y2lnRLDAvQJ41QCPan3aRy/K4
 qkJj6ZRCPwYwn8Ck2kF6Mv6gdObySTzsril9E0e7FoR6jqol4FGCIvnPe+FFohj7qi4d
 WFuhTqz9ivlIml8ybVuJsZyrJ++39pozznf11z3vGLtqHmkEJGo1IYcBCqVTtRCoQqnA
 iFkQP0JwzeydMWn9ZWxICKs7zxN04TrjIngIQKp6OFA8c7LUlvHmJilCwoMtGinf5q2h
 2LHA==
X-Gm-Message-State: AOJu0Yxp0k8WDrupc1RsdJSPzMeUScbo+1MgW45LpJYNq1owepAAIZyX
 PjueL9wrZjmP8eDSQ5+OXutVtL3MLh4vtkxrkBpdeyH9dMUWs6KApeJIFhF5FL58unXa6ut2fl4
 vc2+eRm1LLqE5W4SF+p9cmgQOnN8fgQuaGkd5QyfkJIea71cwAsR4XDkc
X-Google-Smtp-Source: AGHT+IG2prcD0hIbfjZNWducJ0lW3KywhpQLaz2VtmCGGR9mefclC+laeyML2CgbgJrwJlcd0ZLiOcy9ZvyP
X-Received: by 2002:a05:6214:d0b:b0:6b5:7e97:7151 with SMTP id
 6a1803df08f44-6bb3ca79342mr8909446d6.17.1721858245069; 
 Wed, 24 Jul 2024 14:57:25 -0700 (PDT)
Received: from postal.iol.unh.edu (postal.iol.unh.edu.
 [2606:4100:3880:1234::84]) by smtp-relay.gmail.com with ESMTPS id
 6a1803df08f44-6bb3f8fb89esm50976d6.20.2024.07.24.14.57.24
 (version=TLS1_2 cipher=ECDHE-ECDSA-AES128-GCM-SHA256 bits=128/128);
 Wed, 24 Jul 2024 14:57:25 -0700 (PDT)
X-Relaying-Domain: iol.unh.edu
Date: Wed, 24 Jul 2024 14:57:25 -0700 (PDT)
Message-ID: <66a178c5.050a0220.24fa06.03c4SMTPIN_ADDED_MISSING@mx.google.com>
Received: from [172.21.0.8] (unknown [172.18.0.240])
 by postal.iol.unh.edu (Postfix) with ESMTP id C1CEF605C351;
 Wed, 24 Jul 2024 17:57:24 -0400 (EDT)
Subject: |PENDING| pw142686 [PATCH] [v1] net/ntnic: add missing SPDX tag
From: dpdklab@iol.unh.edu
To: Test Report <test-report@dpdk.org>
Cc: dpdk-test-reports@iol.unh.edu
In-Reply-To: <20240724131445.510743-1-mko-plv@napatech.com>
References: <20240724131445.510743-1-mko-plv@napatech.com>
Content-Type: text/plain
X-BeenThere: test-report@dpdk.org
X-Mailman-Version: 2.1.29
Precedence: list
List-Id: automatic DPDK test reports <test-report.dpdk.org>
List-Unsubscribe: <https://mails.dpdk.org/options/test-report>,
 <mailto:test-report-request@dpdk.org?subject=unsubscribe>
List-Archive: <http://mails.dpdk.org/archives/test-report/>
List-Post: <mailto:test-report@dpdk.org>
List-Help: <mailto:test-report-request@dpdk.org?subject=help>
List-Subscribe: <https://mails.dpdk.org/listinfo/test-report>,
 <mailto:test-report-request@dpdk.org?subject=subscribe>
Errors-To: test-report-bounces@dpdk.org

Test-Label: iol-abi-testing
Test-Status: PENDING
http://dpdk.org/patch/142686

_Testing pending_

Submitter: Mykola Kostenok <mko-plv@napatech.com>
Date: Wednesday, July 24 2024 13:14:43 
DPDK git baseline: Repo:dpdk
  Branch: master
  CommitID:82c47f005b9a0a1e3a649664b7713443d18abe43

142686 --> testing pending

Upstream job id: Generic-DPDK-Compile-ABI#100296

Test environment and result as below:

+-------------------+----------+
|    Environment    | abi_test |
+===================+==========+
| CentOS Stream 8   | PASS     |
+-------------------+----------+
| CentOS Stream 9   | PASS     |
+-------------------+----------+
| Debian Bullseye   | PASS     |
+-------------------+----------+
| Debian 12         | PASS     |
+-------------------+----------+
| Fedora 37         | PEND     |
+-------------------+----------+
| Fedora 38 (Clang) | PASS     |
+-------------------+----------+
| Fedora 38         | PASS     |
+-------------------+----------+
| Fedora 39 (Clang) | PEND     |
+-------------------+----------+
| Fedora 40 (Clang) | PASS     |
+-------------------+----------+
| Fedora 39         | PEND     |
+-------------------+----------+
| Fedora 40         | PEND     |
+-------------------+----------+
| openSUSE Leap 15  | PASS     |
+-------------------+----------+
| RHEL8             | PEND     |
+-------------------+----------+
| RHEL9             | PEND     |
+-------------------+----------+
| Ubuntu 22.04      | PEND     |
+-------------------+----------+
| Ubuntu 24.04      | PEND     |
+-------------------+----------+


CentOS Stream 8
	Kernel: 5.4.0-167-generic
	Compiler: gcc 8.5.0 20210514

CentOS Stream 9
	Kernel: 5.4.0-167-generic
	Compiler: gcc 11.4.1 20230605

Debian Bullseye
	Kernel: 5.4.0-167-generic
	Compiler: gcc 10.2.1-6

Debian 12
	Kernel: Container Host Kernel
	Compiler: gcc 12.2.0

Fedora 37
	Kernel: Depends on container host system
	Compiler: gcc 12.3.1

Fedora 38 (Clang)
	Kernel: Depends on container host
	Compiler: clang 16.0.6

Fedora 38
	Kernel: Depends on container host
	Compiler: gcc 13.2.1

Fedora 39 (Clang)
	Kernel: Depends on container host
	Compiler: clang 17.0.6

Fedora 40 (Clang)
	Kernel: Depends on container host
	Compiler: clang 18.1.6

Fedora 39
	Kernel: Depends on container host
	Compiler: gcc 13.2.1

Fedora 40
	Kernel: Depends on container host
	Compiler: gcc 14.1.1

openSUSE Leap 15
	Kernel: 5.4.0-167-generic
	Compiler: gcc 7.5.0

RHEL8
	Kernel: 5.4.0-167-generic
	Compiler: gcc 8.5.0 20210514 (Red Hat 8.5.0-20)

RHEL9
	Kernel: Depends on container host
	Compiler: gcc 11.4.1

Ubuntu 22.04
	Kernel: 5.4.0-167-generic
	Compiler: gcc 11.4.0

Ubuntu 24.04
	Kernel: 5.4.0-167-generic
	Compiler: gcc 13.2.0

To view detailed results, visit:
https://lab.dpdk.org/results/dashboard/patchsets/30606/

UNH-IOL DPDK Community Lab

To manage your email subscriptions, visit: 
https://lab.dpdk.org/results/dashboard/preferences/subscriptions/